{"text_format":"3","workbook":"xlsx","n_sheets":14,"sheets":["Fonctionnement","Données générales","Janvier","Février","Mars","Avril","Mai","Juin","Juillet","Août","Septembre","Octobre","Novembre","Décembre"],"not_rendered":{"images":2,"macros":1,"defined_names":113},"read":"whole","date_system":"1900"}

{"sheet":"Fonctionnement","index":0,"n_rows":34,"n_cols":1,"rows_kept":34}
["SOMMAIRE MENSUEL ET CUMULATIF DES ACCIDENTS DE TRAVAIL DES ENTREPRENEURS"]
["Comment utiliser ce classeur"]
[]
["1. Entrer les noms des entrepreneurs, sous-traitants et consultants dans l'onglet \"Données générales\", même si ceux-ci arrivent en cours de mandat."]
["2. Les champs (Entrepreneur général, Chantier, # de projet et # d'appel d'offre, situés en haut du tableau doivent être remplis dans l'onglet \"Données générales\""]
["3. Enter les valeurs mensuelles dans le mois concerné, le cumulatif se calcule automatiquement à partir du mois de janvier"]
["4. La conséquence des évènements est unique. Vous devez inscrire celle de la plus haute gravité."]
["Note : Utiliser un nouveau classeur à chaque année."]
[]
["Définitions des conséquences"]
[]
["Heures travaillées"]
[]
["Les heures travaillées comprennent toutes les heures effectuées durant le mois par tous les employés des entrepreneurs sur les chantiers de construction pour lesquels HQE ou la SEBJ sont maîtres d'œuvre, qu'il s'agisse d'un travail clérical ou à pied d'œuvre sur les lieux des travaux. Les heures de travail des employés d'HQE ou de la SEBJ ne doivent pas être comptabilisées dans ce rapport."]
[]
["Premiers soins"]
[]
["Un événement accidentel ne nécessitant que des premiers soins et n’entraînant pas de perte de temps. Les premiers soins peuvent être donnés par un secouriste, un médecin, une infirmière, ou par toute autre personne dispensant des soins de santé (incluant les auto-soins). Les premiers soins comprennent notamment:\n\na. l’utilisation de traitements ou de médicaments sans ordonnance à une posologie non prescrite, y compris les antiseptiques (incluant les traitements non-prescrits de physiothérapie);\nb. l’administration d’injection contre la diphtérie et le tétanos. \nExclusion : D'autres vaccins tels que le vaccin contre l'hépatite B ou le vaccin contre la rage, liés à une blessure (post-exposition), sont considérés comme une assistance médicale; \nc. le nettoyage, rinçage et le trempage des blessures de surface de la peau; \nd. l’utilisation de pansements protecteurs sur une blessure comprenant les bandages liquides, tampons de gaze et points de rapprochement (stéristrips, bandages papillon). Exclusion : Les dispositifs de fermeture de plaies, comme les agrafes, les points de sutures et la colle, sont considérés comme une assistance médicale;\ne. l’utilisation de bandage oculaire;\nf. l'utilisation de thérapie froide ou chaude (par exemple, compresses, trempage, bains tourbillons ou crèmes et lotions sans ordonnance pour la peau etc.); \ng. l’utilisation de moyens de soutien totalement non-rigides et non-immobilisant (par exemple, les bandages élastiques);\nh. l’utilisation d’attelle pour les doigts;\ni. l'utilisation de dispositifs d'immobilisation temporaire pendant le transport de la victime d'un accident;\nj. le perçage d'un ongle pour soulager la pression ou le drainage du liquide d'une ampoule;\nk. l’extraction de corps étrangers à la surface de l’œil (non-incrustés) si seule l'irrigation ou l'enlèvement à l’aide d'un coton-tige est requise;\nl. l'enlèvement d'éclats ou des corps étrangers (autre que dans les yeux) par l'irrigation, pinces, tampons de coton ou d'autres moyens simples;\nm. l’utilisation de massages;\nn. la recommandation de boire des liquides pour le soulagement de la contrainte thermique."]
[]
["Assistance médicale"]
[]
["Un accident du travail ou une maladie professionnelle sans perte de temps pour lequel une consultation et des traitements médicaux externes sont requis, au-delà des premiers soins. Par exemple : \n• le retrait d’un corps étranger incrusté dans l’œil\n• l’utilisation d’un médicament ou traitement (physio, chiro, etc.) sous ordonnance médicale\n• l’injection de vaccins tels que le vaccin contre l'hépatite B ou vaccin contre la rage\n• l’utilisation de dispositifs de fermeture de plaies comme les agrafes, les sutures et la colle\n• l’immobilisation d’un membre à l’aide de moyen rigide.\n\nLes interventions suivantes ne sont pas considérées comme une assistance médicale : \n• les procédures de diagnostic (par exemple, les rayons X et les tests sanguins), y compris l'utilisation de médicaments sur ordonnance uniquement à des fins de diagnostic (par exemple, les gouttes oculaires pour dilater la pupille);\n• La(les) visite(s) à un prestataire de soins de santé limitée(s) à l'observation ou à la prescription d’assignation temporaire ou de conseils."]
[]
["Assignation temporaire"]
[]
["L'assignation temporaire est offerte à tout travailleur qui subit un accident ou qui souffre d'une maladie professionnelle, afin de favoriser un retour au travail même si la lésion n'est pas encore consolidée. Ce mécanisme, prévu par la Loi sur les Accidents de Travail et Maladies Professionnelles (LATMP), permet à un employeur, avec l'accord écrit du médecin qui a charge du travailleur, d'assigner une tâche provisoire à ce dernier en attendant qu'il redevienne capable de reprendre son emploi normal. Les jours d'une assignation temporaire ne doivent pas être compilés comme étant des jours perdus."]
[]
["Perte de temps"]
[]
["Il y a une perte de temps lorsqu'un accident entraîne une absence du travail au-delà de la journée de l'événement accidentel. Dans le cas d'un accident dont la durée de l'absence ne dépasse pas la journée de l'événement, le jour de l'accident n'est pas considéré comme un jour perdu.\n\n(N.B. : Une absence pour maladie professionnelle n'est pas comptabilisée dans le calcul des pertes de temps, ni des jours perdus.)"]
[]
[]
["Jours perdus"]
["Les jours perdus représentent le nombre de jours continus entre le début de la perte de temps et le retour au travail, excluant le jour de l'accident. Ces jours d'absence doivent être validés par une attestation médicale signée par le médecin traitant."]

{"sheet":"Données générales","index":1,"n_rows":30,"n_cols":6,"rows_kept":30,"merged":[[0,0,2,2],[4,0,5,0],[4,1,5,2],[4,4,4,7],[27,1,29,1]]}
["Inscrire ici la liste des entrepreneurs, sous-traitants et consutlants (firme)."]
[]
[]
[]
["No","Liste des entrepreneurs et consultants",null,null,"Informations générales"]
[]
[1,null,null,{"$f":"C7","v":0},null,"Entrepreneur général :"]
[2]
[3,{"$nulls":4},"Chantier :"]
[4]
[5,{"$nulls":4},"# de projet :"]
[6]
[7,{"$nulls":4},"# d'appel d'offre :"]
[8]
[9]
[10]
[11]
[12]
[13]
[14]
[15]
[16]
[17]
[18]
[19]
[20]
[]
[null,"Légende :","EG",": Entrepreneur Général"]
[null,null,"ST",": Sous-traitant"]
[null,null,"C",": Consultant"]

{"sheet":"Janvier","index":2,"n_rows":74,"n_cols":22,"rows_kept":74,"merged":[[0,1,0,21],[2,3,2,6],[2,8,2,10],[2,11,2,13],[2,14,2,16],[2,17,2,18],[4,3,4,6],[4,8,4,10],[4,11,4,13],[4,14,4,16],[4,17,4,18],[6,3,6,6],[6,8,6,10],[6,11,6,13],[6,14,6,16],[6,17,6,18],[8,1,9,1],[8,2,9,3],[8,4,8,5],[8,6,8,7],[8,8,8,9],[8,10,8,11],[8,12,8,13],[8,14,8,15],[8,16,8,17],[8,18,8,19],[8,20,8,21],[30,2,30,3],[31,1,31,3],[31,4,31,5],[31,6,31,14],[31,15,31,21],[33,1,33,18],[35,2,35,3],[35,4,35,5],[35,6,35,7],[35,8,35,18],[35,19,35,21],[36,2,36,3],[36,4,36,5],[36,6,36,7],[36,8,36,18],[36,19,36,21],[37,2,37,3],[37,4,37,5],[37,6,37,7],[37,8,37,18],[37,19,37,21],[38,2,38,3],[38,4,38,5],[38,6,38,7],[38,8,38,18],[38,19,38,21],[39,2,39,3],[39,4,39,5],[39,6,39,7],[39,8,39,18],[39,19,39,21],[40,2,40,3],[40,4,40,5],[40,6,40,7],[40,8,40,18],[40,19,40,21],[41,2,41,3],[41,4,41,5],[41,6,41,7],[41,8,41,18],[41,19,41,21],[42,2,42,3],[42,4,42,5],[42,6,42,7],[42,8,42,18],[42,19,42,21],[43,2,43,3],[43,4,43,5],[43,6,43,7],[43,8,43,18],[43,19,43,21],[44,2,44,3],[44,4,44,5],[44,6,44,7],[44,8,44,18],[44,19,44,21],[45,2,45,3],[45,4,45,5],[45,6,45,7],[45,8,45,18],[45,19,45,21],[50,1,50,2]]}
[null,"SOMMAIRE MENSUEL ET CUMULATIF DES ACCIDENTS DE TRAVAIL DES ENTREPRENEURS"]
[]
[null,null,"Entrepreneur général :",{"$f":"IF(ISBLANK('Données générales'!G7),\"\",('Données générales'!G7))","v":""},{"$nulls":4},"# de projet :",null,null,{"$f":"IF(ISBLANK('Données générales'!G11),\"\",('Données générales'!G11))","v":""},null,null,"Mois concerné :",null,null,"Janvier",null,null,"# Rév. :"]
[]
[null,null,"Chantier :",{"$f":"IF(ISBLANK('Données générales'!G9),\"\",('Données générales'!G9))","v":""},{"$nulls":4},"# d'appel d'offre :",null,null,{"$f":"IF(ISBLANK('Données générales'!G13),\"\",('Données générales'!G13))","v":""},null,null,"Année concernée :",null,null,2020]
[]
[null,null,"Rapport complété par :",{"$nulls":5},"Titre :",{"$nulls":5},"Date remplie :"]
[]
[null,"No","Liste des entrepreneurs et consultants",null,"Heures travaillées",null,"Premiers soins",null,"Assistance médicale",null,"Assignation temporaire",null,"Perte de temps",null,"Jours perdus",null,"Incident/\nDommage mat.",null,"Taux de fréquence",null,"Taux de gravité"]
[{"$nulls":4},"Mensuel","Cumulatif","Mens.","Cumul.","Mens.","Cumul.","Mens.","Cumul.","Mens.","Cumul.","Mens.","Cumul.","Mens.","Cumul.","Mens.","Cumul.","Mens.","Cumul."]
[null,1,{"$f":"IF(ISBLANK('Données générales'!B7),\"\",'Données générales'!B7)","v":""},{"$f":"IF(ISBLANK('Données générales'!C7),\"\",'Données générales'!C7)","v":""},null,{"$f":"E11","v":{"v":0,"d":"0.00"}},null,{"$f":"G11","v":0},null,{"$f":"I11","v":0},null,{"$f":"K11","v":0},null,{"$f":"M11","v":0},null,{"$f":"O11","v":0},null,{"$f":"Q11","v":0},{"$f":"IFERROR(M11*1000000/E11,\"\")","v":""},{"$f":"IFERROR(N11*1000000/F11,\"\")","v":""},{"$f":"IFERROR(O11*1000000/E11,\"\")","v":""},{"$f":"IFERROR(P11*1000000/F11,\"\")","v":""}]
[null,2,{"$f":"IF(ISBLANK('Données générales'!B8),\"\",'Données générales'!B8)","v":""},{"$f":"IF(ISBLANK('Données générales'!C8),\"\",'Données générales'!C8)","v":""},null,{"$f":"E12","v":{"v":0,"d":"0.00"}},null,{"$f":"G12","v":0},null,{"$f":"I12","v":0},null,{"$f":"K12","v":0},null,{"$f":"M12","v":0},null,{"$f":"O12","v":0},null,{"$f":"Q12","v":0},{"$f":"IFERROR(M12*1000000/E12,\"\")","v":""},{"$f":"IFERROR(N12*1000000/F12,\"\")","v":""},{"$f":"IFERROR(O12*1000000/E12,\"\")","v":""},""]
[null,3,{"$f":"IF(ISBLANK('Données générales'!B9),\"\",'Données générales'!B9)","v":""},{"$f":"IF(ISBLANK('Données générales'!C9),\"\",'Données générales'!C9)","v":""},null,{"v":0,"d":"0.00"},null,0,null,0,null,0,null,0,null,0,null,0,"","","",""]
[null,4,{"$f":"IF(ISBLANK('Données générales'!B10),\"\",'Données générales'!B10)","v":""},{"$f":"IF(ISBLANK('Données générales'!C10),\"\",'Données générales'!C10)","v":""},null,{"v":0,"d":"0.00"},null,0,null,0,null,0,null,0,null,0,null,0,"","","",""]
[null,5,{"$f":"IF(ISBLANK('Données générales'!B11),\"\",'Données générales'!B11)","v":""},{"$f":"IF(ISBLANK('Données générales'!C11),\"\",'Données générales'!C11)","v":""},null,{"v":0,"d":"0.00"},null,0,null,0,null,0,null,0,null,0,null,0,"","","",""]
[null,6,{"$f":"IF(ISBLANK('Données générales'!B12),\"\",'Données générales'!B12)","v":""},{"$f":"IF(ISBLANK('Données générales'!C12),\"\",'Données générales'!C12)","v":""},null,{"v":0,"d":"0.00"},null,0,null,0,null,0,null,0,null,0,null,0,"","","",""]
[null,7,{"$f":"IF(ISBLANK('Données générales'!B13),\"\",'Données générales'!B13)","v":""},{"$f":"IF(ISBLANK('Données générales'!C13),\"\",'Données générales'!C13)","v":""},null,{"v":0,"d":"0.00"},null,0,null,0,null,0,null,0,null,0,null,0,"","","",""]
[null,8,{"$f":"IF(ISBLANK('Données générales'!B14),\"\",'Données générales'!B14)","v":""},{"$f":"IF(ISBLANK('Données générales'!C14),\"\",'Données générales'!C14)","v":""},null,{"v":0,"d":"0.00"},null,0,null,0,null,0,null,0,null,0,null,0,"","","",""]
[null,9,{"$f":"IF(ISBLANK('Données générales'!B15),\"\",'Données générales'!B15)","v":""},{"$f":"IF(ISBLANK('Données générales'!C15),\"\",'Données générales'!C15)","v":""},null,{"v":0,"d":"0.00"},null,0,null,0,null,0,null,0,null,0,null,0,"","","",""]
[null,10,{"$f":"IF(ISBLANK('Données générales'!B16),\"\",'Données générales'!B16)","v":""},{"$f":"IF(ISBLANK('Données générales'!C16),\"\",'Données générales'!C16)","v":""},null,{"v":0,"d":"0.00"},null,0,null,0,null,0,null,0,null,0,null,0,"","","",""]
[null,11,{"$f":"IF(ISBLANK('Données générales'!B17),\"\",'Données générales'!B17)","v":""},{"$f":"IF(ISBLANK('Données générales'!C17),\"\",'Données générales'!C17)","v":""},null,{"v":0,"d":"0.00"},null,0,null,0,null,0,null,0,null,0,null,0,"","","",""]
[null,12,{"$f":"IF(ISBLANK('Données générales'!B18),\"\",'Données générales'!B18)","v":""},{"$f":"IF(ISBLANK('Données générales'!C18),\"\",'Données générales'!C18)","v":""},null,{"v":0,"d":"0.00"},null,0,null,0,null,0,null,0,null,0,null,0,"","","",""]
[null,13,{"$f":"IF(ISBLANK('Données générales'!B19),\"\",'Données générales'!B19)","v":""},{"$f":"IF(ISBLANK('Données générales'!C19),\"\",'Données générales'!C19)","v":""},null,{"v":0,"d":"0.00"},null,0,null,0,null,0,null,0,null,0,null,0,"","","",""]
[null,14,{"$f":"IF(ISBLANK('Données générales'!B20),\"\",'Données générales'!B20)","v":""},{"$f":"IF(ISBLANK('Données générales'!C20),\"\",'Données générales'!C20)","v":""},null,{"v":0,"d":"0.00"},null,0,null,0,null,0,null,0,null,0,null,0,"","","",""]
[null,15,{"$f":"IF(ISBLANK('Données générales'!B21),\"\",'Données générales'!B21)","v":""},{"$f":"IF(ISBLANK('Données générales'!C21),\"\",'Données générales'!C21)","v":""},null,{"v":0,"d":"0.00"},null,0,null,0,null,0,null,0,null,0,null,0,"","","",""]
[null,16,{"$f":"IF(ISBLANK('Données générales'!B22),\"\",'Données générales'!B22)","v":""},{"$f":"IF(ISBLANK('Données générales'!C22),\"\",'Données générales'!C22)","v":""},null,{"v":0,"d":"0.00"},null,0,null,{"$f":"I26","v":0},null,{"$f":"K26","v":0},null,{"$f":"M26","v":0},null,{"$f":"O26","v":0},null,{"$f":"Q26","v":0},{"$f":"IFERROR(M26*1000000/E26,\"\")","v":""},{"$f":"IFERROR(N26*1000000/F26,\"\")","v":""},{"$f":"IFERROR(O26*1000000/E26,\"\")","v":""},{"$f":"IFERROR(P26*1000000/F26,\"\")","v":""}]
[null,17,{"$f":"IF(ISBLANK('Données générales'!B23),\"\",'Données générales'!B23)","v":""},{"$f":"IF(ISBLANK('Données générales'!C23),\"\",'Données générales'!C23)","v":""},null,{"v":0,"d":"0.00"},null,0,null,0,null,0,null,0,null,0,null,0,"","","",""]
[null,18,{"$f":"IF(ISBLANK('Données générales'!B24),\"\",'Données générales'!B24)","v":""},{"$f":"IF(ISBLANK('Données générales'!C24),\"\",'Données générales'!C24)","v":""},null,{"v":0,"d":"0.00"},null,0,null,0,null,0,null,0,null,0,null,0,"","","",""]
[null,19,{"$f":"IF(ISBLANK('Données générales'!B25),\"\",'Données générales'!B25)","v":""},{"$f":"IF(ISBLANK('Données générales'!C25),\"\",'Données générales'!C25)","v":""},null,{"v":0,"d":"0.00"},null,0,null,0,null,0,null,0,null,0,null,{"$f":"Q29","v":0},"","","",""]
[null,20,{"$f":"IF(ISBLANK('Données générales'!B26),\"\",'Données générales'!B26)","v":""},{"$f":"IF(ISBLANK('Données générales'!C26),\"\",'Données générales'!C26)","v":""},null,{"v":0,"d":"0.00"},null,0,null,0,null,0,null,0,null,0,null,0,"","","",""]
[null,null,"Total",null,{"$f":"SUM(E11:E30)","v":{"v":0,"d":"0.00"}},{"$f":"SUM(F11:F30)","v":{"v":0,"d":"0.00"}},{"$f":"SUM(G11:G30)","v":0},{"$f":"SUM(H11:H30)","v":0},{"$f":"SUM(I11:I30)","v":0},0,0,0,0,0,0,0,0,0,{"$f":"IFERROR(M31*200000/E31,\"\")","v":""},{"$f":"IFERROR(N31*200000/F31,\"\")","v":""},{"$f":"IFERROR(O31*200000/E31,\"\")","v":""},{"$f":"IFERROR(P31*200000/F31,\"\")","v":""}]
[null,"Approbation du gestionnaire de chantier d'Hydro-Québec :\n                                                         AA/MM/JJ",null,null,"*EG : Entrepreneur Général\n*ST : Sous-traitant\n*C : Consultant",null,"Taux de fréquence = Nbre de perte de temps X 200 000\n                                    Nbre d'heures travaillées",{"$nulls":8},"Taux de gravité = Nbre de jours perdus X 200 000\n                              Nbre d'heures travaillées"]
[]
[null,"Sommaire des évènements\n(À remplir si les rapports d'évènements ne sont pas envoyés en même temps)"]
[]
[null,"No","Entrepreneur",null,"Date",null,"Type d'évènement",null,"Description",{"$nulls":10},"Si perte de temps\nNombre de jours perdus"]
[null,1]
[null,2]
[null,3]
[null,4]
[null,5]
[null,6]
[null,7]
[null,8]
[null,9]
[null,10]
[]
[]
[]
[]
[null,"Listes déroulantes :"]
[]
[null,null,"Identification",null,null,"Unité administrative",{"$nulls":5},"Conséquences",null,null,"Mois",{"$nulls":3},"Année"]
[]
[null,null,"EG*",null,null,"DPPTC - Projets Poste",{"$nulls":5},"Premier soin",null,null,"Janvier",{"$nulls":3},2011]
[null,null,"ST*",null,null,"DPPTC - Projets Ligne",{"$nulls":5},"Assistance médicale",null,null,"Février",{"$nulls":3},2012]
[null,null,"C*",null,null,"DPPTC - Projets ICR-Interconnexion",{"$nulls":5},"Assignation temporaire",null,null,"Mars",{"$nulls":3},2013]
[{"$nulls":5},"SEBJ - Dir. Projets Eastmain",{"$nulls":5},"Perte de temps",null,null,"Avril",{"$nulls":3},2014]
[{"$nulls":5},"Gentilly II",{"$nulls":5},"Incident",null,null,"Mai",{"$nulls":3},2015]
[{"$nulls":5},"GPMB Baie-Comeau",{"$nulls":5},"Dommage matériel",null,null,"Juin",{"$nulls":3},2016]
[{"$nulls":5},"GPMB Chicoutimi",{"$nulls":8},"Juillet",{"$nulls":3},2017]
[{"$nulls":5},"GPMB Rimouski",{"$nulls":8},"Août",{"$nulls":3},2018]
[{"$nulls":5},"GPMB  territoire Ouest",{"$nulls":8},"Septembre",{"$nulls":3},2019]
[{"$nulls":5},"GPMB  territoire Sud et Ouest",{"$nulls":8},"Octobre",{"$nulls":3},2020]
[{"$nulls":5},"GPMB  Trois-Rivières",{"$nulls":8},"Novembre",{"$nulls":3},2021]
[{"$nulls":5},"Projets de centrales Romaine",{"$nulls":8},"Décembre",{"$nulls":3},2022]
[{"$nulls":5},"DPPP - Réfections - Projets 2",{"$nulls":12},2023]
[{"$nulls":5},"DPPP - Réfections - Projets 4",{"$nulls":12},2024]
[{"$nulls":5},"DPPP - Réfections - Projets 5",{"$nulls":12},2025]
[{"$nulls":5},"DPPP - Réfections - Projets 6",{"$nulls":12},2026]
[{"$nulls":5},"DPPP - Réfections - Projets 7",{"$nulls":12},2027]
[{"$nulls":18},2028]
[{"$nulls":18},2029]
[{"$nulls":18},2030]

{"sheet":"Février","index":3,"n_rows":74,"n_cols":22,"rows_kept":74,"merged":[[0,1,0,21],[2,3,2,6],[2,8,2,10],[2,11,2,13],[2,14,2,16],[2,17,2,18],[4,3,4,6],[4,8,4,10],[4,11,4,13],[4,14,4,16],[4,17,4,18],[6,3,6,6],[6,8,6,10],[6,11,6,13],[6,14,6,16],[6,17,6,18],[8,1,9,1],[8,2,9,3],[8,4,8,5],[8,6,8,7],[8,8,8,9],[8,10,8,11],[8,12,8,13],[8,14,8,15],[8,16,8,17],[8,18,8,19],[8,20,8,21],[30,2,30,3],[31,1,31,3],[31,4,31,5],[31,6,31,14],[31,15,31,21],[33,1,33,18],[35,2,35,3],[35,4,35,5],[35,6,35,7],[35,8,35,18],[35,19,35,21],[36,2,36,3],[36,4,36,5],[36,6,36,7],[36,8,36,18],[36,19,36,21],[37,2,37,3],[37,4,37,5],[37,6,37,7],[37,8,37,18],[37,19,37,21],[38,2,38,3],[38,4,38,5],[38,6,38,7],[38,8,38,18],[38,19,38,21],[39,2,39,3],[39,4,39,5],[39,6,39,7],[39,8,39,18],[39,19,39,21],[40,2,40,3],[40,4,40,5],[40,6,40,7],[40,8,40,18],[40,19,40,21],[41,2,41,3],[41,4,41,5],[41,6,41,7],[41,8,41,18],[41,19,41,21],[42,2,42,3],[42,4,42,5],[42,6,42,7],[42,8,42,18],[42,19,42,21],[43,2,43,3],[43,4,43,5],[43,6,43,7],[43,8,43,18],[43,19,43,21],[44,2,44,3],[44,4,44,5],[44,6,44,7],[44,8,44,18],[44,19,44,21],[45,2,45,3],[45,4,45,5],[45,6,45,7],[45,8,45,18],[45,19,45,21],[50,1,50,2]]}
[null,"SOMMAIRE MENSUEL ET CUMULATIF DES ACCIDENTS DE TRAVAIL DES ENTREPRENEURS"]
[]
[null,null,"Entrepreneur général :",{"$f":"Janvier!D3:G3","v":""},{"$nulls":4},"# de projet :",null,null,{"$f":"Janvier!L3:N3","v":""},null,null,"Mois concerné :",null,null,"Février",null,null,"# Rév. :"]
[]
[null,null,"Chantier :",{"$f":"Janvier!D5:G5","v":""},{"$nulls":4},"# d'appel d'offre :",null,null,{"$f":"Janvier!L5:N5","v":""},null,null,"Année concernée :",null,null,{"$f":"Janvier!R5:S5","v":2020}]
[]
[null,null,"Rapport complété par :",{"$nulls":5},"Titre :",{"$nulls":5},"Date remplie :"]
[]
[null,"No","Liste des entrepreneurs et consultants",null,"Heures travaillées",null,"Premiers soins",null,"Assistance médicale",null,"Assignation temporaire",null,"Perte de temps",null,"Jours perdus",null,"Incident/\nDommage mat.",null,"Taux de fréquence",null,"Taux de gravité"]
[{"$nulls":4},"Mensuel","Cumulatif","Mens.","Cumul.","Mens.","Cumul.","Mens.","Cumul.","Mens.","Cumul.","Mens.","Cumul.","Mens.","Cumul.","Mens.","Cumul.","Mens.","Cumul."]
[null,1,{"$f":"IF(ISBLANK('Données générales'!B7),\"\",'Données générales'!B7)","v":""},{"$f":"IF(ISBLANK('Données générales'!C7),\"\",'Données générales'!C7)","v":""},null,{"$f":"E11+Janvier!F11","v":{"v":0,"d":"0.00"}},null,{"$f":"G11+Janvier!H11","v":0},null,{"$f":"I11+Janvier!J11","v":0},null,{"$f":"K11+Janvier!L11","v":0},null,{"$f":"M11+Janvier!N11","v":0},null,{"$f":"O11+Janvier!P11","v":0},null,{"$f":"Q11+Janvier!R11","v":0},{"$f":"IFERROR(M11*1000000/E11,\"\")","v":""},{"$f":"IFERROR(N11*1000000/F11,\"\")","v":""},{"$f":"IFERROR(O11*1000000/E11,\"\")","v":""},{"$f":"IFERROR(P11*1000000/F11,\"\")","v":""}]
[null,2,{"$f":"IF(ISBLANK('Données générales'!B8),\"\",'Données générales'!B8)","v":""},{"$f":"IF(ISBLANK('Données générales'!C8),\"\",'Données générales'!C8)","v":""},null,{"$f":"E12+Janvier!F12","v":{"v":0,"d":"0.00"}},null,{"$f":"G12+Janvier!H12","v":0},null,{"$f":"I12+Janvier!J12","v":0},null,{"$f":"K12+Janvier!L12","v":0},null,{"$f":"M12+Janvier!N12","v":0},null,{"$f":"O12+Janvier!P12","v":0},null,{"$f":"Q12+Janvier!R12","v":0},{"$f":"IFERROR(M12*1000000/E12,\"\")","v":""},"",{"$f":"IFERROR(O12*1000000/E12,\"\")","v":""},""]
[null,3,{"$f":"IF(ISBLANK('Données générales'!B9),\"\",'Données générales'!B9)","v":""},{"$f":"IF(ISBLANK('Données générales'!C9),\"\",'Données générales'!C9)","v":""},null,{"$f":"E13+Janvier!F13","v":{"v":0,"d":"0.00"}},null,{"$f":"G13+Janvier!H13","v":0},null,{"$f":"I13+Janvier!J13","v":0},null,{"$f":"K13+Janvier!L13","v":0},null,{"$f":"M13+Janvier!N13","v":0},null,{"$f":"O13+Janvier!P13","v":0},null,{"$f":"Q13+Janvier!R13","v":0},"","","",""]
[null,4,{"$f":"IF(ISBLANK('Données générales'!B10),\"\",'Données générales'!B10)","v":""},{"$f":"IF(ISBLANK('Données générales'!C10),\"\",'Données générales'!C10)","v":""},null,{"$f":"E14+Janvier!F14","v":{"v":0,"d":"0.00"}},null,{"$f":"G14+Janvier!H14","v":0},null,{"$f":"I14+Janvier!J14","v":0},null,{"$f":"K14+Janvier!L14","v":0},null,{"$f":"M14+Janvier!N14","v":0},null,{"$f":"O14+Janvier!P14","v":0},null,{"$f":"Q14+Janvier!R14","v":0},"","","",""]
[null,5,{"$f":"IF(ISBLANK('Données générales'!B11),\"\",'Données générales'!B11)","v":""},{"$f":"IF(ISBLANK('Données générales'!C11),\"\",'Données générales'!C11)","v":""},null,{"$f":"E15+Janvier!F15","v":{"v":0,"d":"0.00"}},null,{"$f":"G15+Janvier!H15","v":0},null,{"$f":"I15+Janvier!J15","v":0},null,{"$f":"K15+Janvier!L15","v":0},null,{"$f":"M15+Janvier!N15","v":0},null,{"$f":"O15+Janvier!P15","v":0},null,{"$f":"Q15+Janvier!R15","v":0},"","","",""]
[null,6,{"$f":"IF(ISBLANK('Données générales'!B12),\"\",'Données générales'!B12)","v":""},{"$f":"IF(ISBLANK('Données générales'!C12),\"\",'Données générales'!C12)","v":""},null,{"$f":"E16+Janvier!F16","v":{"v":0,"d":"0.00"}},null,{"$f":"G16+Janvier!H16","v":0},null,{"$f":"I16+Janvier!J16","v":0},null,{"$f":"K16+Janvier!L16","v":0},null,{"$f":"M16+Janvier!N16","v":0},null,{"$f":"O16+Janvier!P16","v":0},null,{"$f":"Q16+Janvier!R16","v":0},"","","",""]
[null,7,{"$f":"IF(ISBLANK('Données générales'!B13),\"\",'Données générales'!B13)","v":""},{"$f":"IF(ISBLANK('Données générales'!C13),\"\",'Données générales'!C13)","v":""},null,{"$f":"E17+Janvier!F17","v":{"v":0,"d":"0.00"}},null,{"$f":"G17+Janvier!H17","v":0},null,{"$f":"I17+Janvier!J17","v":0},null,{"$f":"K17+Janvier!L17","v":0},null,{"$f":"M17+Janvier!N17","v":0},null,{"$f":"O17+Janvier!P17","v":0},null,{"$f":"Q17+Janvier!R17","v":0},"","","",""]
[null,8,{"$f":"IF(ISBLANK('Données générales'!B14),\"\",'Données générales'!B14)","v":""},{"$f":"IF(ISBLANK('Données générales'!C14),\"\",'Données générales'!C14)","v":""},null,{"$f":"E18+Janvier!F18","v":{"v":0,"d":"0.00"}},null,{"$f":"G18+Janvier!H18","v":0},null,{"$f":"I18+Janvier!J18","v":0},null,{"$f":"K18+Janvier!L18","v":0},null,{"$f":"M18+Janvier!N18","v":0},null,{"$f":"O18+Janvier!P18","v":0},null,{"$f":"Q18+Janvier!R18","v":0},"","","",""]
[null,9,{"$f":"IF(ISBLANK('Données générales'!B15),\"\",'Données générales'!B15)","v":""},{"$f":"IF(ISBLANK('Données générales'!C15),\"\",'Données générales'!C15)","v":""},null,{"$f":"E19+Janvier!F19","v":{"v":0,"d":"0.00"}},null,{"$f":"G19+Janvier!H19","v":0},null,{"$f":"I19+Janvier!J19","v":0},null,{"$f":"K19+Janvier!L19","v":0},null,{"$f":"M19+Janvier!N19","v":0},null,{"$f":"O19+Janvier!P19","v":0},null,{"$f":"Q19+Janvier!R19","v":0},"","","",""]
[null,10,{"$f":"IF(ISBLANK('Données générales'!B16),\"\",'Données générales'!B16)","v":""},{"$f":"IF(ISBLANK('Données générales'!C16),\"\",'Données générales'!C16)","v":""},null,{"$f":"E20+Janvier!F20","v":{"v":0,"d":"0.00"}},null,{"$f":"G20+Janvier!H20","v":0},null,{"$f":"I20+Janvier!J20","v":0},null,{"$f":"K20+Janvier!L20","v":0},null,{"$f":"M20+Janvier!N20","v":0},null,{"$f":"O20+Janvier!P20","v":0},null,{"$f":"Q20+Janvier!R20","v":0},"","","",""]
[null,11,{"$f":"IF(ISBLANK('Données générales'!B17),\"\",'Données générales'!B17)","v":""},{"$f":"IF(ISBLANK('Données générales'!C17),\"\",'Données générales'!C17)","v":""},null,{"$f":"E21+Janvier!F21","v":{"v":0,"d":"0.00"}},null,{"$f":"G21+Janvier!H21","v":0},null,{"$f":"I21+Janvier!J21","v":0},null,{"$f":"K21+Janvier!L21","v":0},null,{"$f":"M21+Janvier!N21","v":0},null,{"$f":"O21+Janvier!P21","v":0},null,{"$f":"Q21+Janvier!R21","v":0},"","","",""]
[null,12,{"$f":"IF(ISBLANK('Données générales'!B18),\"\",'Données générales'!B18)","v":""},{"$f":"IF(ISBLANK('Données générales'!C18),\"\",'Données générales'!C18)","v":""},null,{"$f":"E22+Janvier!F22","v":{"v":0,"d":"0.00"}},null,{"$f":"G22+Janvier!H22","v":0},null,{"$f":"I22+Janvier!J22","v":0},null,{"$f":"K22+Janvier!L22","v":0},null,{"$f":"M22+Janvier!N22","v":0},null,{"$f":"O22+Janvier!P22","v":0},null,{"$f":"Q22+Janvier!R22","v":0},"","","",""]
[null,13,{"$f":"IF(ISBLANK('Données générales'!B19),\"\",'Données générales'!B19)","v":""},{"$f":"IF(ISBLANK('Données générales'!C19),\"\",'Données générales'!C19)","v":""},null,{"$f":"E23+Janvier!F23","v":{"v":0,"d":"0.00"}},null,{"$f":"G23+Janvier!H23","v":0},null,{"$f":"I23+Janvier!J23","v":0},null,{"$f":"K23+Janvier!L23","v":0},null,{"$f":"M23+Janvier!N23","v":0},null,{"$f":"O23+Janvier!P23","v":0},null,{"$f":"Q23+Janvier!R23","v":0},"","","",""]
[null,14,{"$f":"IF(ISBLANK('Données générales'!B20),\"\",'Données générales'!B20)","v":""},{"$f":"IF(ISBLANK('Données générales'!C20),\"\",'Données générales'!C20)","v":""},null,{"$f":"E24+Janvier!F24","v":{"v":0,"d":"0.00"}},null,{"$f":"G24+Janvier!H24","v":0},null,{"$f":"I24+Janvier!J24","v":0},null,{"$f":"K24+Janvier!L24","v":0},null,{"$f":"M24+Janvier!N24","v":0},null,{"$f":"O24+Janvier!P24","v":0},null,{"$f":"Q24+Janvier!R24","v":0},"","","",""]
[null,15,{"$f":"IF(ISBLANK('Données générales'!B26),\"\",'Données générales'!B26)","v":""},{"$f":"IF(ISBLANK('Données générales'!C26),\"\",'Données générales'!C26)","v":""},null,{"$f":"E25+Janvier!F25","v":{"v":0,"d":"0.00"}},null,{"$f":"G25+Janvier!H25","v":0},null,{"$f":"I25+Janvier!J25","v":0},null,{"$f":"K25+Janvier!L25","v":0},null,{"$f":"M25+Janvier!N25","v":0},null,{"$f":"O25+Janvier!P25","v":0},null,{"$f":"Q25+Janvier!R25","v":0},"","","",""]
[null,16,{"$f":"IF(ISBLANK('Données générales'!B22),\"\",'Données générales'!B22)","v":""},{"$f":"IF(ISBLANK('Données générales'!C22),\"\",'Données générales'!C22)","v":""},null,{"$f":"E26+Janvier!F26","v":{"v":0,"d":"0.00"}},null,{"$f":"G26+Janvier!H26","v":0},null,{"$f":"I26+Janvier!J26","v":0},null,{"$f":"K26+Janvier!L26","v":0},null,{"$f":"M26+Janvier!N26","v":0},null,{"$f":"O26+Janvier!P26","v":0},null,{"$f":"Q26+Janvier!R26","v":0},"","","",""]
[null,17,{"$f":"IF(ISBLANK('Données générales'!B23),\"\",'Données générales'!B23)","v":""},{"$f":"IF(ISBLANK('Données générales'!C23),\"\",'Données générales'!C23)","v":""},null,{"$f":"E27+Janvier!F27","v":{"v":0,"d":"0.00"}},null,{"$f":"G27+Janvier!H27","v":0},null,{"$f":"I27+Janvier!J27","v":0},null,{"$f":"K27+Janvier!L27","v":0},null,{"$f":"M27+Janvier!N27","v":0},null,{"$f":"O27+Janvier!P27","v":0},null,{"$f":"Q27+Janvier!R27","v":0},{"$f":"IFERROR(M27*1000000/E27,\"\")","v":""},"","",""]
[null,18,{"$f":"IF(ISBLANK('Données générales'!B24),\"\",'Données générales'!B24)","v":""},{"$f":"IF(ISBLANK('Données générales'!C24),\"\",'Données générales'!C24)","v":""},null,{"$f":"E28+Janvier!F28","v":{"v":0,"d":"0.00"}},null,{"$f":"G28+Janvier!H28","v":0},null,{"$f":"I28+Janvier!J28","v":0},null,{"$f":"K28+Janvier!L28","v":0},null,{"$f":"M28+Janvier!N28","v":0},null,{"$f":"O28+Janvier!P28","v":0},null,{"$f":"Q28+Janvier!R28","v":0},"","","",""]
[null,19,{"$f":"IF(ISBLANK('Données générales'!B25),\"\",'Données générales'!B25)","v":""},{"$f":"IF(ISBLANK('Données générales'!C25),\"\",'Données générales'!C25)","v":""},null,{"$f":"E29+Janvier!F29","v":{"v":0,"d":"0.00"}},null,{"$f":"G29+Janvier!H29","v":0},null,{"$f":"I29+Janvier!J29","v":0},null,{"$f":"K29+Janvier!L29","v":0},null,{"$f":"M29+Janvier!N29","v":0},null,{"$f":"O29+Janvier!P29","v":0},null,{"$f":"Q29+Janvier!R29","v":0},"","","",""]
[null,20,{"$f":"IF(ISBLANK('Données générales'!B26),\"\",'Données générales'!B26)","v":""},{"$f":"IF(ISBLANK('Données générales'!C26),\"\",'Données générales'!C26)","v":""},null,{"$f":"E30+Janvier!F30","v":{"v":0,"d":"0.00"}},null,{"$f":"G30+Janvier!H30","v":0},null,{"$f":"I30+Janvier!J30","v":0},null,{"$f":"K30+Janvier!L30","v":0},null,{"$f":"M30+Janvier!N30","v":0},null,{"$f":"O30+Janvier!P30","v":0},null,{"$f":"Q30+Janvier!R30","v":0},"","","",""]
[null,null,"Total",null,{"$f":"SUM(E11:E30)","v":{"v":0,"d":"0.00"}},{"$f":"SUM(F11:F30)","v":{"v":0,"d":"0.00"}},{"$f":"SUM(G11:G30)","v":0},{"$f":"SUM(H11:H30)","v":0},0,0,0,0,0,0,0,0,0,0,{"$f":"IFERROR(M31*200000/E31,\"\")","v":""},{"$f":"IFERROR(N31*200000/F31,\"\")","v":""},{"$f":"IFERROR(O31*200000/E31,\"\")","v":""},{"$f":"IFERROR(P31*200000/F31,\"\")","v":""}]
[null,"Approbation du gestionnaire de chantier d'Hydro-Québec :\n                                                         AA/MM/JJ",null,null,"*EG : Entrepreneur Général\n*ST : Sous-traitant\n*C : Consultant",null,"Taux de fréquence = Nbre de perte de temps X 200 000\n                                    Nbre d'heures travaillées",{"$nulls":8},"Taux de gravité = Nbre de jours perdus X 200 000\n                              Nbre d'heures travaillées"]
[]
[null,"Sommaire des évènements\n(À remplir si les rapports d'évènements ne sont pas envoyés en même temps)"]
[]
[null,"No","Entrepreneur",null,"Date",null,"Type d'évènement",null,"Description",{"$nulls":10},"Si perte de temps\nNombre de jours perdus"]
[null,1]
[null,2]
[null,3]
[null,4]
[null,5]
[null,6]
[null,7]
[null,8]
[null,9]
[null,10]
[]
[]
[]
[]
[null,"Listes déroulantes :"]
[]
[null,null,"Identification",null,null,"Unité administrative",{"$nulls":5},"Conséquences",null,null,"Mois",{"$nulls":3},"Année"]
[]
[null,null,"EG*",null,null,"DPPTC - Projets Poste",{"$nulls":5},"Premier soin",null,null,"Janvier",{"$nulls":3},2011]
[null,null,"ST*",null,null,"DPPTC - Projets Ligne",{"$nulls":5},"Assistance médicale",null,null,"Février",{"$nulls":3},2012]
[null,null,"C*",null,null,"DPPTC - Projets ICR-Interconnexion",{"$nulls":5},"Assignation temporaire",null,null,"Mars",{"$nulls":3},2013]
[{"$nulls":5},"SEBJ - Dir. Projets Eastmain",{"$nulls":5},"Perte de temps",null,null,"Avril",{"$nulls":3},2014]
[{"$nulls":5},"Gentilly II",{"$nulls":5},"Incident",null,null,"Mai",{"$nulls":3},2015]
[{"$nulls":5},"GPMB Baie-Comeau",{"$nulls":5},"Dommage matériel",null,null,"Juin",{"$nulls":3},2016]
[{"$nulls":5},"GPMB Chicoutimi",{"$nulls":8},"Juillet",{"$nulls":3},2017]
[{"$nulls":5},"GPMB Rimouski",{"$nulls":8},"Août",{"$nulls":3},2018]
[{"$nulls":5},"GPMB  territoire Ouest",{"$nulls":8},"Septembre",{"$nulls":3},2019]
[{"$nulls":5},"GPMB  territoire Sud et Ouest",{"$nulls":8},"Octobre",{"$nulls":3},2020]
[{"$nulls":5},"GPMB  Trois-Rivières",{"$nulls":8},"Novembre",{"$nulls":3},2021]
[{"$nulls":5},"Projets de centrales Romaine",{"$nulls":8},"Décembre",{"$nulls":3},2022]
[{"$nulls":5},"DPPP - Réfections - Projets 2",{"$nulls":12},2023]
[{"$nulls":5},"DPPP - Réfections - Projets 4",{"$nulls":12},2024]
[{"$nulls":5},"DPPP - Réfections - Projets 5",{"$nulls":12},2025]
[{"$nulls":5},"DPPP - Réfections - Projets 6",{"$nulls":12},2026]
[{"$nulls":5},"DPPP - Réfections - Projets 7",{"$nulls":12},2027]
[{"$nulls":18},2028]
[{"$nulls":18},2029]
[{"$nulls":18},2030]

{"sheet":"Mars","index":4,"n_rows":74,"n_cols":22,"rows_kept":74,"merged":[[0,1,0,21],[2,3,2,6],[2,8,2,10],[2,11,2,13],[2,14,2,16],[2,17,2,18],[4,3,4,6],[4,8,4,10],[4,11,4,13],[4,14,4,16],[4,17,4,18],[6,3,6,6],[6,8,6,10],[6,11,6,13],[6,14,6,16],[6,17,6,18],[8,1,9,1],[8,2,9,3],[8,4,8,5],[8,6,8,7],[8,8,8,9],[8,10,8,11],[8,12,8,13],[8,14,8,15],[8,16,8,17],[8,18,8,19],[8,20,8,21],[30,2,30,3],[31,1,31,3],[31,4,31,5],[31,6,31,14],[31,15,31,21],[33,1,33,18],[35,2,35,3],[35,4,35,5],[35,6,35,7],[35,8,35,18],[35,19,35,21],[36,2,36,3],[36,4,36,5],[36,6,36,7],[36,8,36,18],[36,19,36,21],[37,2,37,3],[37,4,37,5],[37,6,37,7],[37,8,37,18],[37,19,37,21],[38,2,38,3],[38,4,38,5],[38,6,38,7],[38,8,38,18],[38,19,38,21],[39,2,39,3],[39,4,39,5],[39,6,39,7],[39,8,39,18],[39,19,39,21],[40,2,40,3],[40,4,40,5],[40,6,40,7],[40,8,40,18],[40,19,40,21],[41,2,41,3],[41,4,41,5],[41,6,41,7],[41,8,41,18],[41,19,41,21],[42,2,42,3],[42,4,42,5],[42,6,42,7],[42,8,42,18],[42,19,42,21],[43,2,43,3],[43,4,43,5],[43,6,43,7],[43,8,43,18],[43,19,43,21],[44,2,44,3],[44,4,44,5],[44,6,44,7],[44,8,44,18],[44,19,44,21],[45,2,45,3],[45,4,45,5],[45,6,45,7],[45,8,45,18],[45,19,45,21],[50,1,50,2]]}
[null,"SOMMAIRE MENSUEL ET CUMULATIF DES ACCIDENTS DE TRAVAIL DES ENTREPRENEURS"]
[]
[null,null,"Entrepreneur général :",{"$f":"Janvier!D3:G3","v":""},{"$nulls":4},"# de projet :",null,null,{"$f":"Janvier!L3:N3","v":""},null,null,"Mois concerné :",null,null,"Mars",null,null,"# Rév. :"]
[]
[null,null,"Chantier :",{"$f":"Janvier!D5:G5","v":""},{"$nulls":4},"# d'appel d'offre :",null,null,{"$f":"Janvier!L5:N5","v":""},null,null,"Année concernée :",null,null,{"$f":"Janvier!R5:S5","v":2020}]
[]
[null,null,"Rapport complété par :",{"$nulls":5},"Titre :",{"$nulls":5},"Date remplie :"]
[]
[null,"No","Liste des entrepreneurs et consultants",null,"Heures travaillées",null,"Premiers soins",null,"Assistance médicale",null,"Assignation temporaire",null,"Perte de temps",null,"Jours perdus",null,"Incident/\nDommage mat.",null,"Taux de fréquence",null,"Taux de gravité"]
[{"$nulls":4},"Mensuel","Cumulatif","Mens.","Cumul.","Mens.","Cumul.","Mens.","Cumul.","Mens.","Cumul.","Mens.","Cumul.","Mens.","Cumul.","Mens.","Cumul.","Mens.","Cumul."]
[null,1,{"$f":"IF(ISBLANK('Données générales'!B7),\"\",'Données générales'!B7)","v":""},{"$f":"IF(ISBLANK('Données générales'!C7),\"\",'Données générales'!C7)","v":""},null,{"$f":"E11+Février!F11","v":{"v":0,"d":"0.00"}},null,{"$f":"G11+Février!H11","v":0},null,{"$f":"I11+Février!J11","v":0},null,{"$f":"K11+Février!L11","v":0},null,{"$f":"M11+Février!N11","v":0},null,{"$f":"O11+Février!P11","v":0},null,{"$f":"Q11+Février!R11","v":0},{"$f":"IFERROR(M11*1000000/E11,\"\")","v":""},{"$f":"IFERROR(N11*1000000/F11,\"\")","v":""},{"$f":"IFERROR(O11*1000000/E11,\"\")","v":""},{"$f":"IFERROR(P11*1000000/F11,\"\")","v":""}]
[null,2,{"$f":"IF(ISBLANK('Données générales'!B8),\"\",'Données générales'!B8)","v":""},{"$f":"IF(ISBLANK('Données générales'!C8),\"\",'Données générales'!C8)","v":""},null,{"$f":"E12+Février!F12","v":{"v":0,"d":"0.00"}},null,{"$f":"G12+Février!H12","v":0},null,{"$f":"I12+Février!J12","v":0},null,{"$f":"K12+Février!L12","v":0},null,{"$f":"M12+Février!N12","v":0},null,{"$f":"O12+Février!P12","v":0},null,{"$f":"Q12+Février!R12","v":0},{"$f":"IFERROR(M12*1000000/E12,\"\")","v":""},"",{"$f":"IFERROR(O12*1000000/E12,\"\")","v":""},""]
[null,3,{"$f":"IF(ISBLANK('Données générales'!B9),\"\",'Données générales'!B9)","v":""},{"$f":"IF(ISBLANK('Données générales'!C9),\"\",'Données générales'!C9)","v":""},null,{"$f":"E13+Février!F13","v":{"v":0,"d":"0.00"}},null,{"$f":"G13+Février!H13","v":0},null,{"$f":"I13+Février!J13","v":0},null,{"$f":"K13+Février!L13","v":0},null,{"$f":"M13+Février!N13","v":0},null,{"$f":"O13+Février!P13","v":0},null,{"$f":"Q13+Février!R13","v":0},"","","",""]
[null,4,{"$f":"IF(ISBLANK('Données générales'!B10),\"\",'Données générales'!B10)","v":""},{"$f":"IF(ISBLANK('Données générales'!C10),\"\",'Données générales'!C10)","v":""},null,{"$f":"E14+Février!F14","v":{"v":0,"d":"0.00"}},null,{"$f":"G14+Février!H14","v":0},null,{"$f":"I14+Février!J14","v":0},null,{"$f":"K14+Février!L14","v":0},null,{"$f":"M14+Février!N14","v":0},null,{"$f":"O14+Février!P14","v":0},null,{"$f":"Q14+Février!R14","v":0},"","","",""]
[null,5,{"$f":"IF(ISBLANK('Données générales'!B11),\"\",'Données générales'!B11)","v":""},{"$f":"IF(ISBLANK('Données générales'!C11),\"\",'Données générales'!C11)","v":""},null,{"$f":"E15+Février!F15","v":{"v":0,"d":"0.00"}},null,{"$f":"G15+Février!H15","v":0},null,{"$f":"I15+Février!J15","v":0},null,{"$f":"K15+Février!L15","v":0},null,{"$f":"M15+Février!N15","v":0},null,{"$f":"O15+Février!P15","v":0},null,{"$f":"Q15+Février!R15","v":0},"","","",""]
[null,6,{"$f":"IF(ISBLANK('Données générales'!B12),\"\",'Données générales'!B12)","v":""},{"$f":"IF(ISBLANK('Données générales'!C12),\"\",'Données générales'!C12)","v":""},null,{"$f":"E16+Février!F16","v":{"v":0,"d":"0.00"}},null,{"$f":"G16+Février!H16","v":0},null,{"$f":"I16+Février!J16","v":0},null,{"$f":"K16+Février!L16","v":0},null,{"$f":"M16+Février!N16","v":0},null,{"$f":"O16+Février!P16","v":0},null,{"$f":"Q16+Février!R16","v":0},"","","",""]
[null,7,{"$f":"IF(ISBLANK('Données générales'!B13),\"\",'Données générales'!B13)","v":""},{"$f":"IF(ISBLANK('Données générales'!C13),\"\",'Données générales'!C13)","v":""},null,{"$f":"E17+Février!F17","v":{"v":0,"d":"0.00"}},null,{"$f":"G17+Février!H17","v":0},null,{"$f":"I17+Février!J17","v":0},null,{"$f":"K17+Février!L17","v":0},null,{"$f":"M17+Février!N17","v":0},null,{"$f":"O17+Février!P17","v":0},null,{"$f":"Q17+Février!R17","v":0},"","","",""]
[null,8,{"$f":"IF(ISBLANK('Données générales'!B14),\"\",'Données générales'!B14)","v":""},{"$f":"IF(ISBLANK('Données générales'!C14),\"\",'Données générales'!C14)","v":""},null,{"$f":"E18+Février!F18","v":{"v":0,"d":"0.00"}},null,{"$f":"G18+Février!H18","v":0},null,{"$f":"I18+Février!J18","v":0},null,{"$f":"K18+Février!L18","v":0},null,{"$f":"M18+Février!N18","v":0},null,{"$f":"O18+Février!P18","v":0},null,{"$f":"Q18+Février!R18","v":0},"","","",""]
[null,9,{"$f":"IF(ISBLANK('Données générales'!B15),\"\",'Données générales'!B15)","v":""},{"$f":"IF(ISBLANK('Données générales'!C15),\"\",'Données générales'!C15)","v":""},null,{"$f":"E19+Février!F19","v":{"v":0,"d":"0.00"}},null,{"$f":"G19+Février!H19","v":0},null,{"$f":"I19+Février!J19","v":0},null,{"$f":"K19+Février!L19","v":0},null,{"$f":"M19+Février!N19","v":0},null,{"$f":"O19+Février!P19","v":0},null,{"$f":"Q19+Février!R19","v":0},"","","",""]
[null,10,{"$f":"IF(ISBLANK('Données générales'!B16),\"\",'Données générales'!B16)","v":""},{"$f":"IF(ISBLANK('Données générales'!C16),\"\",'Données générales'!C16)","v":""},null,{"$f":"E20+Février!F20","v":{"v":0,"d":"0.00"}},null,{"$f":"G20+Février!H20","v":0},null,{"$f":"I20+Février!J20","v":0},null,{"$f":"K20+Février!L20","v":0},null,{"$f":"M20+Février!N20","v":0},null,{"$f":"O20+Février!P20","v":0},null,{"$f":"Q20+Février!R20","v":0},"","","",""]
[null,11,{"$f":"IF(ISBLANK('Données générales'!B17),\"\",'Données générales'!B17)","v":""},{"$f":"IF(ISBLANK('Données générales'!C17),\"\",'Données générales'!C17)","v":""},null,{"$f":"E21+Février!F21","v":{"v":0,"d":"0.00"}},null,{"$f":"G21+Février!H21","v":0},null,{"$f":"I21+Février!J21","v":0},null,{"$f":"K21+Février!L21","v":0},null,{"$f":"M21+Février!N21","v":0},null,{"$f":"O21+Février!P21","v":0},null,{"$f":"Q21+Février!R21","v":0},"","","",""]
[null,12,{"$f":"IF(ISBLANK('Données générales'!B18),\"\",'Données générales'!B18)","v":""},{"$f":"IF(ISBLANK('Données générales'!C18),\"\",'Données générales'!C18)","v":""},null,{"$f":"E22+Février!F22","v":{"v":0,"d":"0.00"}},null,{"$f":"G22+Février!H22","v":0},null,{"$f":"I22+Février!J22","v":0},null,{"$f":"K22+Février!L22","v":0},null,{"$f":"M22+Février!N22","v":0},null,{"$f":"O22+Février!P22","v":0},null,{"$f":"Q22+Février!R22","v":0},"","","",""]
[null,13,{"$f":"IF(ISBLANK('Données générales'!B19),\"\",'Données générales'!B19)","v":""},{"$f":"IF(ISBLANK('Données générales'!C19),\"\",'Données générales'!C19)","v":""},null,{"$f":"E23+Février!F23","v":{"v":0,"d":"0.00"}},null,{"$f":"G23+Février!H23","v":0},null,{"$f":"I23+Février!J23","v":0},null,{"$f":"K23+Février!L23","v":0},null,{"$f":"M23+Février!N23","v":0},null,{"$f":"O23+Février!P23","v":0},null,{"$f":"Q23+Février!R23","v":0},"","","",""]
[null,14,{"$f":"IF(ISBLANK('Données générales'!B20),\"\",'Données générales'!B20)","v":""},{"$f":"IF(ISBLANK('Données générales'!C20),\"\",'Données générales'!C20)","v":""},null,{"$f":"E24+Février!F24","v":{"v":0,"d":"0.00"}},null,{"$f":"G24+Février!H24","v":0},null,{"$f":"I24+Février!J24","v":0},null,{"$f":"K24+Février!L24","v":0},null,{"$f":"M24+Février!N24","v":0},null,{"$f":"O24+Février!P24","v":0},null,{"$f":"Q24+Février!R24","v":0},"","","",""]
[null,15,{"$f":"IF(ISBLANK('Données générales'!B26),\"\",'Données générales'!B26)","v":""},{"$f":"IF(ISBLANK('Données générales'!C26),\"\",'Données générales'!C26)","v":""},null,{"$f":"E25+Février!F25","v":{"v":0,"d":"0.00"}},null,{"$f":"G25+Février!H25","v":0},null,{"$f":"I25+Février!J25","v":0},null,{"$f":"K25+Février!L25","v":0},null,{"$f":"M25+Février!N25","v":0},null,{"$f":"O25+Février!P25","v":0},null,{"$f":"Q25+Février!R25","v":0},"","","",""]
[null,16,{"$f":"IF(ISBLANK('Données générales'!B22),\"\",'Données générales'!B22)","v":""},{"$f":"IF(ISBLANK('Données générales'!C22),\"\",'Données générales'!C22)","v":""},null,{"$f":"E26+Février!F26","v":{"v":0,"d":"0.00"}},null,{"$f":"G26+Février!H26","v":0},null,{"$f":"I26+Février!J26","v":0},null,{"$f":"K26+Février!L26","v":0},null,{"$f":"M26+Février!N26","v":0},null,{"$f":"O26+Février!P26","v":0},null,{"$f":"Q26+Février!R26","v":0},"","","",""]
[null,17,{"$f":"IF(ISBLANK('Données générales'!B23),\"\",'Données générales'!B23)","v":""},{"$f":"IF(ISBLANK('Données générales'!C23),\"\",'Données générales'!C23)","v":""},null,{"$f":"E27+Février!F27","v":{"v":0,"d":"0.00"}},null,{"$f":"G27+Février!H27","v":0},null,{"$f":"I27+Février!J27","v":0},null,{"$f":"K27+Février!L27","v":0},null,{"$f":"M27+Février!N27","v":0},null,{"$f":"O27+Février!P27","v":0},null,{"$f":"Q27+Février!R27","v":0},{"$f":"IFERROR(M27*1000000/E27,\"\")","v":""},"","",""]
[null,18,{"$f":"IF(ISBLANK('Données générales'!B24),\"\",'Données générales'!B24)","v":""},{"$f":"IF(ISBLANK('Données générales'!C24),\"\",'Données générales'!C24)","v":""},null,{"$f":"E28+Février!F28","v":{"v":0,"d":"0.00"}},null,{"$f":"G28+Février!H28","v":0},null,{"$f":"I28+Février!J28","v":0},null,{"$f":"K28+Février!L28","v":0},null,{"$f":"M28+Février!N28","v":0},null,{"$f":"O28+Février!P28","v":0},null,{"$f":"Q28+Février!R28","v":0},"","","",""]
[null,19,{"$f":"IF(ISBLANK('Données générales'!B25),\"\",'Données générales'!B25)","v":""},{"$f":"IF(ISBLANK('Données générales'!C25),\"\",'Données générales'!C25)","v":""},null,{"$f":"E29+Février!F29","v":{"v":0,"d":"0.00"}},null,{"$f":"G29+Février!H29","v":0},null,{"$f":"I29+Février!J29","v":0},null,{"$f":"K29+Février!L29","v":0},null,{"$f":"M29+Février!N29","v":0},null,{"$f":"O29+Février!P29","v":0},null,{"$f":"Q29+Février!R29","v":0},"","","",""]
[null,20,{"$f":"IF(ISBLANK('Données générales'!B26),\"\",'Données générales'!B26)","v":""},{"$f":"IF(ISBLANK('Données générales'!C26),\"\",'Données générales'!C26)","v":""},null,{"$f":"E30+Février!F30","v":{"v":0,"d":"0.00"}},null,{"$f":"G30+Février!H30","v":0},null,{"$f":"I30+Février!J30","v":0},null,{"$f":"K30+Février!L30","v":0},null,{"$f":"M30+Février!N30","v":0},null,{"$f":"O30+Février!P30","v":0},null,{"$f":"Q30+Février!R30","v":0},"","","",""]
[null,null,"Total",null,{"$f":"SUM(E11:E30)","v":{"v":0,"d":"0.00"}},{"$f":"SUM(F11:F30)","v":{"v":0,"d":"0.00"}},{"$f":"SUM(G11:G30)","v":0},{"$f":"SUM(H11:H30)","v":0},0,0,0,{"$f":"SUM(L11:L30)","v":0},0,0,0,0,0,0,{"$f":"IFERROR(M31*200000/E31,\"\")","v":""},{"$f":"IFERROR(N31*200000/F31,\"\")","v":""},{"$f":"IFERROR(O31*200000/E31,\"\")","v":""},{"$f":"IFERROR(P31*200000/F31,\"\")","v":""}]
[null,"Approbation du gestionnaire de chantier d'Hydro-Québec :\n                                                         AA/MM/JJ",null,null,"*EG : Entrepreneur Général\n*ST : Sous-traitant\n*C : Consultant",null,"Taux de fréquence = Nbre de perte de temps X 200 000\n                                    Nbre d'heures travaillées",{"$nulls":8},"Taux de gravité = Nbre de jours perdus X 200 000\n                              Nbre d'heures travaillées"]
[]
[null,"Sommaire des évènements\n(À remplir si les rapports d'évènements ne sont pas envoyés en même temps)"]
[]
[null,"No","Entrepreneur",null,"Date",null,"Type d'évènement",null,"Description",{"$nulls":10},"Si perte de temps\nNombre de jours perdus"]
[null,1]
[null,2]
[null,3]
[null,4]
[null,5]
[null,6]
[null,7]
[null,8]
[null,9]
[null,10]
[]
[]
[]
[]
[null,"Listes déroulantes :"]
[]
[null,null,"Identification",null,null,"Unité administrative",{"$nulls":5},"Conséquences",null,null,"Mois",{"$nulls":3},"Année"]
[]
[null,null,"EG*",null,null,"DPPTC - Projets Poste",{"$nulls":5},"Premier soin",null,null,"Janvier",{"$nulls":3},2011]
[null,null,"ST*",null,null,"DPPTC - Projets Ligne",{"$nulls":5},"Assistance médicale",null,null,"Février",{"$nulls":3},2012]
[null,null,"C*",null,null,"DPPTC - Projets ICR-Interconnexion",{"$nulls":5},"Assignation temporaire",null,null,"Mars",{"$nulls":3},2013]
[{"$nulls":5},"SEBJ - Dir. Projets Eastmain",{"$nulls":5},"Perte de temps",null,null,"Avril",{"$nulls":3},2014]
[{"$nulls":5},"Gentilly II",{"$nulls":5},"Incident",null,null,"Mai",{"$nulls":3},2015]
[{"$nulls":5},"GPMB Baie-Comeau",{"$nulls":5},"Dommage matériel",null,null,"Juin",{"$nulls":3},2016]
[{"$nulls":5},"GPMB Chicoutimi",{"$nulls":8},"Juillet",{"$nulls":3},2017]
[{"$nulls":5},"GPMB Rimouski",{"$nulls":8},"Août",{"$nulls":3},2018]
[{"$nulls":5},"GPMB  territoire Ouest",{"$nulls":8},"Septembre",{"$nulls":3},2019]
[{"$nulls":5},"GPMB  territoire Sud et Ouest",{"$nulls":8},"Octobre",{"$nulls":3},2020]
[{"$nulls":5},"GPMB  Trois-Rivières",{"$nulls":8},"Novembre",{"$nulls":3},2021]
[{"$nulls":5},"Projets de centrales Romaine",{"$nulls":8},"Décembre",{"$nulls":3},2022]
[{"$nulls":5},"DPPP - Réfections - Projets 2",{"$nulls":12},2023]
[{"$nulls":5},"DPPP - Réfections - Projets 4",{"$nulls":12},2024]
[{"$nulls":5},"DPPP - Réfections - Projets 5",{"$nulls":12},2025]
[{"$nulls":5},"DPPP - Réfections - Projets 6",{"$nulls":12},2026]
[{"$nulls":5},"DPPP - Réfections - Projets 7",{"$nulls":12},2027]
[{"$nulls":18},2028]
[{"$nulls":18},2029]
[{"$nulls":18},2030]

{"sheet":"Avril","index":5,"n_rows":74,"n_cols":22,"rows_kept":74,"merged":[[0,1,0,21],[2,3,2,6],[2,8,2,10],[2,11,2,13],[2,14,2,16],[2,17,2,18],[4,3,4,6],[4,8,4,10],[4,11,4,13],[4,14,4,16],[4,17,4,18],[6,3,6,6],[6,8,6,10],[6,11,6,13],[6,14,6,16],[6,17,6,18],[8,1,9,1],[8,2,9,3],[8,4,8,5],[8,6,8,7],[8,8,8,9],[8,10,8,11],[8,12,8,13],[8,14,8,15],[8,16,8,17],[8,18,8,19],[8,20,8,21],[30,2,30,3],[31,1,31,3],[31,4,31,5],[31,6,31,14],[31,15,31,21],[33,1,33,18],[35,2,35,3],[35,4,35,5],[35,6,35,7],[35,8,35,18],[35,19,35,21],[36,2,36,3],[36,4,36,5],[36,6,36,7],[36,8,36,18],[36,19,36,21],[37,2,37,3],[37,4,37,5],[37,6,37,7],[37,8,37,18],[37,19,37,21],[38,2,38,3],[38,4,38,5],[38,6,38,7],[38,8,38,18],[38,19,38,21],[39,2,39,3],[39,4,39,5],[39,6,39,7],[39,8,39,18],[39,19,39,21],[40,2,40,3],[40,4,40,5],[40,6,40,7],[40,8,40,18],[40,19,40,21],[41,2,41,3],[41,4,41,5],[41,6,41,7],[41,8,41,18],[41,19,41,21],[42,2,42,3],[42,4,42,5],[42,6,42,7],[42,8,42,18],[42,19,42,21],[43,2,43,3],[43,4,43,5],[43,6,43,7],[43,8,43,18],[43,19,43,21],[44,2,44,3],[44,4,44,5],[44,6,44,7],[44,8,44,18],[44,19,44,21],[45,2,45,3],[45,4,45,5],[45,6,45,7],[45,8,45,18],[45,19,45,21],[50,1,50,2]]}
[null,"SOMMAIRE MENSUEL ET CUMULATIF DES ACCIDENTS DE TRAVAIL DES ENTREPRENEURS"]
[]
[null,null,"Entrepreneur général :",{"$f":"Janvier!D3:G3","v":""},{"$nulls":4},"# de projet :",null,null,{"$f":"Janvier!L3:N3","v":""},null,null,"Mois concerné :",null,null,"Avril",null,null,"# Rév. :"]
[]
[null,null,"Chantier :",{"$f":"Janvier!D5:G5","v":""},{"$nulls":4},"# d'appel d'offre :",null,null,{"$f":"Janvier!L5:N5","v":""},null,null,"Année concernée :",null,null,{"$f":"Janvier!R5:S5","v":2020}]
[]
[null,null,"Rapport complété par :",{"$nulls":5},"Titre :",{"$nulls":5},"Date remplie :"]
[]
[null,"No","Liste des entrepreneurs et consultants",null,"Heures travaillées",null,"Premiers soins",null,"Assistance médicale",null,"Assignation temporaire",null,"Perte de temps",null,"Jours perdus",null,"Incident/\nDommage mat.",null,"Taux de fréquence",null,"Taux de gravité"]
[{"$nulls":4},"Mensuel","Cumulatif","Mens.","Cumul.","Mens.","Cumul.","Mens.","Cumul.","Mens.","Cumul.","Mens.","Cumul.","Mens.","Cumul.","Mens.","Cumul.","Mens.","Cumul."]
[null,1,{"$f":"IF(ISBLANK('Données générales'!B7),\"\",'Données générales'!B7)","v":""},{"$f":"IF(ISBLANK('Données générales'!C7),\"\",'Données générales'!C7)","v":""},null,{"$f":"E11+Mars!F11","v":{"v":0,"d":"0.00"}},null,{"$f":"G11+Mars!H11","v":0},null,{"$f":"I11+Mars!J11","v":0},null,{"$f":"K11+Mars!L11","v":0},null,{"$f":"M11+Mars!N11","v":0},null,{"$f":"O11+Mars!P11","v":0},null,{"$f":"Q11+Mars!R11","v":0},{"$f":"IFERROR(M11*1000000/E11,\"\")","v":""},{"$f":"IFERROR(N11*1000000/F11,\"\")","v":""},{"$f":"IFERROR(O11*1000000/E11,\"\")","v":""},{"$f":"IFERROR(P11*1000000/F11,\"\")","v":""}]
[null,2,{"$f":"IF(ISBLANK('Données générales'!B8),\"\",'Données générales'!B8)","v":""},{"$f":"IF(ISBLANK('Données générales'!C8),\"\",'Données générales'!C8)","v":""},null,{"$f":"E12+Mars!F12","v":{"v":0,"d":"0.00"}},null,{"$f":"G12+Mars!H12","v":0},null,{"$f":"I12+Mars!J12","v":0},null,{"$f":"K12+Mars!L12","v":0},null,{"$f":"M12+Mars!N12","v":0},null,{"$f":"O12+Mars!P12","v":0},null,{"$f":"Q12+Mars!R12","v":0},{"$f":"IFERROR(M12*1000000/E12,\"\")","v":""},"",{"$f":"IFERROR(O12*1000000/E12,\"\")","v":""},""]
[null,3,{"$f":"IF(ISBLANK('Données générales'!B9),\"\",'Données générales'!B9)","v":""},{"$f":"IF(ISBLANK('Données générales'!C9),\"\",'Données générales'!C9)","v":""},null,{"$f":"E13+Mars!F13","v":{"v":0,"d":"0.00"}},null,{"$f":"G13+Mars!H13","v":0},null,{"$f":"I13+Mars!J13","v":0},null,{"$f":"K13+Mars!L13","v":0},null,{"$f":"M13+Mars!N13","v":0},null,{"$f":"O13+Mars!P13","v":0},null,{"$f":"Q13+Mars!R13","v":0},"","","",""]
[null,4,{"$f":"IF(ISBLANK('Données générales'!B10),\"\",'Données générales'!B10)","v":""},{"$f":"IF(ISBLANK('Données générales'!C10),\"\",'Données générales'!C10)","v":""},null,{"$f":"E14+Mars!F14","v":{"v":0,"d":"0.00"}},null,{"$f":"G14+Mars!H14","v":0},null,{"$f":"I14+Mars!J14","v":0},null,{"$f":"K14+Mars!L14","v":0},null,{"$f":"M14+Mars!N14","v":0},null,{"$f":"O14+Mars!P14","v":0},null,{"$f":"Q14+Mars!R14","v":0},"","","",""]
[null,5,{"$f":"IF(ISBLANK('Données générales'!B11),\"\",'Données générales'!B11)","v":""},{"$f":"IF(ISBLANK('Données générales'!C11),\"\",'Données générales'!C11)","v":""},null,{"$f":"E15+Mars!F15","v":{"v":0,"d":"0.00"}},null,{"$f":"G15+Mars!H15","v":0},null,{"$f":"I15+Mars!J15","v":0},null,{"$f":"K15+Mars!L15","v":0},null,{"$f":"M15+Mars!N15","v":0},null,{"$f":"O15+Mars!P15","v":0},null,{"$f":"Q15+Mars!R15","v":0},"","","",""]
[null,6,{"$f":"IF(ISBLANK('Données générales'!B12),\"\",'Données générales'!B12)","v":""},{"$f":"IF(ISBLANK('Données générales'!C12),\"\",'Données générales'!C12)","v":""},null,{"$f":"E16+Mars!F16","v":{"v":0,"d":"0.00"}},null,{"$f":"G16+Mars!H16","v":0},null,{"$f":"I16+Mars!J16","v":0},null,{"$f":"K16+Mars!L16","v":0},null,{"$f":"M16+Mars!N16","v":0},null,{"$f":"O16+Mars!P16","v":0},null,{"$f":"Q16+Mars!R16","v":0},"","","",""]
[null,7,{"$f":"IF(ISBLANK('Données générales'!B13),\"\",'Données générales'!B13)","v":""},{"$f":"IF(ISBLANK('Données générales'!C13),\"\",'Données générales'!C13)","v":""},null,{"$f":"E17+Mars!F17","v":{"v":0,"d":"0.00"}},null,{"$f":"G17+Mars!H17","v":0},null,{"$f":"I17+Mars!J17","v":0},null,{"$f":"K17+Mars!L17","v":0},null,{"$f":"M17+Mars!N17","v":0},null,{"$f":"O17+Mars!P17","v":0},null,{"$f":"Q17+Mars!R17","v":0},"","","",""]
[null,8,{"$f":"IF(ISBLANK('Données générales'!B14),\"\",'Données générales'!B14)","v":""},{"$f":"IF(ISBLANK('Données générales'!C14),\"\",'Données générales'!C14)","v":""},null,{"$f":"E18+Mars!F18","v":{"v":0,"d":"0.00"}},null,{"$f":"G18+Mars!H18","v":0},null,{"$f":"I18+Mars!J18","v":0},null,{"$f":"K18+Mars!L18","v":0},null,{"$f":"M18+Mars!N18","v":0},null,{"$f":"O18+Mars!P18","v":0},null,{"$f":"Q18+Mars!R18","v":0},"","","",""]
[null,9,{"$f":"IF(ISBLANK('Données générales'!B15),\"\",'Données générales'!B15)","v":""},{"$f":"IF(ISBLANK('Données générales'!C15),\"\",'Données générales'!C15)","v":""},null,{"$f":"E19+Mars!F19","v":{"v":0,"d":"0.00"}},null,{"$f":"G19+Mars!H19","v":0},null,{"$f":"I19+Mars!J19","v":0},null,{"$f":"K19+Mars!L19","v":0},null,{"$f":"M19+Mars!N19","v":0},null,{"$f":"O19+Mars!P19","v":0},null,{"$f":"Q19+Mars!R19","v":0},"","","",""]
[null,10,{"$f":"IF(ISBLANK('Données générales'!B16),\"\",'Données générales'!B16)","v":""},{"$f":"IF(ISBLANK('Données générales'!C16),\"\",'Données générales'!C16)","v":""},null,{"$f":"E20+Mars!F20","v":{"v":0,"d":"0.00"}},null,{"$f":"G20+Mars!H20","v":0},null,{"$f":"I20+Mars!J20","v":0},null,{"$f":"K20+Mars!L20","v":0},null,{"$f":"M20+Mars!N20","v":0},null,{"$f":"O20+Mars!P20","v":0},null,{"$f":"Q20+Mars!R20","v":0},"","","",""]
[null,11,{"$f":"IF(ISBLANK('Données générales'!B17),\"\",'Données générales'!B17)","v":""},{"$f":"IF(ISBLANK('Données générales'!C17),\"\",'Données générales'!C17)","v":""},null,{"$f":"E21+Mars!F21","v":{"v":0,"d":"0.00"}},null,{"$f":"G21+Mars!H21","v":0},null,{"$f":"I21+Mars!J21","v":0},null,{"$f":"K21+Mars!L21","v":0},null,{"$f":"M21+Mars!N21","v":0},null,{"$f":"O21+Mars!P21","v":0},null,{"$f":"Q21+Mars!R21","v":0},"","","",""]
[null,12,{"$f":"IF(ISBLANK('Données générales'!B18),\"\",'Données générales'!B18)","v":""},{"$f":"IF(ISBLANK('Données générales'!C18),\"\",'Données générales'!C18)","v":""},null,{"$f":"E22+Mars!F22","v":{"v":0,"d":"0.00"}},null,{"$f":"G22+Mars!H22","v":0},null,{"$f":"I22+Mars!J22","v":0},null,{"$f":"K22+Mars!L22","v":0},null,{"$f":"M22+Mars!N22","v":0},null,{"$f":"O22+Mars!P22","v":0},null,{"$f":"Q22+Mars!R22","v":0},"","","",""]
[null,13,{"$f":"IF(ISBLANK('Données générales'!B19),\"\",'Données générales'!B19)","v":""},{"$f":"IF(ISBLANK('Données générales'!C19),\"\",'Données générales'!C19)","v":""},null,{"$f":"E23+Mars!F23","v":{"v":0,"d":"0.00"}},null,{"$f":"G23+Mars!H23","v":0},null,{"$f":"I23+Mars!J23","v":0},null,{"$f":"K23+Mars!L23","v":0},null,{"$f":"M23+Mars!N23","v":0},null,{"$f":"O23+Mars!P23","v":0},null,{"$f":"Q23+Mars!R23","v":0},"","","",""]
[null,14,{"$f":"IF(ISBLANK('Données générales'!B20),\"\",'Données générales'!B20)","v":""},{"$f":"IF(ISBLANK('Données générales'!C20),\"\",'Données générales'!C20)","v":""},null,{"$f":"E24+Mars!F24","v":{"v":0,"d":"0.00"}},null,{"$f":"G24+Mars!H24","v":0},null,{"$f":"I24+Mars!J24","v":0},null,{"$f":"K24+Mars!L24","v":0},null,{"$f":"M24+Mars!N24","v":0},null,{"$f":"O24+Mars!P24","v":0},null,{"$f":"Q24+Mars!R24","v":0},"","","",""]
[null,15,{"$f":"IF(ISBLANK('Données générales'!B26),\"\",'Données générales'!B26)","v":""},{"$f":"IF(ISBLANK('Données générales'!C26),\"\",'Données générales'!C26)","v":""},null,{"$f":"E25+Mars!F25","v":{"v":0,"d":"0.00"}},null,{"$f":"G25+Mars!H25","v":0},null,{"$f":"I25+Mars!J25","v":0},null,{"$f":"K25+Mars!L25","v":0},null,{"$f":"M25+Mars!N25","v":0},null,{"$f":"O25+Mars!P25","v":0},null,{"$f":"Q25+Mars!R25","v":0},"","","",""]
[null,16,{"$f":"IF(ISBLANK('Données générales'!B22),\"\",'Données générales'!B22)","v":""},{"$f":"IF(ISBLANK('Données générales'!C22),\"\",'Données générales'!C22)","v":""},null,{"$f":"E26+Mars!F26","v":{"v":0,"d":"0.00"}},null,{"$f":"G26+Mars!H26","v":0},null,{"$f":"I26+Mars!J26","v":0},null,{"$f":"K26+Mars!L26","v":0},null,{"$f":"M26+Mars!N26","v":0},null,{"$f":"O26+Mars!P26","v":0},null,{"$f":"Q26+Mars!R26","v":0},{"$f":"IFERROR(M26*1000000/E26,\"\")","v":""},{"$f":"IFERROR(N26*1000000/F26,\"\")","v":""},{"$f":"IFERROR(O26*1000000/E26,\"\")","v":""},{"$f":"IFERROR(P26*1000000/F26,\"\")","v":""}]
[null,17,{"$f":"IF(ISBLANK('Données générales'!B23),\"\",'Données générales'!B23)","v":""},{"$f":"IF(ISBLANK('Données générales'!C23),\"\",'Données générales'!C23)","v":""},null,{"$f":"E27+Mars!F27","v":{"v":0,"d":"0.00"}},null,{"$f":"G27+Mars!H27","v":0},null,{"$f":"I27+Mars!J27","v":0},null,{"$f":"K27+Mars!L27","v":0},null,{"$f":"M27+Mars!N27","v":0},null,{"$f":"O27+Mars!P27","v":0},null,{"$f":"Q27+Mars!R27","v":0},"","","",""]
[null,18,{"$f":"IF(ISBLANK('Données générales'!B24),\"\",'Données générales'!B24)","v":""},{"$f":"IF(ISBLANK('Données générales'!C24),\"\",'Données générales'!C24)","v":""},null,{"$f":"E28+Mars!F28","v":{"v":0,"d":"0.00"}},null,{"$f":"G28+Mars!H28","v":0},null,{"$f":"I28+Mars!J28","v":0},null,{"$f":"K28+Mars!L28","v":0},null,{"$f":"M28+Mars!N28","v":0},null,{"$f":"O28+Mars!P28","v":0},null,{"$f":"Q28+Mars!R28","v":0},"","","",""]
[null,19,{"$f":"IF(ISBLANK('Données générales'!B25),\"\",'Données générales'!B25)","v":""},{"$f":"IF(ISBLANK('Données générales'!C25),\"\",'Données générales'!C25)","v":""},null,{"$f":"E29+Mars!F29","v":{"v":0,"d":"0.00"}},null,{"$f":"G29+Mars!H29","v":0},null,{"$f":"I29+Mars!J29","v":0},null,{"$f":"K29+Mars!L29","v":0},null,{"$f":"M29+Mars!N29","v":0},null,{"$f":"O29+Mars!P29","v":0},null,{"$f":"Q29+Mars!R29","v":0},"","","",""]
[null,20,{"$f":"IF(ISBLANK('Données générales'!B26),\"\",'Données générales'!B26)","v":""},{"$f":"IF(ISBLANK('Données générales'!C26),\"\",'Données générales'!C26)","v":""},null,{"$f":"E30+Mars!F30","v":{"v":0,"d":"0.00"}},null,{"$f":"G30+Mars!H30","v":0},null,{"$f":"I30+Mars!J30","v":0},null,{"$f":"K30+Mars!L30","v":0},null,{"$f":"M30+Mars!N30","v":0},null,{"$f":"O30+Mars!P30","v":0},null,{"$f":"Q30+Mars!R30","v":0},"","","",""]
[null,null,"Total",null,{"$f":"SUM(E11:E30)","v":{"v":0,"d":"0.00"}},{"$f":"SUM(F11:F30)","v":{"v":0,"d":"0.00"}},{"$f":"SUM(G11:G30)","v":0},{"$f":"SUM(H11:H30)","v":0},0,0,0,0,0,0,0,0,0,0,{"$f":"IFERROR(M31*200000/E31,\"\")","v":""},{"$f":"IFERROR(N31*200000/F31,\"\")","v":""},{"$f":"IFERROR(O31*200000/E31,\"\")","v":""},{"$f":"IFERROR(P31*200000/F31,\"\")","v":""}]
[null,"Approbation du gestionnaire de chantier d'Hydro-Québec :\n                                                         AA/MM/JJ",null,null,"*EG : Entrepreneur Général\n*ST : Sous-traitant\n*C : Consultant",null,"Taux de fréquence = Nbre de perte de temps X 200 000\n                                    Nbre d'heures travaillées",{"$nulls":8},"Taux de gravité = Nbre de jours perdus X 200 000\n                              Nbre d'heures travaillées"]
[]
[null,"Sommaire des évènements\n(À remplir si les rapports d'évènements ne sont pas envoyés en même temps)"]
[]
[null,"No","Entrepreneur",null,"Date",null,"Type d'évènement",null,"Description",{"$nulls":10},"Si perte de temps\nNombre de jours perdus"]
[null,1]
[null,2]
[null,3]
[null,4]
[null,5]
[null,6]
[null,7]
[null,8]
[null,9]
[null,10]
[]
[]
[]
[]
[null,"Listes déroulantes :"]
[]
[null,null,"Identification",null,null,"Unité administrative",{"$nulls":5},"Conséquences",null,null,"Mois",{"$nulls":3},"Année"]
[]
[null,null,"EG*",null,null,"DPPTC - Projets Poste",{"$nulls":5},"Premier soin",null,null,"Janvier",{"$nulls":3},2011]
[null,null,"ST*",null,null,"DPPTC - Projets Ligne",{"$nulls":5},"Assistance médicale",null,null,"Février",{"$nulls":3},2012]
[null,null,"C*",null,null,"DPPTC - Projets ICR-Interconnexion",{"$nulls":5},"Assignation temporaire",null,null,"Mars",{"$nulls":3},2013]
[{"$nulls":5},"SEBJ - Dir. Projets Eastmain",{"$nulls":5},"Perte de temps",null,null,"Avril",{"$nulls":3},2014]
[{"$nulls":5},"Gentilly II",{"$nulls":5},"Incident",null,null,"Mai",{"$nulls":3},2015]
[{"$nulls":5},"GPMB Baie-Comeau",{"$nulls":5},"Dommage matériel",null,null,"Juin",{"$nulls":3},2016]
[{"$nulls":5},"GPMB Chicoutimi",{"$nulls":8},"Juillet",{"$nulls":3},2017]
[{"$nulls":5},"GPMB Rimouski",{"$nulls":8},"Août",{"$nulls":3},2018]
[{"$nulls":5},"GPMB  territoire Ouest",{"$nulls":8},"Septembre",{"$nulls":3},2019]
[{"$nulls":5},"GPMB  territoire Sud et Ouest",{"$nulls":8},"Octobre",{"$nulls":3},2020]
[{"$nulls":5},"GPMB  Trois-Rivières",{"$nulls":8},"Novembre",{"$nulls":3},2021]
[{"$nulls":5},"Projets de centrales Romaine",{"$nulls":8},"Décembre",{"$nulls":3},2022]
[{"$nulls":5},"DPPP - Réfections - Projets 2",{"$nulls":12},2023]
[{"$nulls":5},"DPPP - Réfections - Projets 4",{"$nulls":12},2024]
[{"$nulls":5},"DPPP - Réfections - Projets 5",{"$nulls":12},2025]
[{"$nulls":5},"DPPP - Réfections - Projets 6",{"$nulls":12},2026]
[{"$nulls":5},"DPPP - Réfections - Projets 7",{"$nulls":12},2027]
[{"$nulls":18},2028]
[{"$nulls":18},2029]
[{"$nulls":18},2030]

{"sheet":"Mai","index":6,"n_rows":74,"n_cols":22,"rows_kept":74,"merged":[[0,1,0,21],[2,3,2,6],[2,8,2,10],[2,11,2,13],[2,14,2,16],[2,17,2,18],[4,3,4,6],[4,8,4,10],[4,11,4,13],[4,14,4,16],[4,17,4,18],[6,3,6,6],[6,8,6,10],[6,11,6,13],[6,14,6,16],[6,17,6,18],[8,1,9,1],[8,2,9,3],[8,4,8,5],[8,6,8,7],[8,8,8,9],[8,10,8,11],[8,12,8,13],[8,14,8,15],[8,16,8,17],[8,18,8,19],[8,20,8,21],[30,2,30,3],[31,1,31,3],[31,4,31,5],[31,6,31,14],[31,15,31,21],[33,1,33,18],[35,2,35,3],[35,4,35,5],[35,6,35,7],[35,8,35,18],[35,19,35,21],[36,2,36,3],[36,4,36,5],[36,6,36,7],[36,8,36,18],[36,19,36,21],[37,2,37,3],[37,4,37,5],[37,6,37,7],[37,8,37,18],[37,19,37,21],[38,2,38,3],[38,4,38,5],[38,6,38,7],[38,8,38,18],[38,19,38,21],[39,2,39,3],[39,4,39,5],[39,6,39,7],[39,8,39,18],[39,19,39,21],[40,2,40,3],[40,4,40,5],[40,6,40,7],[40,8,40,18],[40,19,40,21],[41,2,41,3],[41,4,41,5],[41,6,41,7],[41,8,41,18],[41,19,41,21],[42,2,42,3],[42,4,42,5],[42,6,42,7],[42,8,42,18],[42,19,42,21],[43,2,43,3],[43,4,43,5],[43,6,43,7],[43,8,43,18],[43,19,43,21],[44,2,44,3],[44,4,44,5],[44,6,44,7],[44,8,44,18],[44,19,44,21],[45,2,45,3],[45,4,45,5],[45,6,45,7],[45,8,45,18],[45,19,45,21],[50,1,50,2]]}
[null,"SOMMAIRE MENSUEL ET CUMULATIF DES ACCIDENTS DE TRAVAIL DES ENTREPRENEURS"]
[]
[null,null,"Entrepreneur général :",{"$f":"Janvier!D3:G3","v":""},{"$nulls":4},"# de projet :",null,null,{"$f":"Janvier!L3:N3","v":""},null,null,"Mois concerné :",null,null,"Mai",null,null,"# Rév. :"]
[]
[null,null,"Chantier :",{"$f":"Janvier!D5:G5","v":""},{"$nulls":4},"# d'appel d'offre :",null,null,{"$f":"Janvier!L5:N5","v":""},null,null,"Année concernée :",null,null,{"$f":"Janvier!R5:S5","v":2020}]
[]
[null,null,"Rapport complété par :",{"$nulls":5},"Titre :",{"$nulls":5},"Date remplie :"]
[]
[null,"No","Liste des entrepreneurs et consultants",null,"Heures travaillées",null,"Premiers soins",null,"Assistance médicale",null,"Assignation temporaire",null,"Perte de temps",null,"Jours perdus",null,"Incident/\nDommage mat.",null,"Taux de fréquence",null,"Taux de gravité"]
[{"$nulls":4},"Mensuel","Cumulatif","Mens.","Cumul.","Mens.","Cumul.","Mens.","Cumul.","Mens.","Cumul.","Mens.","Cumul.","Mens.","Cumul.","Mens.","Cumul.","Mens.","Cumul."]
[null,1,{"$f":"IF(ISBLANK('Données générales'!B7),\"\",'Données générales'!B7)","v":""},{"$f":"IF(ISBLANK('Données générales'!C7),\"\",'Données générales'!C7)","v":""},null,{"$f":"E11+Avril!F11","v":{"v":0,"d":"0.00"}},null,{"$f":"G11+Avril!H11","v":0},null,{"$f":"I11+Avril!J11","v":0},null,{"$f":"K11+Avril!L11","v":0},null,{"$f":"M11+Avril!N11","v":0},null,{"$f":"O11+Avril!P11","v":0},null,{"$f":"Q11+Avril!R11","v":0},{"$f":"IFERROR(M11*1000000/E11,\"\")","v":""},{"$f":"IFERROR(N11*1000000/F11,\"\")","v":""},{"$f":"IFERROR(O11*1000000/E11,\"\")","v":""},{"$f":"IFERROR(P11*1000000/F11,\"\")","v":""}]
[null,2,{"$f":"IF(ISBLANK('Données générales'!B8),\"\",'Données générales'!B8)","v":""},{"$f":"IF(ISBLANK('Données générales'!C8),\"\",'Données générales'!C8)","v":""},null,{"$f":"E12+Avril!F12","v":{"v":0,"d":"0.00"}},null,{"$f":"G12+Avril!H12","v":0},null,{"$f":"I12+Avril!J12","v":0},null,{"$f":"K12+Avril!L12","v":0},null,{"$f":"M12+Avril!N12","v":0},null,{"$f":"O12+Avril!P12","v":0},null,{"$f":"Q12+Avril!R12","v":0},{"$f":"IFERROR(M12*1000000/E12,\"\")","v":""},"",{"$f":"IFERROR(O12*1000000/E12,\"\")","v":""},""]
[null,3,{"$f":"IF(ISBLANK('Données générales'!B9),\"\",'Données générales'!B9)","v":""},{"$f":"IF(ISBLANK('Données générales'!C9),\"\",'Données générales'!C9)","v":""},null,{"$f":"E13+Avril!F13","v":{"v":0,"d":"0.00"}},null,{"$f":"G13+Avril!H13","v":0},null,{"$f":"I13+Avril!J13","v":0},null,{"$f":"K13+Avril!L13","v":0},null,{"$f":"M13+Avril!N13","v":0},null,{"$f":"O13+Avril!P13","v":0},null,{"$f":"Q13+Avril!R13","v":0},"","","",""]
[null,4,{"$f":"IF(ISBLANK('Données générales'!B10),\"\",'Données générales'!B10)","v":""},{"$f":"IF(ISBLANK('Données générales'!C10),\"\",'Données générales'!C10)","v":""},null,{"$f":"E14+Avril!F14","v":{"v":0,"d":"0.00"}},null,{"$f":"G14+Avril!H14","v":0},null,{"$f":"I14+Avril!J14","v":0},null,{"$f":"K14+Avril!L14","v":0},null,{"$f":"M14+Avril!N14","v":0},null,{"$f":"O14+Avril!P14","v":0},null,{"$f":"Q14+Avril!R14","v":0},"","","",""]
[null,5,{"$f":"IF(ISBLANK('Données générales'!B11),\"\",'Données générales'!B11)","v":""},{"$f":"IF(ISBLANK('Données générales'!C11),\"\",'Données générales'!C11)","v":""},null,{"$f":"E15+Avril!F15","v":{"v":0,"d":"0.00"}},null,{"$f":"G15+Avril!H15","v":0},null,{"$f":"I15+Avril!J15","v":0},null,{"$f":"K15+Avril!L15","v":0},null,{"$f":"M15+Avril!N15","v":0},null,{"$f":"O15+Avril!P15","v":0},null,{"$f":"Q15+Avril!R15","v":0},"","","",""]
[null,6,{"$f":"IF(ISBLANK('Données générales'!B12),\"\",'Données générales'!B12)","v":""},{"$f":"IF(ISBLANK('Données générales'!C12),\"\",'Données générales'!C12)","v":""},null,{"$f":"E16+Avril!F16","v":{"v":0,"d":"0.00"}},null,{"$f":"G16+Avril!H16","v":0},null,{"$f":"I16+Avril!J16","v":0},null,{"$f":"K16+Avril!L16","v":0},null,{"$f":"M16+Avril!N16","v":0},null,{"$f":"O16+Avril!P16","v":0},null,{"$f":"Q16+Avril!R16","v":0},"","","",""]
[null,7,{"$f":"IF(ISBLANK('Données générales'!B13),\"\",'Données générales'!B13)","v":""},{"$f":"IF(ISBLANK('Données générales'!C13),\"\",'Données générales'!C13)","v":""},null,{"$f":"E17+Avril!F17","v":{"v":0,"d":"0.00"}},null,{"$f":"G17+Avril!H17","v":0},null,{"$f":"I17+Avril!J17","v":0},null,{"$f":"K17+Avril!L17","v":0},null,{"$f":"M17+Avril!N17","v":0},null,{"$f":"O17+Avril!P17","v":0},null,{"$f":"Q17+Avril!R17","v":0},"","","",""]
[null,8,{"$f":"IF(ISBLANK('Données générales'!B14),\"\",'Données générales'!B14)","v":""},{"$f":"IF(ISBLANK('Données générales'!C14),\"\",'Données générales'!C14)","v":""},null,{"$f":"E18+Avril!F18","v":{"v":0,"d":"0.00"}},null,{"$f":"G18+Avril!H18","v":0},null,{"$f":"I18+Avril!J18","v":0},null,{"$f":"K18+Avril!L18","v":0},null,{"$f":"M18+Avril!N18","v":0},null,{"$f":"O18+Avril!P18","v":0},null,{"$f":"Q18+Avril!R18","v":0},"","","",""]
[null,9,{"$f":"IF(ISBLANK('Données générales'!B15),\"\",'Données générales'!B15)","v":""},{"$f":"IF(ISBLANK('Données générales'!C15),\"\",'Données générales'!C15)","v":""},null,{"$f":"E19+Avril!F19","v":{"v":0,"d":"0.00"}},null,{"$f":"G19+Avril!H19","v":0},null,{"$f":"I19+Avril!J19","v":0},null,{"$f":"K19+Avril!L19","v":0},null,{"$f":"M19+Avril!N19","v":0},null,{"$f":"O19+Avril!P19","v":0},null,{"$f":"Q19+Avril!R19","v":0},"","","",""]
[null,10,{"$f":"IF(ISBLANK('Données générales'!B16),\"\",'Données générales'!B16)","v":""},{"$f":"IF(ISBLANK('Données générales'!C16),\"\",'Données générales'!C16)","v":""},null,{"$f":"E20+Avril!F20","v":{"v":0,"d":"0.00"}},null,{"$f":"G20+Avril!H20","v":0},null,{"$f":"I20+Avril!J20","v":0},null,{"$f":"K20+Avril!L20","v":0},null,{"$f":"M20+Avril!N20","v":0},null,{"$f":"O20+Avril!P20","v":0},null,{"$f":"Q20+Avril!R20","v":0},"","","",""]
[null,11,{"$f":"IF(ISBLANK('Données générales'!B17),\"\",'Données générales'!B17)","v":""},{"$f":"IF(ISBLANK('Données générales'!C17),\"\",'Données générales'!C17)","v":""},null,{"$f":"E21+Avril!F21","v":{"v":0,"d":"0.00"}},null,{"$f":"G21+Avril!H21","v":0},null,{"$f":"I21+Avril!J21","v":0},null,{"$f":"K21+Avril!L21","v":0},null,{"$f":"M21+Avril!N21","v":0},null,{"$f":"O21+Avril!P21","v":0},null,{"$f":"Q21+Avril!R21","v":0},"","","",""]
[null,12,{"$f":"IF(ISBLANK('Données générales'!B18),\"\",'Données générales'!B18)","v":""},{"$f":"IF(ISBLANK('Données générales'!C18),\"\",'Données générales'!C18)","v":""},null,{"$f":"E22+Avril!F22","v":{"v":0,"d":"0.00"}},null,{"$f":"G22+Avril!H22","v":0},null,{"$f":"I22+Avril!J22","v":0},null,{"$f":"K22+Avril!L22","v":0},null,{"$f":"M22+Avril!N22","v":0},null,{"$f":"O22+Avril!P22","v":0},null,{"$f":"Q22+Avril!R22","v":0},"","","",""]
[null,13,{"$f":"IF(ISBLANK('Données générales'!B19),\"\",'Données générales'!B19)","v":""},{"$f":"IF(ISBLANK('Données générales'!C19),\"\",'Données générales'!C19)","v":""},null,{"$f":"E23+Avril!F23","v":{"v":0,"d":"0.00"}},null,{"$f":"G23+Avril!H23","v":0},null,{"$f":"I23+Avril!J23","v":0},null,{"$f":"K23+Avril!L23","v":0},null,{"$f":"M23+Avril!N23","v":0},null,{"$f":"O23+Avril!P23","v":0},null,{"$f":"Q23+Avril!R23","v":0},"","","",""]
[null,14,{"$f":"IF(ISBLANK('Données générales'!B20),\"\",'Données générales'!B20)","v":""},{"$f":"IF(ISBLANK('Données générales'!C20),\"\",'Données générales'!C20)","v":""},null,{"$f":"E24+Avril!F24","v":{"v":0,"d":"0.00"}},null,{"$f":"G24+Avril!H24","v":0},null,{"$f":"I24+Avril!J24","v":0},null,{"$f":"K24+Avril!L24","v":0},null,{"$f":"M24+Avril!N24","v":0},null,{"$f":"O24+Avril!P24","v":0},null,{"$f":"Q24+Avril!R24","v":0},"","","",""]
[null,15,{"$f":"IF(ISBLANK('Données générales'!B26),\"\",'Données générales'!B26)","v":""},{"$f":"IF(ISBLANK('Données générales'!C26),\"\",'Données générales'!C26)","v":""},null,{"$f":"E25+Avril!F25","v":{"v":0,"d":"0.00"}},null,{"$f":"G25+Avril!H25","v":0},null,{"$f":"I25+Avril!J25","v":0},null,{"$f":"K25+Avril!L25","v":0},null,{"$f":"M25+Avril!N25","v":0},null,{"$f":"O25+Avril!P25","v":0},null,{"$f":"Q25+Avril!R25","v":0},"","","",""]
[null,16,{"$f":"IF(ISBLANK('Données générales'!B22),\"\",'Données générales'!B22)","v":""},{"$f":"IF(ISBLANK('Données générales'!C22),\"\",'Données générales'!C22)","v":""},null,{"$f":"E26+Avril!F26","v":{"v":0,"d":"0.00"}},null,{"$f":"G26+Avril!H26","v":0},null,{"$f":"I26+Avril!J26","v":0},null,{"$f":"K26+Avril!L26","v":0},null,{"$f":"M26+Avril!N26","v":0},null,{"$f":"O26+Avril!P26","v":0},null,{"$f":"Q26+Avril!R26","v":0},"","","",""]
[null,17,{"$f":"IF(ISBLANK('Données générales'!B23),\"\",'Données générales'!B23)","v":""},{"$f":"IF(ISBLANK('Données générales'!C23),\"\",'Données générales'!C23)","v":""},null,{"$f":"E27+Avril!F27","v":{"v":0,"d":"0.00"}},null,{"$f":"G27+Avril!H27","v":0},null,{"$f":"I27+Avril!J27","v":0},null,{"$f":"K27+Avril!L27","v":0},null,{"$f":"M27+Avril!N27","v":0},null,{"$f":"O27+Avril!P27","v":0},null,{"$f":"Q27+Avril!R27","v":0},{"$f":"IFERROR(M27*1000000/E27,\"\")","v":""},"","",""]
[null,18,{"$f":"IF(ISBLANK('Données générales'!B24),\"\",'Données générales'!B24)","v":""},{"$f":"IF(ISBLANK('Données générales'!C24),\"\",'Données générales'!C24)","v":""},null,{"$f":"E28+Avril!F28","v":{"v":0,"d":"0.00"}},null,{"$f":"G28+Avril!H28","v":0},null,{"$f":"I28+Avril!J28","v":0},null,{"$f":"K28+Avril!L28","v":0},null,{"$f":"M28+Avril!N28","v":0},null,{"$f":"O28+Avril!P28","v":0},null,{"$f":"Q28+Avril!R28","v":0},"","","",""]
[null,19,{"$f":"IF(ISBLANK('Données générales'!B25),\"\",'Données générales'!B25)","v":""},{"$f":"IF(ISBLANK('Données générales'!C25),\"\",'Données générales'!C25)","v":""},null,{"$f":"E29+Avril!F29","v":{"v":0,"d":"0.00"}},null,{"$f":"G29+Avril!H29","v":0},null,{"$f":"I29+Avril!J29","v":0},null,{"$f":"K29+Avril!L29","v":0},null,{"$f":"M29+Avril!N29","v":0},null,{"$f":"O29+Avril!P29","v":0},null,{"$f":"Q29+Avril!R29","v":0},"","","",""]
[null,20,{"$f":"IF(ISBLANK('Données générales'!B26),\"\",'Données générales'!B26)","v":""},{"$f":"IF(ISBLANK('Données générales'!C26),\"\",'Données générales'!C26)","v":""},null,{"$f":"E30+Avril!F30","v":{"v":0,"d":"0.00"}},null,{"$f":"G30+Avril!H30","v":0},null,{"$f":"I30+Avril!J30","v":0},null,{"$f":"K30+Avril!L30","v":0},null,{"$f":"M30+Avril!N30","v":0},null,{"$f":"O30+Avril!P30","v":0},null,{"$f":"Q30+Avril!R30","v":0},"","","",""]
[null,null,"Total",null,{"$f":"SUM(E11:E30)","v":{"v":0,"d":"0.00"}},{"$f":"SUM(F11:F30)","v":{"v":0,"d":"0.00"}},{"$f":"SUM(G11:G30)","v":0},{"$f":"SUM(H11:H30)","v":0},0,0,0,0,0,0,0,0,0,0,{"$f":"IFERROR(M31*200000/E31,\"\")","v":""},{"$f":"IFERROR(N31*200000/F31,\"\")","v":""},{"$f":"IFERROR(O31*200000/E31,\"\")","v":""},{"$f":"IFERROR(P31*200000/F31,\"\")","v":""}]
[null,"Approbation du gestionnaire de chantier d'Hydro-Québec :\n                                                         AA/MM/JJ",null,null,"*EG : Entrepreneur Général\n*ST : Sous-traitant\n*C : Consultant",null,"Taux de fréquence = Nbre de perte de temps X 200 000\n                                    Nbre d'heures travaillées",{"$nulls":8},"Taux de gravité = Nbre de jours perdus X 200 000\n                              Nbre d'heures travaillées"]
[]
[null,"Sommaire des évènements\n(À remplir si les rapports d'évènements ne sont pas envoyés en même temps)"]
[]
[null,"No","Entrepreneur",null,"Date",null,"Type d'évènement",null,"Description",{"$nulls":10},"Si perte de temps\nNombre de jours perdus"]
[null,1]
[null,2]
[null,3]
[null,4]
[null,5]
[null,6]
[null,7]
[null,8]
[null,9]
[null,10]
[]
[]
[]
[]
[null,"Listes déroulantes :"]
[]
[null,null,"Identification",null,null,"Unité administrative",{"$nulls":5},"Conséquences",null,null,"Mois",{"$nulls":3},"Année"]
[]
[null,null,"EG*",null,null,"DPPTC - Projets Poste",{"$nulls":5},"Premier soin",null,null,"Janvier",{"$nulls":3},2011]
[null,null,"ST*",null,null,"DPPTC - Projets Ligne",{"$nulls":5},"Assistance médicale",null,null,"Février",{"$nulls":3},2012]
[null,null,"C*",null,null,"DPPTC - Projets ICR-Interconnexion",{"$nulls":5},"Assignation temporaire",null,null,"Mars",{"$nulls":3},2013]
[{"$nulls":5},"SEBJ - Dir. Projets Eastmain",{"$nulls":5},"Perte de temps",null,null,"Avril",{"$nulls":3},2014]
[{"$nulls":5},"Gentilly II",{"$nulls":5},"Incident",null,null,"Mai",{"$nulls":3},2015]
[{"$nulls":5},"GPMB Baie-Comeau",{"$nulls":5},"Dommage matériel",null,null,"Juin",{"$nulls":3},2016]
[{"$nulls":5},"GPMB Chicoutimi",{"$nulls":8},"Juillet",{"$nulls":3},2017]
[{"$nulls":5},"GPMB Rimouski",{"$nulls":8},"Août",{"$nulls":3},2018]
[{"$nulls":5},"GPMB  territoire Ouest",{"$nulls":8},"Septembre",{"$nulls":3},2019]
[{"$nulls":5},"GPMB  territoire Sud et Ouest",{"$nulls":8},"Octobre",{"$nulls":3},2020]
[{"$nulls":5},"GPMB  Trois-Rivières",{"$nulls":8},"Novembre",{"$nulls":3},2021]
[{"$nulls":5},"Projets de centrales Romaine",{"$nulls":8},"Décembre",{"$nulls":3},2022]
[{"$nulls":5},"DPPP - Réfections - Projets 2",{"$nulls":12},2023]
[{"$nulls":5},"DPPP - Réfections - Projets 4",{"$nulls":12},2024]
[{"$nulls":5},"DPPP - Réfections - Projets 5",{"$nulls":12},2025]
[{"$nulls":5},"DPPP - Réfections - Projets 6",{"$nulls":12},2026]
[{"$nulls":5},"DPPP - Réfections - Projets 7",{"$nulls":12},2027]
[{"$nulls":18},2028]
[{"$nulls":18},2029]
[{"$nulls":18},2030]

{"sheet":"Juin","index":7,"n_rows":74,"n_cols":22,"rows_kept":74,"merged":[[0,1,0,21],[2,3,2,6],[2,8,2,10],[2,11,2,13],[2,14,2,16],[2,17,2,18],[4,3,4,6],[4,8,4,10],[4,11,4,13],[4,14,4,16],[4,17,4,18],[6,3,6,6],[6,8,6,10],[6,11,6,13],[6,14,6,16],[6,17,6,18],[8,1,9,1],[8,2,9,3],[8,4,8,5],[8,6,8,7],[8,8,8,9],[8,10,8,11],[8,12,8,13],[8,14,8,15],[8,16,8,17],[8,18,8,19],[8,20,8,21],[30,2,30,3],[31,1,31,3],[31,4,31,5],[31,6,31,14],[31,15,31,21],[33,1,33,18],[35,2,35,3],[35,4,35,5],[35,6,35,7],[35,8,35,18],[35,19,35,21],[36,2,36,3],[36,4,36,5],[36,6,36,7],[36,8,36,18],[36,19,36,21],[37,2,37,3],[37,4,37,5],[37,6,37,7],[37,8,37,18],[37,19,37,21],[38,2,38,3],[38,4,38,5],[38,6,38,7],[38,8,38,18],[38,19,38,21],[39,2,39,3],[39,4,39,5],[39,6,39,7],[39,8,39,18],[39,19,39,21],[40,2,40,3],[40,4,40,5],[40,6,40,7],[40,8,40,18],[40,19,40,21],[41,2,41,3],[41,4,41,5],[41,6,41,7],[41,8,41,18],[41,19,41,21],[42,2,42,3],[42,4,42,5],[42,6,42,7],[42,8,42,18],[42,19,42,21],[43,2,43,3],[43,4,43,5],[43,6,43,7],[43,8,43,18],[43,19,43,21],[44,2,44,3],[44,4,44,5],[44,6,44,7],[44,8,44,18],[44,19,44,21],[45,2,45,3],[45,4,45,5],[45,6,45,7],[45,8,45,18],[45,19,45,21],[50,1,50,2]]}
[null,"SOMMAIRE MENSUEL ET CUMULATIF DES ACCIDENTS DE TRAVAIL DES ENTREPRENEURS"]
[]
[null,null,"Entrepreneur général :",{"$f":"Janvier!D3:G3","v":""},{"$nulls":4},"# de projet :",null,null,{"$f":"Janvier!L3:N3","v":""},null,null,"Mois concerné :",null,null,"Juin",null,null,"# Rév. :"]
[]
[null,null,"Chantier :",{"$f":"Janvier!D5:G5","v":""},{"$nulls":4},"# d'appel d'offre :",null,null,{"$f":"Janvier!L5:N5","v":""},null,null,"Année concernée :",null,null,{"$f":"Janvier!R5:S5","v":2020}]
[]
[null,null,"Rapport complété par :",{"$nulls":5},"Titre :",{"$nulls":5},"Date remplie :"]
[]
[null,"No","Liste des entrepreneurs et consultants",null,"Heures travaillées",null,"Premiers soins",null,"Assistance médicale",null,"Assignation temporaire",null,"Perte de temps",null,"Jours perdus",null,"Incident/\nDommage mat.",null,"Taux de fréquence",null,"Taux de gravité"]
[{"$nulls":4},"Mensuel","Cumulatif","Mens.","Cumul.","Mens.","Cumul.","Mens.","Cumul.","Mens.","Cumul.","Mens.","Cumul.","Mens.","Cumul.","Mens.","Cumul.","Mens.","Cumul."]
[null,1,{"$f":"IF(ISBLANK('Données générales'!B7),\"\",'Données générales'!B7)","v":""},{"$f":"IF(ISBLANK('Données générales'!C7),\"\",'Données générales'!C7)","v":""},null,{"$f":"E11+Mai!F11","v":{"v":0,"d":"0.00"}},null,{"$f":"G11+Mai!H11","v":0},null,{"$f":"I11+Mai!J11","v":0},null,{"$f":"K11+Mai!L11","v":0},null,{"$f":"M11+Mai!N11","v":0},null,{"$f":"O11+Mai!P11","v":0},null,{"$f":"Q11+Mai!R11","v":0},{"$f":"IFERROR(M11*1000000/E11,\"\")","v":""},{"$f":"IFERROR(N11*1000000/F11,\"\")","v":""},{"$f":"IFERROR(O11*1000000/E11,\"\")","v":""},{"$f":"IFERROR(P11*1000000/F11,\"\")","v":""}]
[null,2,{"$f":"IF(ISBLANK('Données générales'!B8),\"\",'Données générales'!B8)","v":""},{"$f":"IF(ISBLANK('Données générales'!C8),\"\",'Données générales'!C8)","v":""},null,{"$f":"E12+Mai!F12","v":{"v":0,"d":"0.00"}},null,{"$f":"G12+Mai!H12","v":0},null,{"$f":"I12+Mai!J12","v":0},null,{"$f":"K12+Mai!L12","v":0},null,{"$f":"M12+Mai!N12","v":0},null,{"$f":"O12+Mai!P12","v":0},null,{"$f":"Q12+Mai!R12","v":0},{"$f":"IFERROR(M12*1000000/E12,\"\")","v":""},"",{"$f":"IFERROR(O12*1000000/E12,\"\")","v":""},""]
[null,3,{"$f":"IF(ISBLANK('Données générales'!B9),\"\",'Données générales'!B9)","v":""},{"$f":"IF(ISBLANK('Données générales'!C9),\"\",'Données générales'!C9)","v":""},null,{"$f":"E13+Mai!F13","v":{"v":0,"d":"0.00"}},null,{"$f":"G13+Mai!H13","v":0},null,{"$f":"I13+Mai!J13","v":0},null,{"$f":"K13+Mai!L13","v":0},null,{"$f":"M13+Mai!N13","v":0},null,{"$f":"O13+Mai!P13","v":0},null,{"$f":"Q13+Mai!R13","v":0},"","","",""]
[null,4,{"$f":"IF(ISBLANK('Données générales'!B10),\"\",'Données générales'!B10)","v":""},{"$f":"IF(ISBLANK('Données générales'!C10),\"\",'Données générales'!C10)","v":""},null,{"$f":"E14+Mai!F14","v":{"v":0,"d":"0.00"}},null,{"$f":"G14+Mai!H14","v":0},null,{"$f":"I14+Mai!J14","v":0},null,{"$f":"K14+Mai!L14","v":0},null,{"$f":"M14+Mai!N14","v":0},null,{"$f":"O14+Mai!P14","v":0},null,{"$f":"Q14+Mai!R14","v":0},"","","",""]
[null,5,{"$f":"IF(ISBLANK('Données générales'!B11),\"\",'Données générales'!B11)","v":""},{"$f":"IF(ISBLANK('Données générales'!C11),\"\",'Données générales'!C11)","v":""},null,{"$f":"E15+Mai!F15","v":{"v":0,"d":"0.00"}},null,{"$f":"G15+Mai!H15","v":0},null,{"$f":"I15+Mai!J15","v":0},null,{"$f":"K15+Mai!L15","v":0},null,{"$f":"M15+Mai!N15","v":0},null,{"$f":"O15+Mai!P15","v":0},null,{"$f":"Q15+Mai!R15","v":0},"","","",""]
[null,6,{"$f":"IF(ISBLANK('Données générales'!B12),\"\",'Données générales'!B12)","v":""},{"$f":"IF(ISBLANK('Données générales'!C12),\"\",'Données générales'!C12)","v":""},null,{"$f":"E16+Mai!F16","v":{"v":0,"d":"0.00"}},null,{"$f":"G16+Mai!H16","v":0},null,{"$f":"I16+Mai!J16","v":0},null,{"$f":"K16+Mai!L16","v":0},null,{"$f":"M16+Mai!N16","v":0},null,{"$f":"O16+Mai!P16","v":0},null,{"$f":"Q16+Mai!R16","v":0},"","","",""]
[null,7,{"$f":"IF(ISBLANK('Données générales'!B13),\"\",'Données générales'!B13)","v":""},{"$f":"IF(ISBLANK('Données générales'!C13),\"\",'Données générales'!C13)","v":""},null,{"$f":"E17+Mai!F17","v":{"v":0,"d":"0.00"}},null,{"$f":"G17+Mai!H17","v":0},null,{"$f":"I17+Mai!J17","v":0},null,{"$f":"K17+Mai!L17","v":0},null,{"$f":"M17+Mai!N17","v":0},null,{"$f":"O17+Mai!P17","v":0},null,{"$f":"Q17+Mai!R17","v":0},"","","",""]
[null,8,{"$f":"IF(ISBLANK('Données générales'!B14),\"\",'Données générales'!B14)","v":""},{"$f":"IF(ISBLANK('Données générales'!C14),\"\",'Données générales'!C14)","v":""},null,{"$f":"E18+Mai!F18","v":{"v":0,"d":"0.00"}},null,{"$f":"G18+Mai!H18","v":0},null,{"$f":"I18+Mai!J18","v":0},null,{"$f":"K18+Mai!L18","v":0},null,{"$f":"M18+Mai!N18","v":0},null,{"$f":"O18+Mai!P18","v":0},null,{"$f":"Q18+Mai!R18","v":0},"","","",""]
[null,9,{"$f":"IF(ISBLANK('Données générales'!B15),\"\",'Données générales'!B15)","v":""},{"$f":"IF(ISBLANK('Données générales'!C15),\"\",'Données générales'!C15)","v":""},null,{"$f":"E19+Mai!F19","v":{"v":0,"d":"0.00"}},null,{"$f":"G19+Mai!H19","v":0},null,{"$f":"I19+Mai!J19","v":0},null,{"$f":"K19+Mai!L19","v":0},null,{"$f":"M19+Mai!N19","v":0},null,{"$f":"O19+Mai!P19","v":0},null,{"$f":"Q19+Mai!R19","v":0},"","","",""]
[null,10,{"$f":"IF(ISBLANK('Données générales'!B16),\"\",'Données générales'!B16)","v":""},{"$f":"IF(ISBLANK('Données générales'!C16),\"\",'Données générales'!C16)","v":""},null,{"$f":"E20+Mai!F20","v":{"v":0,"d":"0.00"}},null,{"$f":"G20+Mai!H20","v":0},null,{"$f":"I20+Mai!J20","v":0},null,{"$f":"K20+Mai!L20","v":0},null,{"$f":"M20+Mai!N20","v":0},null,{"$f":"O20+Mai!P20","v":0},null,{"$f":"Q20+Mai!R20","v":0},"","","",""]
[null,11,{"$f":"IF(ISBLANK('Données générales'!B17),\"\",'Données générales'!B17)","v":""},{"$f":"IF(ISBLANK('Données générales'!C17),\"\",'Données générales'!C17)","v":""},null,{"$f":"E21+Mai!F21","v":{"v":0,"d":"0.00"}},null,{"$f":"G21+Mai!H21","v":0},null,{"$f":"I21+Mai!J21","v":0},null,{"$f":"K21+Mai!L21","v":0},null,{"$f":"M21+Mai!N21","v":0},null,{"$f":"O21+Mai!P21","v":0},null,{"$f":"Q21+Mai!R21","v":0},"","","",""]
[null,12,{"$f":"IF(ISBLANK('Données générales'!B18),\"\",'Données générales'!B18)","v":""},{"$f":"IF(ISBLANK('Données générales'!C18),\"\",'Données générales'!C18)","v":""},null,{"$f":"E22+Mai!F22","v":{"v":0,"d":"0.00"}},null,{"$f":"G22+Mai!H22","v":0},null,{"$f":"I22+Mai!J22","v":0},null,{"$f":"K22+Mai!L22","v":0},null,{"$f":"M22+Mai!N22","v":0},null,{"$f":"O22+Mai!P22","v":0},null,{"$f":"Q22+Mai!R22","v":0},"","","",""]
[null,13,{"$f":"IF(ISBLANK('Données générales'!B19),\"\",'Données générales'!B19)","v":""},{"$f":"IF(ISBLANK('Données générales'!C19),\"\",'Données générales'!C19)","v":""},null,{"$f":"E23+Mai!F23","v":{"v":0,"d":"0.00"}},null,{"$f":"G23+Mai!H23","v":0},null,{"$f":"I23+Mai!J23","v":0},null,{"$f":"K23+Mai!L23","v":0},null,{"$f":"M23+Mai!N23","v":0},null,{"$f":"O23+Mai!P23","v":0},null,{"$f":"Q23+Mai!R23","v":0},"","","",""]
[null,14,{"$f":"IF(ISBLANK('Données générales'!B20),\"\",'Données générales'!B20)","v":""},{"$f":"IF(ISBLANK('Données générales'!C20),\"\",'Données générales'!C20)","v":""},null,{"$f":"E24+Mai!F24","v":{"v":0,"d":"0.00"}},null,{"$f":"G24+Mai!H24","v":0},null,{"$f":"I24+Mai!J24","v":0},null,{"$f":"K24+Mai!L24","v":0},null,{"$f":"M24+Mai!N24","v":0},null,{"$f":"O24+Mai!P24","v":0},null,{"$f":"Q24+Mai!R24","v":0},"","","",""]
[null,15,{"$f":"IF(ISBLANK('Données générales'!B26),\"\",'Données générales'!B26)","v":""},{"$f":"IF(ISBLANK('Données générales'!C26),\"\",'Données générales'!C26)","v":""},null,{"$f":"E25+Mai!F25","v":{"v":0,"d":"0.00"}},null,{"$f":"G25+Mai!H25","v":0},null,{"$f":"I25+Mai!J25","v":0},null,{"$f":"K25+Mai!L25","v":0},null,{"$f":"M25+Mai!N25","v":0},null,{"$f":"O25+Mai!P25","v":0},null,{"$f":"Q25+Mai!R25","v":0},"","","",""]
[null,16,{"$f":"IF(ISBLANK('Données générales'!B22),\"\",'Données générales'!B22)","v":""},{"$f":"IF(ISBLANK('Données générales'!C22),\"\",'Données générales'!C22)","v":""},null,{"$f":"E26+Mai!F26","v":{"v":0,"d":"0.00"}},null,{"$f":"G26+Mai!H26","v":0},null,{"$f":"I26+Mai!J26","v":0},null,{"$f":"K26+Mai!L26","v":0},null,{"$f":"M26+Mai!N26","v":0},null,{"$f":"O26+Mai!P26","v":0},null,{"$f":"Q26+Mai!R26","v":0},"","","",""]
[null,17,{"$f":"IF(ISBLANK('Données générales'!B23),\"\",'Données générales'!B23)","v":""},{"$f":"IF(ISBLANK('Données générales'!C23),\"\",'Données générales'!C23)","v":""},null,{"$f":"E27+Mai!F27","v":{"v":0,"d":"0.00"}},null,{"$f":"G27+Mai!H27","v":0},null,{"$f":"I27+Mai!J27","v":0},null,{"$f":"K27+Mai!L27","v":0},null,{"$f":"M27+Mai!N27","v":0},null,{"$f":"O27+Mai!P27","v":0},null,{"$f":"Q27+Mai!R27","v":0},{"$f":"IFERROR(M27*1000000/E27,\"\")","v":""},"","",""]
[null,18,{"$f":"IF(ISBLANK('Données générales'!B24),\"\",'Données générales'!B24)","v":""},{"$f":"IF(ISBLANK('Données générales'!C24),\"\",'Données générales'!C24)","v":""},null,{"$f":"E28+Mai!F28","v":{"v":0,"d":"0.00"}},null,{"$f":"G28+Mai!H28","v":0},null,{"$f":"I28+Mai!J28","v":0},null,{"$f":"K28+Mai!L28","v":0},null,{"$f":"M28+Mai!N28","v":0},null,{"$f":"O28+Mai!P28","v":0},null,{"$f":"Q28+Mai!R28","v":0},"","","",""]
[null,19,{"$f":"IF(ISBLANK('Données générales'!B25),\"\",'Données générales'!B25)","v":""},{"$f":"IF(ISBLANK('Données générales'!C25),\"\",'Données générales'!C25)","v":""},null,{"$f":"E29+Mai!F29","v":{"v":0,"d":"0.00"}},null,{"$f":"G29+Mai!H29","v":0},null,{"$f":"I29+Mai!J29","v":0},null,{"$f":"K29+Mai!L29","v":0},null,{"$f":"M29+Mai!N29","v":0},null,{"$f":"O29+Mai!P29","v":0},null,{"$f":"Q29+Mai!R29","v":0},"","","",""]
[null,20,{"$f":"IF(ISBLANK('Données générales'!B26),\"\",'Données générales'!B26)","v":""},{"$f":"IF(ISBLANK('Données générales'!C26),\"\",'Données générales'!C26)","v":""},null,{"$f":"E30+Mai!F30","v":{"v":0,"d":"0.00"}},null,{"$f":"G30+Mai!H30","v":0},null,{"$f":"I30+Mai!J30","v":0},null,{"$f":"K30+Mai!L30","v":0},null,{"$f":"M30+Mai!N30","v":0},null,{"$f":"O30+Mai!P30","v":0},null,{"$f":"Q30+Mai!R30","v":0},"","","",""]
[null,null,"Total",null,{"$f":"SUM(E11:E30)","v":{"v":0,"d":"0.00"}},{"$f":"SUM(F11:F30)","v":{"v":0,"d":"0.00"}},{"$f":"SUM(G11:G30)","v":0},{"$f":"SUM(H11:H30)","v":0},0,0,0,0,0,0,0,0,0,0,{"$f":"IFERROR(M31*200000/E31,\"\")","v":""},{"$f":"IFERROR(N31*200000/F31,\"\")","v":""},{"$f":"IFERROR(O31*200000/E31,\"\")","v":""},{"$f":"IFERROR(P31*200000/F31,\"\")","v":""}]
[null,"Approbation du gestionnaire de chantier d'Hydro-Québec :\n                                                         AA/MM/JJ",null,null,"*EG : Entrepreneur Général\n*ST : Sous-traitant\n*C : Consultant",null,"Taux de fréquence = Nbre de perte de temps X 200 000\n                                    Nbre d'heures travaillées",{"$nulls":8},"Taux de gravité = Nbre de jours perdus X 200 000\n                              Nbre d'heures travaillées"]
[]
[null,"Sommaire des évènements\n(À remplir si les rapports d'évènements ne sont pas envoyés en même temps)"]
[]
[null,"No","Entrepreneur",null,"Date",null,"Type d'évènement",null,"Description",{"$nulls":10},"Si perte de temps\nNombre de jours perdus"]
[null,1]
[null,2]
[null,3]
[null,4]
[null,5]
[null,6]
[null,7]
[null,8]
[null,9]
[null,10]
[]
[]
[]
[]
[null,"Listes déroulantes :"]
[]
[null,null,"Identification",null,null,"Unité administrative",{"$nulls":5},"Conséquences",null,null,"Mois",{"$nulls":3},"Année"]
[]
[null,null,"EG*",null,null,"DPPTC - Projets Poste",{"$nulls":5},"Premier soin",null,null,"Janvier",{"$nulls":3},2011]
[null,null,"ST*",null,null,"DPPTC - Projets Ligne",{"$nulls":5},"Assistance médicale",null,null,"Février",{"$nulls":3},2012]
[null,null,"C*",null,null,"DPPTC - Projets ICR-Interconnexion",{"$nulls":5},"Assignation temporaire",null,null,"Mars",{"$nulls":3},2013]
[{"$nulls":5},"SEBJ - Dir. Projets Eastmain",{"$nulls":5},"Perte de temps",null,null,"Avril",{"$nulls":3},2014]
[{"$nulls":5},"Gentilly II",{"$nulls":5},"Incident",null,null,"Mai",{"$nulls":3},2015]
[{"$nulls":5},"GPMB Baie-Comeau",{"$nulls":5},"Dommage matériel",null,null,"Juin",{"$nulls":3},2016]
[{"$nulls":5},"GPMB Chicoutimi",{"$nulls":8},"Juillet",{"$nulls":3},2017]
[{"$nulls":5},"GPMB Rimouski",{"$nulls":8},"Août",{"$nulls":3},2018]
[{"$nulls":5},"GPMB  territoire Ouest",{"$nulls":8},"Septembre",{"$nulls":3},2019]
[{"$nulls":5},"GPMB  territoire Sud et Ouest",{"$nulls":8},"Octobre",{"$nulls":3},2020]
[{"$nulls":5},"GPMB  Trois-Rivières",{"$nulls":8},"Novembre",{"$nulls":3},2021]
[{"$nulls":5},"Projets de centrales Romaine",{"$nulls":8},"Décembre",{"$nulls":3},2022]
[{"$nulls":5},"DPPP - Réfections - Projets 2",{"$nulls":12},2023]
[{"$nulls":5},"DPPP - Réfections - Projets 4",{"$nulls":12},2024]
[{"$nulls":5},"DPPP - Réfections - Projets 5",{"$nulls":12},2025]
[{"$nulls":5},"DPPP - Réfections - Projets 6",{"$nulls":12},2026]
[{"$nulls":5},"DPPP - Réfections - Projets 7",{"$nulls":12},2027]
[{"$nulls":18},2028]
[{"$nulls":18},2029]
[{"$nulls":18},2030]

{"sheet":"Juillet","index":8,"n_rows":74,"n_cols":22,"rows_kept":74,"merged":[[0,1,0,21],[2,3,2,6],[2,8,2,10],[2,11,2,13],[2,14,2,16],[2,17,2,18],[4,3,4,6],[4,8,4,10],[4,11,4,13],[4,14,4,16],[4,17,4,18],[6,3,6,6],[6,8,6,10],[6,11,6,13],[6,14,6,16],[6,17,6,18],[8,1,9,1],[8,2,9,3],[8,4,8,5],[8,6,8,7],[8,8,8,9],[8,10,8,11],[8,12,8,13],[8,14,8,15],[8,16,8,17],[8,18,8,19],[8,20,8,21],[30,2,30,3],[31,1,31,3],[31,4,31,5],[31,6,31,14],[31,15,31,21],[33,1,33,18],[35,2,35,3],[35,4,35,5],[35,6,35,7],[35,8,35,18],[35,19,35,21],[36,2,36,3],[36,4,36,5],[36,6,36,7],[36,8,36,18],[36,19,36,21],[37,2,37,3],[37,4,37,5],[37,6,37,7],[37,8,37,18],[37,19,37,21],[38,2,38,3],[38,4,38,5],[38,6,38,7],[38,8,38,18],[38,19,38,21],[39,2,39,3],[39,4,39,5],[39,6,39,7],[39,8,39,18],[39,19,39,21],[40,2,40,3],[40,4,40,5],[40,6,40,7],[40,8,40,18],[40,19,40,21],[41,2,41,3],[41,4,41,5],[41,6,41,7],[41,8,41,18],[41,19,41,21],[42,2,42,3],[42,4,42,5],[42,6,42,7],[42,8,42,18],[42,19,42,21],[43,2,43,3],[43,4,43,5],[43,6,43,7],[43,8,43,18],[43,19,43,21],[44,2,44,3],[44,4,44,5],[44,6,44,7],[44,8,44,18],[44,19,44,21],[45,2,45,3],[45,4,45,5],[45,6,45,7],[45,8,45,18],[45,19,45,21],[50,1,50,2]]}
[null,"SOMMAIRE MENSUEL ET CUMULATIF DES ACCIDENTS DE TRAVAIL DES ENTREPRENEURS"]
[]
[null,null,"Entrepreneur général :",{"$f":"Janvier!D3:G3","v":""},{"$nulls":4},"# de projet :",null,null,{"$f":"Janvier!L3:N3","v":""},null,null,"Mois concerné :",null,null,"Juillet",null,null,"# Rév. :"]
[]
[null,null,"Chantier :",{"$f":"Janvier!D5:G5","v":""},{"$nulls":4},"# d'appel d'offre :",null,null,{"$f":"Janvier!L5:N5","v":""},null,null,"Année concernée :",null,null,{"$f":"Janvier!R5:S5","v":2020}]
[]
[null,null,"Rapport complété par :",{"$nulls":5},"Titre :",{"$nulls":5},"Date remplie :"]
[]
[null,"No","Liste des entrepreneurs et consultants",null,"Heures travaillées",null,"Premiers soins",null,"Assistance médicale",null,"Assignation temporaire",null,"Perte de temps",null,"Jours perdus",null,"Incident/\nDommage mat.",null,"Taux de fréquence",null,"Taux de gravité"]
[{"$nulls":4},"Mensuel","Cumulatif","Mens.","Cumul.","Mens.","Cumul.","Mens.","Cumul.","Mens.","Cumul.","Mens.","Cumul.","Mens.","Cumul.","Mens.","Cumul.","Mens.","Cumul."]
[null,1,{"$f":"IF(ISBLANK('Données générales'!B7),\"\",'Données générales'!B7)","v":""},{"$f":"IF(ISBLANK('Données générales'!C7),\"\",'Données générales'!C7)","v":""},null,{"$f":"E11+Juin!F11","v":{"v":0,"d":"0.00"}},null,{"$f":"G11+Juin!H11","v":0},null,{"$f":"I11+Juin!J11","v":0},null,{"$f":"K11+Juin!L11","v":0},null,{"$f":"M11+Juin!N11","v":0},null,{"$f":"O11+Juin!P11","v":0},null,{"$f":"Q11+Juin!R11","v":0},{"$f":"IFERROR(M11*1000000/E11,\"\")","v":""},{"$f":"IFERROR(N11*1000000/F11,\"\")","v":""},{"$f":"IFERROR(O11*1000000/E11,\"\")","v":""},{"$f":"IFERROR(P11*1000000/F11,\"\")","v":""}]
[null,2,{"$f":"IF(ISBLANK('Données générales'!B8),\"\",'Données générales'!B8)","v":""},{"$f":"IF(ISBLANK('Données générales'!C8),\"\",'Données générales'!C8)","v":""},null,{"$f":"E12+Juin!F12","v":{"v":0,"d":"0.00"}},null,{"$f":"G12+Juin!H12","v":0},null,{"$f":"I12+Juin!J12","v":0},null,{"$f":"K12+Juin!L12","v":0},null,{"$f":"M12+Juin!N12","v":0},null,{"$f":"O12+Juin!P12","v":0},null,{"$f":"Q12+Juin!R12","v":0},{"$f":"IFERROR(M12*1000000/E12,\"\")","v":""},"",{"$f":"IFERROR(O12*1000000/E12,\"\")","v":""},""]
[null,3,{"$f":"IF(ISBLANK('Données générales'!B9),\"\",'Données générales'!B9)","v":""},{"$f":"IF(ISBLANK('Données générales'!C9),\"\",'Données générales'!C9)","v":""},null,{"$f":"E13+Juin!F13","v":{"v":0,"d":"0.00"}},null,{"$f":"G13+Juin!H13","v":0},null,{"$f":"I13+Juin!J13","v":0},null,{"$f":"K13+Juin!L13","v":0},null,{"$f":"M13+Juin!N13","v":0},null,{"$f":"O13+Juin!P13","v":0},null,{"$f":"Q13+Juin!R13","v":0},"","","",""]
[null,4,{"$f":"IF(ISBLANK('Données générales'!B10),\"\",'Données générales'!B10)","v":""},{"$f":"IF(ISBLANK('Données générales'!C10),\"\",'Données générales'!C10)","v":""},null,{"$f":"E14+Juin!F14","v":{"v":0,"d":"0.00"}},null,{"$f":"G14+Juin!H14","v":0},null,{"$f":"I14+Juin!J14","v":0},null,{"$f":"K14+Juin!L14","v":0},null,{"$f":"M14+Juin!N14","v":0},null,{"$f":"O14+Juin!P14","v":0},null,{"$f":"Q14+Juin!R14","v":0},"","","",""]
[null,5,{"$f":"IF(ISBLANK('Données générales'!B11),\"\",'Données générales'!B11)","v":""},{"$f":"IF(ISBLANK('Données générales'!C11),\"\",'Données générales'!C11)","v":""},null,{"$f":"E15+Juin!F15","v":{"v":0,"d":"0.00"}},null,{"$f":"G15+Juin!H15","v":0},null,{"$f":"I15+Juin!J15","v":0},null,{"$f":"K15+Juin!L15","v":0},null,{"$f":"M15+Juin!N15","v":0},null,{"$f":"O15+Juin!P15","v":0},null,{"$f":"Q15+Juin!R15","v":0},"","","",""]
[null,6,{"$f":"IF(ISBLANK('Données générales'!B12),\"\",'Données générales'!B12)","v":""},{"$f":"IF(ISBLANK('Données générales'!C12),\"\",'Données générales'!C12)","v":""},null,{"$f":"E16+Juin!F16","v":{"v":0,"d":"0.00"}},null,{"$f":"G16+Juin!H16","v":0},null,{"$f":"I16+Juin!J16","v":0},null,{"$f":"K16+Juin!L16","v":0},null,{"$f":"M16+Juin!N16","v":0},null,{"$f":"O16+Juin!P16","v":0},null,{"$f":"Q16+Juin!R16","v":0},"","","",""]
[null,7,{"$f":"IF(ISBLANK('Données générales'!B13),\"\",'Données générales'!B13)","v":""},{"$f":"IF(ISBLANK('Données générales'!C13),\"\",'Données générales'!C13)","v":""},null,{"$f":"E17+Juin!F17","v":{"v":0,"d":"0.00"}},null,{"$f":"G17+Juin!H17","v":0},null,{"$f":"I17+Juin!J17","v":0},null,{"$f":"K17+Juin!L17","v":0},null,{"$f":"M17+Juin!N17","v":0},null,{"$f":"O17+Juin!P17","v":0},null,{"$f":"Q17+Juin!R17","v":0},"","","",""]
[null,8,{"$f":"IF(ISBLANK('Données générales'!B14),\"\",'Données générales'!B14)","v":""},{"$f":"IF(ISBLANK('Données générales'!C14),\"\",'Données générales'!C14)","v":""},null,{"$f":"E18+Juin!F18","v":{"v":0,"d":"0.00"}},null,{"$f":"G18+Juin!H18","v":0},null,{"$f":"I18+Juin!J18","v":0},null,{"$f":"K18+Juin!L18","v":0},null,{"$f":"M18+Juin!N18","v":0},null,{"$f":"O18+Juin!P18","v":0},null,{"$f":"Q18+Juin!R18","v":0},"","","",""]
[null,9,{"$f":"IF(ISBLANK('Données générales'!B15),\"\",'Données générales'!B15)","v":""},{"$f":"IF(ISBLANK('Données générales'!C15),\"\",'Données générales'!C15)","v":""},null,{"$f":"E19+Juin!F19","v":{"v":0,"d":"0.00"}},null,{"$f":"G19+Juin!H19","v":0},null,{"$f":"I19+Juin!J19","v":0},null,{"$f":"K19+Juin!L19","v":0},null,{"$f":"M19+Juin!N19","v":0},null,{"$f":"O19+Juin!P19","v":0},null,{"$f":"Q19+Juin!R19","v":0},"","","",""]
[null,10,{"$f":"IF(ISBLANK('Données générales'!B16),\"\",'Données générales'!B16)","v":""},{"$f":"IF(ISBLANK('Données générales'!C16),\"\",'Données générales'!C16)","v":""},null,{"$f":"E20+Juin!F20","v":{"v":0,"d":"0.00"}},null,{"$f":"G20+Juin!H20","v":0},null,{"$f":"I20+Juin!J20","v":0},null,{"$f":"K20+Juin!L20","v":0},null,{"$f":"M20+Juin!N20","v":0},null,{"$f":"O20+Juin!P20","v":0},null,{"$f":"Q20+Juin!R20","v":0},"","","",""]
[null,11,{"$f":"IF(ISBLANK('Données générales'!B17),\"\",'Données générales'!B17)","v":""},{"$f":"IF(ISBLANK('Données générales'!C17),\"\",'Données générales'!C17)","v":""},null,{"$f":"E21+Juin!F21","v":{"v":0,"d":"0.00"}},null,{"$f":"G21+Juin!H21","v":0},null,{"$f":"I21+Juin!J21","v":0},null,{"$f":"K21+Juin!L21","v":0},null,{"$f":"M21+Juin!N21","v":0},null,{"$f":"O21+Juin!P21","v":0},null,{"$f":"Q21+Juin!R21","v":0},"","","",""]
[null,12,{"$f":"IF(ISBLANK('Données générales'!B18),\"\",'Données générales'!B18)","v":""},{"$f":"IF(ISBLANK('Données générales'!C18),\"\",'Données générales'!C18)","v":""},null,{"$f":"E22+Juin!F22","v":{"v":0,"d":"0.00"}},null,{"$f":"G22+Juin!H22","v":0},null,{"$f":"I22+Juin!J22","v":0},null,{"$f":"K22+Juin!L22","v":0},null,{"$f":"M22+Juin!N22","v":0},null,{"$f":"O22+Juin!P22","v":0},null,{"$f":"Q22+Juin!R22","v":0},"","","",""]
[null,13,{"$f":"IF(ISBLANK('Données générales'!B19),\"\",'Données générales'!B19)","v":""},{"$f":"IF(ISBLANK('Données générales'!C19),\"\",'Données générales'!C19)","v":""},null,{"$f":"E23+Juin!F23","v":{"v":0,"d":"0.00"}},null,{"$f":"G23+Juin!H23","v":0},null,{"$f":"I23+Juin!J23","v":0},null,{"$f":"K23+Juin!L23","v":0},null,{"$f":"M23+Juin!N23","v":0},null,{"$f":"O23+Juin!P23","v":0},null,{"$f":"Q23+Juin!R23","v":0},"","","",""]
[null,14,{"$f":"IF(ISBLANK('Données générales'!B20),\"\",'Données générales'!B20)","v":""},{"$f":"IF(ISBLANK('Données générales'!C20),\"\",'Données générales'!C20)","v":""},null,{"$f":"E24+Juin!F24","v":{"v":0,"d":"0.00"}},null,{"$f":"G24+Juin!H24","v":0},null,{"$f":"I24+Juin!J24","v":0},null,{"$f":"K24+Juin!L24","v":0},null,{"$f":"M24+Juin!N24","v":0},null,{"$f":"O24+Juin!P24","v":0},null,{"$f":"Q24+Juin!R24","v":0},"","","",""]
[null,15,{"$f":"IF(ISBLANK('Données générales'!B26),\"\",'Données générales'!B26)","v":""},{"$f":"IF(ISBLANK('Données générales'!C26),\"\",'Données générales'!C26)","v":""},null,{"$f":"E25+Juin!F25","v":{"v":0,"d":"0.00"}},null,{"$f":"G25+Juin!H25","v":0},null,{"$f":"I25+Juin!J25","v":0},null,{"$f":"K25+Juin!L25","v":0},null,{"$f":"M25+Juin!N25","v":0},null,{"$f":"O25+Juin!P25","v":0},null,{"$f":"Q25+Juin!R25","v":0},"","","",""]
[null,16,{"$f":"IF(ISBLANK('Données générales'!B22),\"\",'Données générales'!B22)","v":""},{"$f":"IF(ISBLANK('Données générales'!C22),\"\",'Données générales'!C22)","v":""},null,{"$f":"E26+Juin!F26","v":{"v":0,"d":"0.00"}},null,{"$f":"G26+Juin!H26","v":0},null,{"$f":"I26+Juin!J26","v":0},null,{"$f":"K26+Juin!L26","v":0},null,{"$f":"M26+Juin!N26","v":0},null,{"$f":"O26+Juin!P26","v":0},null,{"$f":"Q26+Juin!R26","v":0},"","","",""]
[null,17,{"$f":"IF(ISBLANK('Données générales'!B23),\"\",'Données générales'!B23)","v":""},{"$f":"IF(ISBLANK('Données générales'!C23),\"\",'Données générales'!C23)","v":""},null,{"$f":"E27+Juin!F27","v":{"v":0,"d":"0.00"}},null,{"$f":"G27+Juin!H27","v":0},null,{"$f":"I27+Juin!J27","v":0},null,{"$f":"K27+Juin!L27","v":0},null,{"$f":"M27+Juin!N27","v":0},null,{"$f":"O27+Juin!P27","v":0},null,{"$f":"Q27+Juin!R27","v":0},{"$f":"IFERROR(M27*1000000/E27,\"\")","v":""},"","",""]
[null,18,{"$f":"IF(ISBLANK('Données générales'!B24),\"\",'Données générales'!B24)","v":""},{"$f":"IF(ISBLANK('Données générales'!C24),\"\",'Données générales'!C24)","v":""},null,{"$f":"E28+Juin!F28","v":{"v":0,"d":"0.00"}},null,{"$f":"G28+Juin!H28","v":0},null,{"$f":"I28+Juin!J28","v":0},null,{"$f":"K28+Juin!L28","v":0},null,{"$f":"M28+Juin!N28","v":0},null,{"$f":"O28+Juin!P28","v":0},null,{"$f":"Q28+Juin!R28","v":0},"","","",""]
[null,19,{"$f":"IF(ISBLANK('Données générales'!B25),\"\",'Données générales'!B25)","v":""},{"$f":"IF(ISBLANK('Données générales'!C25),\"\",'Données générales'!C25)","v":""},null,{"$f":"E29+Juin!F29","v":{"v":0,"d":"0.00"}},null,{"$f":"G29+Juin!H29","v":0},null,{"$f":"I29+Juin!J29","v":0},null,{"$f":"K29+Juin!L29","v":0},null,{"$f":"M29+Juin!N29","v":0},null,{"$f":"O29+Juin!P29","v":0},null,{"$f":"Q29+Juin!R29","v":0},"","","",""]
[null,20,{"$f":"IF(ISBLANK('Données générales'!B26),\"\",'Données générales'!B26)","v":""},{"$f":"IF(ISBLANK('Données générales'!C26),\"\",'Données générales'!C26)","v":""},null,{"$f":"E30+Juin!F30","v":{"v":0,"d":"0.00"}},null,{"$f":"G30+Juin!H30","v":0},null,{"$f":"I30+Juin!J30","v":0},null,{"$f":"K30+Juin!L30","v":0},null,{"$f":"M30+Juin!N30","v":0},null,{"$f":"O30+Juin!P30","v":0},null,{"$f":"Q30+Juin!R30","v":0},"","","",""]
[null,null,"Total",null,{"$f":"SUM(E11:E30)","v":{"v":0,"d":"0.00"}},{"$f":"SUM(F11:F30)","v":{"v":0,"d":"0.00"}},{"$f":"SUM(G11:G30)","v":0},{"$f":"SUM(H11:H30)","v":0},0,0,0,0,0,0,0,0,0,0,{"$f":"IFERROR(M31*200000/E31,\"\")","v":""},{"$f":"IFERROR(N31*200000/F31,\"\")","v":""},{"$f":"IFERROR(O31*200000/E31,\"\")","v":""},{"$f":"IFERROR(P31*200000/F31,\"\")","v":""}]
[null,"Approbation du gestionnaire de chantier d'Hydro-Québec :\n                                                         AA/MM/JJ",null,null,"*EG : Entrepreneur Général\n*ST : Sous-traitant\n*C : Consultant",null,"Taux de fréquence = Nbre de perte de temps X 200 000\n                                    Nbre d'heures travaillées",{"$nulls":8},"Taux de gravité = Nbre de jours perdus X 200 000\n                              Nbre d'heures travaillées"]
[]
[null,"Sommaire des évènements\n(À remplir si les rapports d'évènements ne sont pas envoyés en même temps)"]
[]
[null,"No","Entrepreneur",null,"Date",null,"Type d'évènement",null,"Description",{"$nulls":10},"Si perte de temps\nNombre de jours perdus"]
[null,1]
[null,2]
[null,3]
[null,4]
[null,5]
[null,6]
[null,7]
[null,8]
[null,9]
[null,10]
[]
[]
[]
[]
[null,"Listes déroulantes :"]
[]
[null,null,"Identification",null,null,"Unité administrative",{"$nulls":5},"Conséquences",null,null,"Mois",{"$nulls":3},"Année"]
[]
[null,null,"EG*",null,null,"DPPTC - Projets Poste",{"$nulls":5},"Premier soin",null,null,"Janvier",{"$nulls":3},2011]
[null,null,"ST*",null,null,"DPPTC - Projets Ligne",{"$nulls":5},"Assistance médicale",null,null,"Février",{"$nulls":3},2012]
[null,null,"C*",null,null,"DPPTC - Projets ICR-Interconnexion",{"$nulls":5},"Assignation temporaire",null,null,"Mars",{"$nulls":3},2013]
[{"$nulls":5},"SEBJ - Dir. Projets Eastmain",{"$nulls":5},"Perte de temps",null,null,"Avril",{"$nulls":3},2014]
[{"$nulls":5},"Gentilly II",{"$nulls":5},"Incident",null,null,"Mai",{"$nulls":3},2015]
[{"$nulls":5},"GPMB Baie-Comeau",{"$nulls":5},"Dommage matériel",null,null,"Juin",{"$nulls":3},2016]
[{"$nulls":5},"GPMB Chicoutimi",{"$nulls":8},"Juillet",{"$nulls":3},2017]
[{"$nulls":5},"GPMB Rimouski",{"$nulls":8},"Août",{"$nulls":3},2018]
[{"$nulls":5},"GPMB  territoire Ouest",{"$nulls":8},"Septembre",{"$nulls":3},2019]
[{"$nulls":5},"GPMB  territoire Sud et Ouest",{"$nulls":8},"Octobre",{"$nulls":3},2020]
[{"$nulls":5},"GPMB  Trois-Rivières",{"$nulls":8},"Novembre",{"$nulls":3},2021]
[{"$nulls":5},"Projets de centrales Romaine",{"$nulls":8},"Décembre",{"$nulls":3},2022]
[{"$nulls":5},"DPPP - Réfections - Projets 2",{"$nulls":12},2023]
[{"$nulls":5},"DPPP - Réfections - Projets 4",{"$nulls":12},2024]
[{"$nulls":5},"DPPP - Réfections - Projets 5",{"$nulls":12},2025]
[{"$nulls":5},"DPPP - Réfections - Projets 6",{"$nulls":12},2026]
[{"$nulls":5},"DPPP - Réfections - Projets 7",{"$nulls":12},2027]
[{"$nulls":18},2028]
[{"$nulls":18},2029]
[{"$nulls":18},2030]

{"sheet":"Août","index":9,"n_rows":74,"n_cols":22,"rows_kept":74,"merged":[[0,1,0,21],[2,3,2,6],[2,8,2,10],[2,11,2,13],[2,14,2,16],[2,17,2,18],[4,3,4,6],[4,8,4,10],[4,11,4,13],[4,14,4,16],[4,17,4,18],[6,3,6,6],[6,8,6,10],[6,11,6,13],[6,14,6,16],[6,17,6,18],[8,1,9,1],[8,2,9,3],[8,4,8,5],[8,6,8,7],[8,8,8,9],[8,10,8,11],[8,12,8,13],[8,14,8,15],[8,16,8,17],[8,18,8,19],[8,20,8,21],[30,2,30,3],[31,1,31,3],[31,4,31,5],[31,6,31,14],[31,15,31,21],[33,1,33,18],[35,2,35,3],[35,4,35,5],[35,6,35,7],[35,8,35,18],[35,19,35,21],[36,2,36,3],[36,4,36,5],[36,6,36,7],[36,8,36,18],[36,19,36,21],[37,2,37,3],[37,4,37,5],[37,6,37,7],[37,8,37,18],[37,19,37,21],[38,2,38,3],[38,4,38,5],[38,6,38,7],[38,8,38,18],[38,19,38,21],[39,2,39,3],[39,4,39,5],[39,6,39,7],[39,8,39,18],[39,19,39,21],[40,2,40,3],[40,4,40,5],[40,6,40,7],[40,8,40,18],[40,19,40,21],[41,2,41,3],[41,4,41,5],[41,6,41,7],[41,8,41,18],[41,19,41,21],[42,2,42,3],[42,4,42,5],[42,6,42,7],[42,8,42,18],[42,19,42,21],[43,2,43,3],[43,4,43,5],[43,6,43,7],[43,8,43,18],[43,19,43,21],[44,2,44,3],[44,4,44,5],[44,6,44,7],[44,8,44,18],[44,19,44,21],[45,2,45,3],[45,4,45,5],[45,6,45,7],[45,8,45,18],[45,19,45,21],[50,1,50,2]]}
[null,"SOMMAIRE MENSUEL ET CUMULATIF DES ACCIDENTS DE TRAVAIL DES ENTREPRENEURS"]
[]
[null,null,"Entrepreneur général :",{"$f":"Janvier!D3:G3","v":""},{"$nulls":4},"# de projet :",null,null,{"$f":"Janvier!L3:N3","v":""},null,null,"Mois concerné :",null,null,"Août",null,null,"# Rév. :"]
[]
[null,null,"Chantier :",{"$f":"Janvier!D5:G5","v":""},{"$nulls":4},"# d'appel d'offre :",null,null,{"$f":"Janvier!L5:N5","v":""},null,null,"Année concernée :",null,null,{"$f":"Janvier!R5:S5","v":2020}]
[]
[null,null,"Rapport complété par :",{"$nulls":5},"Titre :",{"$nulls":5},"Date remplie :"]
[]
[null,"No","Liste des entrepreneurs et consultants",null,"Heures travaillées",null,"Premiers soins",null,"Assistance médicale",null,"Assignation temporaire",null,"Perte de temps",null,"Jours perdus",null,"Incident/\nDommage mat.",null,"Taux de fréquence",null,"Taux de gravité"]
[{"$nulls":4},"Mensuel","Cumulatif","Mens.","Cumul.","Mens.","Cumul.","Mens.","Cumul.","Mens.","Cumul.","Mens.","Cumul.","Mens.","Cumul.","Mens.","Cumul.","Mens.","Cumul."]
[null,1,{"$f":"IF(ISBLANK('Données générales'!B7),\"\",'Données générales'!B7)","v":""},{"$f":"IF(ISBLANK('Données générales'!C7),\"\",'Données générales'!C7)","v":""},null,{"$f":"E11+Juillet!F11","v":{"v":0,"d":"0.00"}},null,{"$f":"G11+Juillet!H11","v":0},null,{"$f":"I11+Juillet!J11","v":0},null,{"$f":"K11+Juillet!L11","v":0},null,{"$f":"M11+Juillet!N11","v":0},null,{"$f":"O11+Juillet!P11","v":0},null,{"$f":"Q11+Juillet!R11","v":0},{"$f":"IFERROR(M11*1000000/E11,\"\")","v":""},{"$f":"IFERROR(N11*1000000/F11,\"\")","v":""},{"$f":"IFERROR(O11*1000000/E11,\"\")","v":""},{"$f":"IFERROR(P11*1000000/F11,\"\")","v":""}]
[null,2,{"$f":"IF(ISBLANK('Données générales'!B8),\"\",'Données générales'!B8)","v":""},{"$f":"IF(ISBLANK('Données générales'!C8),\"\",'Données générales'!C8)","v":""},null,{"$f":"E12+Juillet!F12","v":{"v":0,"d":"0.00"}},null,{"$f":"G12+Juillet!H12","v":0},null,{"$f":"I12+Juillet!J12","v":0},null,{"$f":"K12+Juillet!L12","v":0},null,{"$f":"M12+Juillet!N12","v":0},null,{"$f":"O12+Juillet!P12","v":0},null,{"$f":"Q12+Juillet!R12","v":0},{"$f":"IFERROR(M12*1000000/E12,\"\")","v":""},"",{"$f":"IFERROR(O12*1000000/E12,\"\")","v":""},""]
[null,3,{"$f":"IF(ISBLANK('Données générales'!B9),\"\",'Données générales'!B9)","v":""},{"$f":"IF(ISBLANK('Données générales'!C9),\"\",'Données générales'!C9)","v":""},null,{"$f":"E13+Juillet!F13","v":{"v":0,"d":"0.00"}},null,{"$f":"G13+Juillet!H13","v":0},null,{"$f":"I13+Juillet!J13","v":0},null,{"$f":"K13+Juillet!L13","v":0},null,{"$f":"M13+Juillet!N13","v":0},null,{"$f":"O13+Juillet!P13","v":0},null,{"$f":"Q13+Juillet!R13","v":0},"","","",""]
[null,4,{"$f":"IF(ISBLANK('Données générales'!B10),\"\",'Données générales'!B10)","v":""},{"$f":"IF(ISBLANK('Données générales'!C10),\"\",'Données générales'!C10)","v":""},null,{"$f":"E14+Juillet!F14","v":{"v":0,"d":"0.00"}},null,{"$f":"G14+Juillet!H14","v":0},null,{"$f":"I14+Juillet!J14","v":0},null,{"$f":"K14+Juillet!L14","v":0},null,{"$f":"M14+Juillet!N14","v":0},null,{"$f":"O14+Juillet!P14","v":0},null,{"$f":"Q14+Juillet!R14","v":0},"","","",""]
[null,5,{"$f":"IF(ISBLANK('Données générales'!B11),\"\",'Données générales'!B11)","v":""},{"$f":"IF(ISBLANK('Données générales'!C11),\"\",'Données générales'!C11)","v":""},null,{"$f":"E15+Juillet!F15","v":{"v":0,"d":"0.00"}},null,{"$f":"G15+Juillet!H15","v":0},null,{"$f":"I15+Juillet!J15","v":0},null,{"$f":"K15+Juillet!L15","v":0},null,{"$f":"M15+Juillet!N15","v":0},null,{"$f":"O15+Juillet!P15","v":0},null,{"$f":"Q15+Juillet!R15","v":0},"","","",""]
[null,6,{"$f":"IF(ISBLANK('Données générales'!B12),\"\",'Données générales'!B12)","v":""},{"$f":"IF(ISBLANK('Données générales'!C12),\"\",'Données générales'!C12)","v":""},null,{"$f":"E16+Juillet!F16","v":{"v":0,"d":"0.00"}},null,{"$f":"G16+Juillet!H16","v":0},null,{"$f":"I16+Juillet!J16","v":0},null,{"$f":"K16+Juillet!L16","v":0},null,{"$f":"M16+Juillet!N16","v":0},null,{"$f":"O16+Juillet!P16","v":0},null,{"$f":"Q16+Juillet!R16","v":0},"","","",""]
[null,7,{"$f":"IF(ISBLANK('Données générales'!B13),\"\",'Données générales'!B13)","v":""},{"$f":"IF(ISBLANK('Données générales'!C13),\"\",'Données générales'!C13)","v":""},null,{"$f":"E17+Juillet!F17","v":{"v":0,"d":"0.00"}},null,{"$f":"G17+Juillet!H17","v":0},null,{"$f":"I17+Juillet!J17","v":0},null,{"$f":"K17+Juillet!L17","v":0},null,{"$f":"M17+Juillet!N17","v":0},null,{"$f":"O17+Juillet!P17","v":0},null,{"$f":"Q17+Juillet!R17","v":0},"","","",""]
[null,8,{"$f":"IF(ISBLANK('Données générales'!B14),\"\",'Données générales'!B14)","v":""},{"$f":"IF(ISBLANK('Données générales'!C14),\"\",'Données générales'!C14)","v":""},null,{"$f":"E18+Juillet!F18","v":{"v":0,"d":"0.00"}},null,{"$f":"G18+Juillet!H18","v":0},null,{"$f":"I18+Juillet!J18","v":0},null,{"$f":"K18+Juillet!L18","v":0},null,{"$f":"M18+Juillet!N18","v":0},null,{"$f":"O18+Juillet!P18","v":0},null,{"$f":"Q18+Juillet!R18","v":0},"","","",""]
[null,9,{"$f":"IF(ISBLANK('Données générales'!B15),\"\",'Données générales'!B15)","v":""},{"$f":"IF(ISBLANK('Données générales'!C15),\"\",'Données générales'!C15)","v":""},null,{"$f":"E19+Juillet!F19","v":{"v":0,"d":"0.00"}},null,{"$f":"G19+Juillet!H19","v":0},null,{"$f":"I19+Juillet!J19","v":0},null,{"$f":"K19+Juillet!L19","v":0},null,{"$f":"M19+Juillet!N19","v":0},null,{"$f":"O19+Juillet!P19","v":0},null,{"$f":"Q19+Juillet!R19","v":0},"","","",""]
[null,10,{"$f":"IF(ISBLANK('Données générales'!B16),\"\",'Données générales'!B16)","v":""},{"$f":"IF(ISBLANK('Données générales'!C16),\"\",'Données générales'!C16)","v":""},null,{"$f":"E20+Juillet!F20","v":{"v":0,"d":"0.00"}},null,{"$f":"G20+Juillet!H20","v":0},null,{"$f":"I20+Juillet!J20","v":0},null,{"$f":"K20+Juillet!L20","v":0},null,{"$f":"M20+Juillet!N20","v":0},null,{"$f":"O20+Juillet!P20","v":0},null,{"$f":"Q20+Juillet!R20","v":0},"","","",""]
[null,11,{"$f":"IF(ISBLANK('Données générales'!B17),\"\",'Données générales'!B17)","v":""},{"$f":"IF(ISBLANK('Données générales'!C17),\"\",'Données générales'!C17)","v":""},null,{"$f":"E21+Juillet!F21","v":{"v":0,"d":"0.00"}},null,{"$f":"G21+Juillet!H21","v":0},null,{"$f":"I21+Juillet!J21","v":0},null,{"$f":"K21+Juillet!L21","v":0},null,{"$f":"M21+Juillet!N21","v":0},null,{"$f":"O21+Juillet!P21","v":0},null,{"$f":"Q21+Juillet!R21","v":0},"","","",""]
[null,12,{"$f":"IF(ISBLANK('Données générales'!B18),\"\",'Données générales'!B18)","v":""},{"$f":"IF(ISBLANK('Données générales'!C18),\"\",'Données générales'!C18)","v":""},null,{"$f":"E22+Juillet!F22","v":{"v":0,"d":"0.00"}},null,{"$f":"G22+Juillet!H22","v":0},null,{"$f":"I22+Juillet!J22","v":0},null,{"$f":"K22+Juillet!L22","v":0},null,{"$f":"M22+Juillet!N22","v":0},null,{"$f":"O22+Juillet!P22","v":0},null,{"$f":"Q22+Juillet!R22","v":0},"","","",""]
[null,13,{"$f":"IF(ISBLANK('Données générales'!B19),\"\",'Données générales'!B19)","v":""},{"$f":"IF(ISBLANK('Données générales'!C19),\"\",'Données générales'!C19)","v":""},null,{"$f":"E23+Juillet!F23","v":{"v":0,"d":"0.00"}},null,{"$f":"G23+Juillet!H23","v":0},null,{"$f":"I23+Juillet!J23","v":0},null,{"$f":"K23+Juillet!L23","v":0},null,{"$f":"M23+Juillet!N23","v":0},null,{"$f":"O23+Juillet!P23","v":0},null,{"$f":"Q23+Juillet!R23","v":0},"","","",""]
[null,14,{"$f":"IF(ISBLANK('Données générales'!B20),\"\",'Données générales'!B20)","v":""},{"$f":"IF(ISBLANK('Données générales'!C20),\"\",'Données générales'!C20)","v":""},null,{"$f":"E24+Juillet!F24","v":{"v":0,"d":"0.00"}},null,{"$f":"G24+Juillet!H24","v":0},null,{"$f":"I24+Juillet!J24","v":0},null,{"$f":"K24+Juillet!L24","v":0},null,{"$f":"M24+Juillet!N24","v":0},null,{"$f":"O24+Juillet!P24","v":0},null,{"$f":"Q24+Juillet!R24","v":0},"","","",""]
[null,15,{"$f":"IF(ISBLANK('Données générales'!B26),\"\",'Données générales'!B26)","v":""},{"$f":"IF(ISBLANK('Données générales'!C26),\"\",'Données générales'!C26)","v":""},null,{"$f":"E25+Juillet!F25","v":{"v":0,"d":"0.00"}},null,{"$f":"G25+Juillet!H25","v":0},null,{"$f":"I25+Juillet!J25","v":0},null,{"$f":"K25+Juillet!L25","v":0},null,{"$f":"M25+Juillet!N25","v":0},null,{"$f":"O25+Juillet!P25","v":0},null,{"$f":"Q25+Juillet!R25","v":0},"","","",""]
[null,16,{"$f":"IF(ISBLANK('Données générales'!B22),\"\",'Données générales'!B22)","v":""},{"$f":"IF(ISBLANK('Données générales'!C22),\"\",'Données générales'!C22)","v":""},null,{"$f":"E26+Juillet!F26","v":{"v":0,"d":"0.00"}},null,{"$f":"G26+Juillet!H26","v":0},null,{"$f":"I26+Juillet!J26","v":0},null,{"$f":"K26+Juillet!L26","v":0},null,{"$f":"M26+Juillet!N26","v":0},null,{"$f":"O26+Juillet!P26","v":0},null,{"$f":"Q26+Juillet!R26","v":0},"","","",""]
[null,17,{"$f":"IF(ISBLANK('Données générales'!B23),\"\",'Données générales'!B23)","v":""},{"$f":"IF(ISBLANK('Données générales'!C23),\"\",'Données générales'!C23)","v":""},null,{"$f":"E27+Juillet!F27","v":{"v":0,"d":"0.00"}},null,{"$f":"G27+Juillet!H27","v":0},null,{"$f":"I27+Juillet!J27","v":0},null,{"$f":"K27+Juillet!L27","v":0},null,{"$f":"M27+Juillet!N27","v":0},null,{"$f":"O27+Juillet!P27","v":0},null,{"$f":"Q27+Juillet!R27","v":0},{"$f":"IFERROR(M27*1000000/E27,\"\")","v":""},"","",""]
[null,18,{"$f":"IF(ISBLANK('Données générales'!B24),\"\",'Données générales'!B24)","v":""},{"$f":"IF(ISBLANK('Données générales'!C24),\"\",'Données générales'!C24)","v":""},null,{"$f":"E28+Juillet!F28","v":{"v":0,"d":"0.00"}},null,{"$f":"G28+Juillet!H28","v":0},null,{"$f":"I28+Juillet!J28","v":0},null,{"$f":"K28+Juillet!L28","v":0},null,{"$f":"M28+Juillet!N28","v":0},null,{"$f":"O28+Juillet!P28","v":0},null,{"$f":"Q28+Juillet!R28","v":0},"","","",""]
[null,19,{"$f":"IF(ISBLANK('Données générales'!B25),\"\",'Données générales'!B25)","v":""},{"$f":"IF(ISBLANK('Données générales'!C25),\"\",'Données générales'!C25)","v":""},null,{"$f":"E29+Juillet!F29","v":{"v":0,"d":"0.00"}},null,{"$f":"G29+Juillet!H29","v":0},null,{"$f":"I29+Juillet!J29","v":0},null,{"$f":"K29+Juillet!L29","v":0},null,{"$f":"M29+Juillet!N29","v":0},null,{"$f":"O29+Juillet!P29","v":0},null,{"$f":"Q29+Juillet!R29","v":0},"","","",""]
[null,20,{"$f":"IF(ISBLANK('Données générales'!B26),\"\",'Données générales'!B26)","v":""},{"$f":"IF(ISBLANK('Données générales'!C26),\"\",'Données générales'!C26)","v":""},null,{"$f":"E30+Juillet!F30","v":{"v":0,"d":"0.00"}},null,{"$f":"G30+Juillet!H30","v":0},null,{"$f":"I30+Juillet!J30","v":0},null,{"$f":"K30+Juillet!L30","v":0},null,{"$f":"M30+Juillet!N30","v":0},null,{"$f":"O30+Juillet!P30","v":0},null,{"$f":"Q30+Juillet!R30","v":0},"","","",""]
[null,null,"Total",null,{"$f":"SUM(E11:E30)","v":{"v":0,"d":"0.00"}},{"$f":"SUM(F11:F30)","v":{"v":0,"d":"0.00"}},{"$f":"SUM(G11:G30)","v":0},{"$f":"SUM(H11:H30)","v":0},0,0,0,0,0,0,0,0,0,0,{"$f":"IFERROR(M31*200000/E31,\"\")","v":""},{"$f":"IFERROR(N31*200000/F31,\"\")","v":""},{"$f":"IFERROR(O31*200000/E31,\"\")","v":""},{"$f":"IFERROR(P31*200000/F31,\"\")","v":""}]
[null,"Approbation du gestionnaire de chantier d'Hydro-Québec :\n                                                         AA/MM/JJ",null,null,"*EG : Entrepreneur Général\n*ST : Sous-traitant\n*C : Consultant",null,"Taux de fréquence = Nbre de perte de temps X 200 000\n                                    Nbre d'heures travaillées",{"$nulls":8},"Taux de gravité = Nbre de jours perdus X 200 000\n                              Nbre d'heures travaillées"]
[]
[null,"Sommaire des évènements\n(À remplir si les rapports d'évènements ne sont pas envoyés en même temps)"]
[]
[null,"No","Entrepreneur",null,"Date",null,"Type d'évènement",null,"Description",{"$nulls":10},"Si perte de temps\nNombre de jours perdus"]
[null,1]
[null,2]
[null,3]
[null,4]
[null,5]
[null,6]
[null,7]
[null,8]
[null,9]
[null,10]
[]
[]
[]
[]
[null,"Listes déroulantes :"]
[]
[null,null,"Identification",null,null,"Unité administrative",{"$nulls":5},"Conséquences",null,null,"Mois",{"$nulls":3},"Année"]
[]
[null,null,"EG*",null,null,"DPPTC - Projets Poste",{"$nulls":5},"Premier soin",null,null,"Janvier",{"$nulls":3},2011]
[null,null,"ST*",null,null,"DPPTC - Projets Ligne",{"$nulls":5},"Assistance médicale",null,null,"Février",{"$nulls":3},2012]
[null,null,"C*",null,null,"DPPTC - Projets ICR-Interconnexion",{"$nulls":5},"Assignation temporaire",null,null,"Mars",{"$nulls":3},2013]
[{"$nulls":5},"SEBJ - Dir. Projets Eastmain",{"$nulls":5},"Perte de temps",null,null,"Avril",{"$nulls":3},2014]
[{"$nulls":5},"Gentilly II",{"$nulls":5},"Incident",null,null,"Mai",{"$nulls":3},2015]
[{"$nulls":5},"GPMB Baie-Comeau",{"$nulls":5},"Dommage matériel",null,null,"Juin",{"$nulls":3},2016]
[{"$nulls":5},"GPMB Chicoutimi",{"$nulls":8},"Juillet",{"$nulls":3},2017]
[{"$nulls":5},"GPMB Rimouski",{"$nulls":8},"Août",{"$nulls":3},2018]
[{"$nulls":5},"GPMB  territoire Ouest",{"$nulls":8},"Septembre",{"$nulls":3},2019]
[{"$nulls":5},"GPMB  territoire Sud et Ouest",{"$nulls":8},"Octobre",{"$nulls":3},2020]
[{"$nulls":5},"GPMB  Trois-Rivières",{"$nulls":8},"Novembre",{"$nulls":3},2021]
[{"$nulls":5},"Projets de centrales Romaine",{"$nulls":8},"Décembre",{"$nulls":3},2022]
[{"$nulls":5},"DPPP - Réfections - Projets 2",{"$nulls":12},2023]
[{"$nulls":5},"DPPP - Réfections - Projets 4",{"$nulls":12},2024]
[{"$nulls":5},"DPPP - Réfections - Projets 5",{"$nulls":12},2025]
[{"$nulls":5},"DPPP - Réfections - Projets 6",{"$nulls":12},2026]
[{"$nulls":5},"DPPP - Réfections - Projets 7",{"$nulls":12},2027]
[{"$nulls":18},2028]
[{"$nulls":18},2029]
[{"$nulls":18},2030]

{"sheet":"Septembre","index":10,"n_rows":74,"n_cols":22,"rows_kept":74,"merged":[[0,1,0,21],[2,3,2,6],[2,8,2,10],[2,11,2,13],[2,14,2,16],[2,17,2,18],[4,3,4,6],[4,8,4,10],[4,11,4,13],[4,14,4,16],[4,17,4,18],[6,3,6,6],[6,8,6,10],[6,11,6,13],[6,14,6,16],[6,17,6,18],[8,1,9,1],[8,2,9,3],[8,4,8,5],[8,6,8,7],[8,8,8,9],[8,10,8,11],[8,12,8,13],[8,14,8,15],[8,16,8,17],[8,18,8,19],[8,20,8,21],[30,2,30,3],[31,1,31,3],[31,4,31,5],[31,6,31,14],[31,15,31,21],[33,1,33,18],[35,2,35,3],[35,4,35,5],[35,6,35,7],[35,8,35,18],[35,19,35,21],[36,2,36,3],[36,4,36,5],[36,6,36,7],[36,8,36,18],[36,19,36,21],[37,2,37,3],[37,4,37,5],[37,6,37,7],[37,8,37,18],[37,19,37,21],[38,2,38,3],[38,4,38,5],[38,6,38,7],[38,8,38,18],[38,19,38,21],[39,2,39,3],[39,4,39,5],[39,6,39,7],[39,8,39,18],[39,19,39,21],[40,2,40,3],[40,4,40,5],[40,6,40,7],[40,8,40,18],[40,19,40,21],[41,2,41,3],[41,4,41,5],[41,6,41,7],[41,8,41,18],[41,19,41,21],[42,2,42,3],[42,4,42,5],[42,6,42,7],[42,8,42,18],[42,19,42,21],[43,2,43,3],[43,4,43,5],[43,6,43,7],[43,8,43,18],[43,19,43,21],[44,2,44,3],[44,4,44,5],[44,6,44,7],[44,8,44,18],[44,19,44,21],[45,2,45,3],[45,4,45,5],[45,6,45,7],[45,8,45,18],[45,19,45,21],[50,1,50,2]]}
[null,"SOMMAIRE MENSUEL ET CUMULATIF DES ACCIDENTS DE TRAVAIL DES ENTREPRENEURS"]
[]
[null,null,"Entrepreneur général :",{"$f":"Janvier!D3:G3","v":""},{"$nulls":4},"# de projet :",null,null,{"$f":"Janvier!L3:N3","v":""},null,null,"Mois concerné :",null,null,"Septembre",null,null,"# Rév. :"]
[]
[null,null,"Chantier :",{"$f":"Janvier!D5:G5","v":""},{"$nulls":4},"# d'appel d'offre :",null,null,{"$f":"Janvier!L5:N5","v":""},null,null,"Année concernée :",null,null,{"$f":"Janvier!R5:S5","v":2020}]
[]
[null,null,"Rapport complété par :",{"$nulls":5},"Titre :",{"$nulls":5},"Date remplie :"]
[]
[null,"No","Liste des entrepreneurs et consultants",null,"Heures travaillées",null,"Premiers soins",null,"Assistance médicale",null,"Assignation temporaire",null,"Perte de temps",null,"Jours perdus",null,"Incident/\nDommage mat.",null,"Taux de fréquence",null,"Taux de gravité"]
[{"$nulls":4},"Mensuel","Cumulatif","Mens.","Cumul.","Mens.","Cumul.","Mens.","Cumul.","Mens.","Cumul.","Mens.","Cumul.","Mens.","Cumul.","Mens.","Cumul.","Mens.","Cumul."]
[null,1,{"$f":"IF(ISBLANK('Données générales'!B7),\"\",'Données générales'!B7)","v":""},{"$f":"IF(ISBLANK('Données générales'!C7),\"\",'Données générales'!C7)","v":""},null,{"$f":"E11+Août!F11","v":{"v":0,"d":"0.00"}},null,{"$f":"G11+Août!H11","v":0},null,{"$f":"I11+Août!J11","v":0},null,{"$f":"K11+Août!L11","v":0},null,{"$f":"M11+Août!N11","v":0},null,{"$f":"O11+Août!P11","v":0},null,{"$f":"Q11+Août!R11","v":0},{"$f":"IFERROR(M11*1000000/E11,\"\")","v":""},{"$f":"IFERROR(N11*1000000/F11,\"\")","v":""},{"$f":"IFERROR(O11*1000000/E11,\"\")","v":""},{"$f":"IFERROR(P11*1000000/F11,\"\")","v":""}]
[null,2,{"$f":"IF(ISBLANK('Données générales'!B8),\"\",'Données générales'!B8)","v":""},{"$f":"IF(ISBLANK('Données générales'!C8),\"\",'Données générales'!C8)","v":""},null,{"$f":"E12+Août!F12","v":{"v":0,"d":"0.00"}},null,{"$f":"G12+Août!H12","v":0},null,{"$f":"I12+Août!J12","v":0},null,{"$f":"K12+Août!L12","v":0},null,{"$f":"M12+Août!N12","v":0},null,{"$f":"O12+Août!P12","v":0},null,{"$f":"Q12+Août!R12","v":0},{"$f":"IFERROR(M12*1000000/E12,\"\")","v":""},"",{"$f":"IFERROR(O12*1000000/E12,\"\")","v":""},""]
[null,3,{"$f":"IF(ISBLANK('Données générales'!B9),\"\",'Données générales'!B9)","v":""},{"$f":"IF(ISBLANK('Données générales'!C9),\"\",'Données générales'!C9)","v":""},null,{"$f":"E13+Août!F13","v":{"v":0,"d":"0.00"}},null,{"$f":"G13+Août!H13","v":0},null,{"$f":"I13+Août!J13","v":0},null,{"$f":"K13+Août!L13","v":0},null,{"$f":"M13+Août!N13","v":0},null,{"$f":"O13+Août!P13","v":0},null,{"$f":"Q13+Août!R13","v":0},"","","",""]
[null,4,{"$f":"IF(ISBLANK('Données générales'!B10),\"\",'Données générales'!B10)","v":""},{"$f":"IF(ISBLANK('Données générales'!C10),\"\",'Données générales'!C10)","v":""},null,{"$f":"E14+Août!F14","v":{"v":0,"d":"0.00"}},null,{"$f":"G14+Août!H14","v":0},null,{"$f":"I14+Août!J14","v":0},null,{"$f":"K14+Août!L14","v":0},null,{"$f":"M14+Août!N14","v":0},null,{"$f":"O14+Août!P14","v":0},null,{"$f":"Q14+Août!R14","v":0},"","","",""]
[null,5,{"$f":"IF(ISBLANK('Données générales'!B11),\"\",'Données générales'!B11)","v":""},{"$f":"IF(ISBLANK('Données générales'!C11),\"\",'Données générales'!C11)","v":""},null,{"$f":"E15+Août!F15","v":{"v":0,"d":"0.00"}},null,{"$f":"G15+Août!H15","v":0},null,{"$f":"I15+Août!J15","v":0},null,{"$f":"K15+Août!L15","v":0},null,{"$f":"M15+Août!N15","v":0},null,{"$f":"O15+Août!P15","v":0},null,{"$f":"Q15+Août!R15","v":0},"","","",""]
[null,6,{"$f":"IF(ISBLANK('Données générales'!B12),\"\",'Données générales'!B12)","v":""},{"$f":"IF(ISBLANK('Données générales'!C12),\"\",'Données générales'!C12)","v":""},null,{"$f":"E16+Août!F16","v":{"v":0,"d":"0.00"}},null,{"$f":"G16+Août!H16","v":0},null,{"$f":"I16+Août!J16","v":0},null,{"$f":"K16+Août!L16","v":0},null,{"$f":"M16+Août!N16","v":0},null,{"$f":"O16+Août!P16","v":0},null,{"$f":"Q16+Août!R16","v":0},"","","",""]
[null,7,{"$f":"IF(ISBLANK('Données générales'!B13),\"\",'Données générales'!B13)","v":""},{"$f":"IF(ISBLANK('Données générales'!C13),\"\",'Données générales'!C13)","v":""},null,{"$f":"E17+Août!F17","v":{"v":0,"d":"0.00"}},null,{"$f":"G17+Août!H17","v":0},null,{"$f":"I17+Août!J17","v":0},null,{"$f":"K17+Août!L17","v":0},null,{"$f":"M17+Août!N17","v":0},null,{"$f":"O17+Août!P17","v":0},null,{"$f":"Q17+Août!R17","v":0},"","","",""]
[null,8,{"$f":"IF(ISBLANK('Données générales'!B14),\"\",'Données générales'!B14)","v":""},{"$f":"IF(ISBLANK('Données générales'!C14),\"\",'Données générales'!C14)","v":""},null,{"$f":"E18+Août!F18","v":{"v":0,"d":"0.00"}},null,{"$f":"G18+Août!H18","v":0},null,{"$f":"I18+Août!J18","v":0},null,{"$f":"K18+Août!L18","v":0},null,{"$f":"M18+Août!N18","v":0},null,{"$f":"O18+Août!P18","v":0},null,{"$f":"Q18+Août!R18","v":0},"","","",""]
[null,9,{"$f":"IF(ISBLANK('Données générales'!B15),\"\",'Données générales'!B15)","v":""},{"$f":"IF(ISBLANK('Données générales'!C15),\"\",'Données générales'!C15)","v":""},null,{"$f":"E19+Août!F19","v":{"v":0,"d":"0.00"}},null,{"$f":"G19+Août!H19","v":0},null,{"$f":"I19+Août!J19","v":0},null,{"$f":"K19+Août!L19","v":0},null,{"$f":"M19+Août!N19","v":0},null,{"$f":"O19+Août!P19","v":0},null,{"$f":"Q19+Août!R19","v":0},"","","",""]
[null,10,{"$f":"IF(ISBLANK('Données générales'!B16),\"\",'Données générales'!B16)","v":""},{"$f":"IF(ISBLANK('Données générales'!C16),\"\",'Données générales'!C16)","v":""},null,{"$f":"E20+Août!F20","v":{"v":0,"d":"0.00"}},null,{"$f":"G20+Août!H20","v":0},null,{"$f":"I20+Août!J20","v":0},null,{"$f":"K20+Août!L20","v":0},null,{"$f":"M20+Août!N20","v":0},null,{"$f":"O20+Août!P20","v":0},null,{"$f":"Q20+Août!R20","v":0},"","","",""]
[null,11,{"$f":"IF(ISBLANK('Données générales'!B17),\"\",'Données générales'!B17)","v":""},{"$f":"IF(ISBLANK('Données générales'!C17),\"\",'Données générales'!C17)","v":""},null,{"$f":"E21+Août!F21","v":{"v":0,"d":"0.00"}},null,{"$f":"G21+Août!H21","v":0},null,{"$f":"I21+Août!J21","v":0},null,{"$f":"K21+Août!L21","v":0},null,{"$f":"M21+Août!N21","v":0},null,{"$f":"O21+Août!P21","v":0},null,{"$f":"Q21+Août!R21","v":0},"","","",""]
[null,12,{"$f":"IF(ISBLANK('Données générales'!B18),\"\",'Données générales'!B18)","v":""},{"$f":"IF(ISBLANK('Données générales'!C18),\"\",'Données générales'!C18)","v":""},null,{"$f":"E22+Août!F22","v":{"v":0,"d":"0.00"}},null,{"$f":"G22+Août!H22","v":0},null,{"$f":"I22+Août!J22","v":0},null,{"$f":"K22+Août!L22","v":0},null,{"$f":"M22+Août!N22","v":0},null,{"$f":"O22+Août!P22","v":0},null,{"$f":"Q22+Août!R22","v":0},"","","",""]
[null,13,{"$f":"IF(ISBLANK('Données générales'!B19),\"\",'Données générales'!B19)","v":""},{"$f":"IF(ISBLANK('Données générales'!C19),\"\",'Données générales'!C19)","v":""},null,{"$f":"E23+Août!F23","v":{"v":0,"d":"0.00"}},null,{"$f":"G23+Août!H23","v":0},null,{"$f":"I23+Août!J23","v":0},null,{"$f":"K23+Août!L23","v":0},null,{"$f":"M23+Août!N23","v":0},null,{"$f":"O23+Août!P23","v":0},null,{"$f":"Q23+Août!R23","v":0},"","","",""]
[null,14,{"$f":"IF(ISBLANK('Données générales'!B20),\"\",'Données générales'!B20)","v":""},{"$f":"IF(ISBLANK('Données générales'!C20),\"\",'Données générales'!C20)","v":""},null,{"$f":"E24+Août!F24","v":{"v":0,"d":"0.00"}},null,{"$f":"G24+Août!H24","v":0},null,{"$f":"I24+Août!J24","v":0},null,{"$f":"K24+Août!L24","v":0},null,{"$f":"M24+Août!N24","v":0},null,{"$f":"O24+Août!P24","v":0},null,{"$f":"Q24+Août!R24","v":0},"","","",""]
[null,15,{"$f":"IF(ISBLANK('Données générales'!B26),\"\",'Données générales'!B26)","v":""},{"$f":"IF(ISBLANK('Données générales'!C26),\"\",'Données générales'!C26)","v":""},null,{"$f":"E25+Août!F25","v":{"v":0,"d":"0.00"}},null,{"$f":"G25+Août!H25","v":0},null,{"$f":"I25+Août!J25","v":0},null,{"$f":"K25+Août!L25","v":0},null,{"$f":"M25+Août!N25","v":0},null,{"$f":"O25+Août!P25","v":0},null,{"$f":"Q25+Août!R25","v":0},"","","",""]
[null,16,{"$f":"IF(ISBLANK('Données générales'!B22),\"\",'Données générales'!B22)","v":""},{"$f":"IF(ISBLANK('Données générales'!C22),\"\",'Données générales'!C22)","v":""},null,{"$f":"E26+Août!F26","v":{"v":0,"d":"0.00"}},null,{"$f":"G26+Août!H26","v":0},null,{"$f":"I26+Août!J26","v":0},null,{"$f":"K26+Août!L26","v":0},null,{"$f":"M26+Août!N26","v":0},null,{"$f":"O26+Août!P26","v":0},null,{"$f":"Q26+Août!R26","v":0},"","","",""]
[null,17,{"$f":"IF(ISBLANK('Données générales'!B23),\"\",'Données générales'!B23)","v":""},{"$f":"IF(ISBLANK('Données générales'!C23),\"\",'Données générales'!C23)","v":""},null,{"$f":"E27+Août!F27","v":{"v":0,"d":"0.00"}},null,{"$f":"G27+Août!H27","v":0},null,{"$f":"I27+Août!J27","v":0},null,{"$f":"K27+Août!L27","v":0},null,{"$f":"M27+Août!N27","v":0},null,{"$f":"O27+Août!P27","v":0},null,{"$f":"Q27+Août!R27","v":0},{"$f":"IFERROR(M27*1000000/E27,\"\")","v":""},"","",""]
[null,18,{"$f":"IF(ISBLANK('Données générales'!B24),\"\",'Données générales'!B24)","v":""},{"$f":"IF(ISBLANK('Données générales'!C24),\"\",'Données générales'!C24)","v":""},null,{"$f":"E28+Août!F28","v":{"v":0,"d":"0.00"}},null,{"$f":"G28+Août!H28","v":0},null,{"$f":"I28+Août!J28","v":0},null,{"$f":"K28+Août!L28","v":0},null,{"$f":"M28+Août!N28","v":0},null,{"$f":"O28+Août!P28","v":0},null,{"$f":"Q28+Août!R28","v":0},"","","",""]
[null,19,{"$f":"IF(ISBLANK('Données générales'!B25),\"\",'Données générales'!B25)","v":""},{"$f":"IF(ISBLANK('Données générales'!C25),\"\",'Données générales'!C25)","v":""},null,{"$f":"E29+Août!F29","v":{"v":0,"d":"0.00"}},null,{"$f":"G29+Août!H29","v":0},null,{"$f":"I29+Août!J29","v":0},null,{"$f":"K29+Août!L29","v":0},null,{"$f":"M29+Août!N29","v":0},null,{"$f":"O29+Août!P29","v":0},null,{"$f":"Q29+Août!R29","v":0},"","","",""]
[null,20,{"$f":"IF(ISBLANK('Données générales'!B26),\"\",'Données générales'!B26)","v":""},{"$f":"IF(ISBLANK('Données générales'!C26),\"\",'Données générales'!C26)","v":""},null,{"$f":"E30+Août!F30","v":{"v":0,"d":"0.00"}},null,{"$f":"G30+Août!H30","v":0},null,{"$f":"I30+Août!J30","v":0},null,{"$f":"K30+Août!L30","v":0},null,{"$f":"M30+Août!N30","v":0},null,{"$f":"O30+Août!P30","v":0},null,{"$f":"Q30+Août!R30","v":0},"","","",""]
[null,null,"Total",null,{"$f":"SUM(E11:E30)","v":{"v":0,"d":"0.00"}},{"$f":"SUM(F11:F30)","v":{"v":0,"d":"0.00"}},{"$f":"SUM(G11:G30)","v":0},{"$f":"SUM(H11:H30)","v":0},0,0,0,0,0,0,0,0,0,0,{"$f":"IFERROR(M31*200000/E31,\"\")","v":""},{"$f":"IFERROR(N31*200000/F31,\"\")","v":""},{"$f":"IFERROR(O31*200000/E31,\"\")","v":""},{"$f":"IFERROR(P31*200000/F31,\"\")","v":""}]
[null,"Approbation du gestionnaire de chantier d'Hydro-Québec :\n                                                         AA/MM/JJ",null,null,"*EG : Entrepreneur Général\n*ST : Sous-traitant\n*C : Consultant",null,"Taux de fréquence = Nbre de perte de temps X 200 000\n                                    Nbre d'heures travaillées",{"$nulls":8},"Taux de gravité = Nbre de jours perdus X 200 000\n                              Nbre d'heures travaillées"]
[]
[null,"Sommaire des évènements\n(À remplir si les rapports d'évènements ne sont pas envoyés en même temps)"]
[]
[null,"No","Entrepreneur",null,"Date",null,"Type d'évènement",null,"Description",{"$nulls":10},"Si perte de temps\nNombre de jours perdus"]
[null,1]
[null,2]
[null,3]
[null,4]
[null,5]
[null,6]
[null,7]
[null,8]
[null,9]
[null,10]
[]
[]
[]
[]
[null,"Listes déroulantes :"]
[]
[null,null,"Identification",null,null,"Unité administrative",{"$nulls":5},"Conséquences",null,null,"Mois",{"$nulls":3},"Année"]
[]
[null,null,"EG*",null,null,"DPPTC - Projets Poste",{"$nulls":5},"Premier soin",null,null,"Janvier",{"$nulls":3},2011]
[null,null,"ST*",null,null,"DPPTC - Projets Ligne",{"$nulls":5},"Assistance médicale",null,null,"Février",{"$nulls":3},2012]
[null,null,"C*",null,null,"DPPTC - Projets ICR-Interconnexion",{"$nulls":5},"Assignation temporaire",null,null,"Mars",{"$nulls":3},2013]
[{"$nulls":5},"SEBJ - Dir. Projets Eastmain",{"$nulls":5},"Perte de temps",null,null,"Avril",{"$nulls":3},2014]
[{"$nulls":5},"Gentilly II",{"$nulls":5},"Incident",null,null,"Mai",{"$nulls":3},2015]
[{"$nulls":5},"GPMB Baie-Comeau",{"$nulls":5},"Dommage matériel",null,null,"Juin",{"$nulls":3},2016]
[{"$nulls":5},"GPMB Chicoutimi",{"$nulls":8},"Juillet",{"$nulls":3},2017]
[{"$nulls":5},"GPMB Rimouski",{"$nulls":8},"Août",{"$nulls":3},2018]
[{"$nulls":5},"GPMB  territoire Ouest",{"$nulls":8},"Septembre",{"$nulls":3},2019]
[{"$nulls":5},"GPMB  territoire Sud et Ouest",{"$nulls":8},"Octobre",{"$nulls":3},2020]
[{"$nulls":5},"GPMB  Trois-Rivières",{"$nulls":8},"Novembre",{"$nulls":3},2021]
[{"$nulls":5},"Projets de centrales Romaine",{"$nulls":8},"Décembre",{"$nulls":3},2022]
[{"$nulls":5},"DPPP - Réfections - Projets 2",{"$nulls":12},2023]
[{"$nulls":5},"DPPP - Réfections - Projets 4",{"$nulls":12},2024]
[{"$nulls":5},"DPPP - Réfections - Projets 5",{"$nulls":12},2025]
[{"$nulls":5},"DPPP - Réfections - Projets 6",{"$nulls":12},2026]
[{"$nulls":5},"DPPP - Réfections - Projets 7",{"$nulls":12},2027]
[{"$nulls":18},2028]
[{"$nulls":18},2029]
[{"$nulls":18},2030]

{"sheet":"Octobre","index":11,"n_rows":74,"n_cols":22,"rows_kept":74,"merged":[[0,1,0,21],[2,3,2,6],[2,8,2,10],[2,11,2,13],[2,14,2,16],[2,17,2,18],[4,3,4,6],[4,8,4,10],[4,11,4,13],[4,14,4,16],[4,17,4,18],[6,3,6,6],[6,8,6,10],[6,11,6,13],[6,14,6,16],[6,17,6,18],[8,1,9,1],[8,2,9,3],[8,4,8,5],[8,6,8,7],[8,8,8,9],[8,10,8,11],[8,12,8,13],[8,14,8,15],[8,16,8,17],[8,18,8,19],[8,20,8,21],[30,2,30,3],[31,1,31,3],[31,4,31,5],[31,6,31,14],[31,15,31,21],[33,1,33,18],[35,2,35,3],[35,4,35,5],[35,6,35,7],[35,8,35,18],[35,19,35,21],[36,2,36,3],[36,4,36,5],[36,6,36,7],[36,8,36,18],[36,19,36,21],[37,2,37,3],[37,4,37,5],[37,6,37,7],[37,8,37,18],[37,19,37,21],[38,2,38,3],[38,4,38,5],[38,6,38,7],[38,8,38,18],[38,19,38,21],[39,2,39,3],[39,4,39,5],[39,6,39,7],[39,8,39,18],[39,19,39,21],[40,2,40,3],[40,4,40,5],[40,6,40,7],[40,8,40,18],[40,19,40,21],[41,2,41,3],[41,4,41,5],[41,6,41,7],[41,8,41,18],[41,19,41,21],[42,2,42,3],[42,4,42,5],[42,6,42,7],[42,8,42,18],[42,19,42,21],[43,2,43,3],[43,4,43,5],[43,6,43,7],[43,8,43,18],[43,19,43,21],[44,2,44,3],[44,4,44,5],[44,6,44,7],[44,8,44,18],[44,19,44,21],[45,2,45,3],[45,4,45,5],[45,6,45,7],[45,8,45,18],[45,19,45,21],[50,1,50,2]]}
[null,"SOMMAIRE MENSUEL ET CUMULATIF DES ACCIDENTS DE TRAVAIL DES ENTREPRENEURS"]
[]
[null,null,"Entrepreneur général :",{"$f":"Janvier!D3:G3","v":""},{"$nulls":4},"# de projet :",null,null,{"$f":"Janvier!L3:N3","v":""},null,null,"Mois concerné :",null,null,"Octobre",null,null,"# Rév. :"]
[]
[null,null,"Chantier :",{"$f":"Janvier!D5:G5","v":""},{"$nulls":4},"# d'appel d'offre :",null,null,{"$f":"Janvier!L5:N5","v":""},null,null,"Année concernée :",null,null,{"$f":"Janvier!R5:S5","v":2020}]
[]
[null,null,"Rapport complété par :",{"$nulls":5},"Titre :",{"$nulls":5},"Date remplie :"]
[]
[null,"No","Liste des entrepreneurs et consultants",null,"Heures travaillées",null,"Premiers soins",null,"Assistance médicale",null,"Assignation temporaire",null,"Perte de temps",null,"Jours perdus",null,"Incident/\nDommage mat.",null,"Taux de fréquence",null,"Taux de gravité"]
[{"$nulls":4},"Mensuel","Cumulatif","Mens.","Cumul.","Mens.","Cumul.","Mens.","Cumul.","Mens.","Cumul.","Mens.","Cumul.","Mens.","Cumul.","Mens.","Cumul.","Mens.","Cumul."]
[null,1,{"$f":"IF(ISBLANK('Données générales'!B7),\"\",'Données générales'!B7)","v":""},{"$f":"IF(ISBLANK('Données générales'!C7),\"\",'Données générales'!C7)","v":""},null,{"$f":"E11+Septembre!F11","v":{"v":0,"d":"0.00"}},null,{"$f":"G11+Septembre!H11","v":0},null,{"$f":"I11+Septembre!J11","v":0},null,{"$f":"K11+Septembre!L11","v":0},null,{"$f":"M11+Septembre!N11","v":0},null,{"$f":"O11+Septembre!P11","v":0},null,{"$f":"Q11+Septembre!R11","v":0},{"$f":"IFERROR(M11*1000000/E11,\"\")","v":""},{"$f":"IFERROR(N11*1000000/F11,\"\")","v":""},{"$f":"IFERROR(O11*1000000/E11,\"\")","v":""},{"$f":"IFERROR(P11*1000000/F11,\"\")","v":""}]
[null,2,{"$f":"IF(ISBLANK('Données générales'!B8),\"\",'Données générales'!B8)","v":""},{"$f":"IF(ISBLANK('Données générales'!C8),\"\",'Données générales'!C8)","v":""},null,{"$f":"E12+Septembre!F12","v":{"v":0,"d":"0.00"}},null,{"$f":"G12+Septembre!H12","v":0},null,{"$f":"I12+Septembre!J12","v":0},null,{"$f":"K12+Septembre!L12","v":0},null,{"$f":"M12+Septembre!N12","v":0},null,{"$f":"O12+Septembre!P12","v":0},null,{"$f":"Q12+Septembre!R12","v":0},{"$f":"IFERROR(M12*1000000/E12,\"\")","v":""},"",{"$f":"IFERROR(O12*1000000/E12,\"\")","v":""},""]
[null,3,{"$f":"IF(ISBLANK('Données générales'!B9),\"\",'Données générales'!B9)","v":""},{"$f":"IF(ISBLANK('Données générales'!C9),\"\",'Données générales'!C9)","v":""},null,{"$f":"E13+Septembre!F13","v":{"v":0,"d":"0.00"}},null,{"$f":"G13+Septembre!H13","v":0},null,{"$f":"I13+Septembre!J13","v":0},null,{"$f":"K13+Septembre!L13","v":0},null,{"$f":"M13+Septembre!N13","v":0},null,{"$f":"O13+Septembre!P13","v":0},null,{"$f":"Q13+Septembre!R13","v":0},"","","",""]
[null,4,{"$f":"IF(ISBLANK('Données générales'!B10),\"\",'Données générales'!B10)","v":""},{"$f":"IF(ISBLANK('Données générales'!C10),\"\",'Données générales'!C10)","v":""},null,{"$f":"E14+Septembre!F14","v":{"v":0,"d":"0.00"}},null,{"$f":"G14+Septembre!H14","v":0},null,{"$f":"I14+Septembre!J14","v":0},null,{"$f":"K14+Septembre!L14","v":0},null,{"$f":"M14+Septembre!N14","v":0},null,{"$f":"O14+Septembre!P14","v":0},null,{"$f":"Q14+Septembre!R14","v":0},"","","",""]
[null,5,{"$f":"IF(ISBLANK('Données générales'!B11),\"\",'Données générales'!B11)","v":""},{"$f":"IF(ISBLANK('Données générales'!C11),\"\",'Données générales'!C11)","v":""},null,{"$f":"E15+Septembre!F15","v":{"v":0,"d":"0.00"}},null,{"$f":"G15+Septembre!H15","v":0},null,{"$f":"I15+Septembre!J15","v":0},null,{"$f":"K15+Septembre!L15","v":0},null,{"$f":"M15+Septembre!N15","v":0},null,{"$f":"O15+Septembre!P15","v":0},null,{"$f":"Q15+Septembre!R15","v":0},"","","",""]
[null,6,{"$f":"IF(ISBLANK('Données générales'!B12),\"\",'Données générales'!B12)","v":""},{"$f":"IF(ISBLANK('Données générales'!C12),\"\",'Données générales'!C12)","v":""},null,{"$f":"E16+Septembre!F16","v":{"v":0,"d":"0.00"}},null,{"$f":"G16+Septembre!H16","v":0},null,{"$f":"I16+Septembre!J16","v":0},null,{"$f":"K16+Septembre!L16","v":0},null,{"$f":"M16+Septembre!N16","v":0},null,{"$f":"O16+Septembre!P16","v":0},null,{"$f":"Q16+Septembre!R16","v":0},"","","",""]
[null,7,{"$f":"IF(ISBLANK('Données générales'!B13),\"\",'Données générales'!B13)","v":""},{"$f":"IF(ISBLANK('Données générales'!C13),\"\",'Données générales'!C13)","v":""},null,{"$f":"E17+Septembre!F17","v":{"v":0,"d":"0.00"}},null,{"$f":"G17+Septembre!H17","v":0},null,{"$f":"I17+Septembre!J17","v":0},null,{"$f":"K17+Septembre!L17","v":0},null,{"$f":"M17+Septembre!N17","v":0},null,{"$f":"O17+Septembre!P17","v":0},null,{"$f":"Q17+Septembre!R17","v":0},"","","",""]
[null,8,{"$f":"IF(ISBLANK('Données générales'!B14),\"\",'Données générales'!B14)","v":""},{"$f":"IF(ISBLANK('Données générales'!C14),\"\",'Données générales'!C14)","v":""},null,{"$f":"E18+Septembre!F18","v":{"v":0,"d":"0.00"}},null,{"$f":"G18+Septembre!H18","v":0},null,{"$f":"I18+Septembre!J18","v":0},null,{"$f":"K18+Septembre!L18","v":0},null,{"$f":"M18+Septembre!N18","v":0},null,{"$f":"O18+Septembre!P18","v":0},null,{"$f":"Q18+Septembre!R18","v":0},"","","",""]
[null,9,{"$f":"IF(ISBLANK('Données générales'!B15),\"\",'Données générales'!B15)","v":""},{"$f":"IF(ISBLANK('Données générales'!C15),\"\",'Données générales'!C15)","v":""},null,{"$f":"E19+Septembre!F19","v":{"v":0,"d":"0.00"}},null,{"$f":"G19+Septembre!H19","v":0},null,{"$f":"I19+Septembre!J19","v":0},null,{"$f":"K19+Septembre!L19","v":0},null,{"$f":"M19+Septembre!N19","v":0},null,{"$f":"O19+Septembre!P19","v":0},null,{"$f":"Q19+Septembre!R19","v":0},"","","",""]
[null,10,{"$f":"IF(ISBLANK('Données générales'!B16),\"\",'Données générales'!B16)","v":""},{"$f":"IF(ISBLANK('Données générales'!C16),\"\",'Données générales'!C16)","v":""},null,{"$f":"E20+Septembre!F20","v":{"v":0,"d":"0.00"}},null,{"$f":"G20+Septembre!H20","v":0},null,{"$f":"I20+Septembre!J20","v":0},null,{"$f":"K20+Septembre!L20","v":0},null,{"$f":"M20+Septembre!N20","v":0},null,{"$f":"O20+Septembre!P20","v":0},null,{"$f":"Q20+Septembre!R20","v":0},"","","",""]
[null,11,{"$f":"IF(ISBLANK('Données générales'!B17),\"\",'Données générales'!B17)","v":""},{"$f":"IF(ISBLANK('Données générales'!C17),\"\",'Données générales'!C17)","v":""},null,{"$f":"E21+Septembre!F21","v":{"v":0,"d":"0.00"}},null,{"$f":"G21+Septembre!H21","v":0},null,{"$f":"I21+Septembre!J21","v":0},null,{"$f":"K21+Septembre!L21","v":0},null,{"$f":"M21+Septembre!N21","v":0},null,{"$f":"O21+Septembre!P21","v":0},null,{"$f":"Q21+Septembre!R21","v":0},"","","",""]
[null,12,{"$f":"IF(ISBLANK('Données générales'!B18),\"\",'Données générales'!B18)","v":""},{"$f":"IF(ISBLANK('Données générales'!C18),\"\",'Données générales'!C18)","v":""},null,{"$f":"E22+Septembre!F22","v":{"v":0,"d":"0.00"}},null,{"$f":"G22+Septembre!H22","v":0},null,{"$f":"I22+Septembre!J22","v":0},null,{"$f":"K22+Septembre!L22","v":0},null,{"$f":"M22+Septembre!N22","v":0},null,{"$f":"O22+Septembre!P22","v":0},null,{"$f":"Q22+Septembre!R22","v":0},"","","",""]
[null,13,{"$f":"IF(ISBLANK('Données générales'!B19),\"\",'Données générales'!B19)","v":""},{"$f":"IF(ISBLANK('Données générales'!C19),\"\",'Données générales'!C19)","v":""},null,{"$f":"E23+Septembre!F23","v":{"v":0,"d":"0.00"}},null,{"$f":"G23+Septembre!H23","v":0},null,{"$f":"I23+Septembre!J23","v":0},null,{"$f":"K23+Septembre!L23","v":0},null,{"$f":"M23+Septembre!N23","v":0},null,{"$f":"O23+Septembre!P23","v":0},null,{"$f":"Q23+Septembre!R23","v":0},"","","",""]
[null,14,{"$f":"IF(ISBLANK('Données générales'!B20),\"\",'Données générales'!B20)","v":""},{"$f":"IF(ISBLANK('Données générales'!C20),\"\",'Données générales'!C20)","v":""},null,{"$f":"E24+Septembre!F24","v":{"v":0,"d":"0.00"}},null,{"$f":"G24+Septembre!H24","v":0},null,{"$f":"I24+Septembre!J24","v":0},null,{"$f":"K24+Septembre!L24","v":0},null,{"$f":"M24+Septembre!N24","v":0},null,{"$f":"O24+Septembre!P24","v":0},null,{"$f":"Q24+Septembre!R24","v":0},"","","",""]
[null,15,{"$f":"IF(ISBLANK('Données générales'!B26),\"\",'Données générales'!B26)","v":""},{"$f":"IF(ISBLANK('Données générales'!C26),\"\",'Données générales'!C26)","v":""},null,{"$f":"E25+Septembre!F25","v":{"v":0,"d":"0.00"}},null,{"$f":"G25+Septembre!H25","v":0},null,{"$f":"I25+Septembre!J25","v":0},null,{"$f":"K25+Septembre!L25","v":0},null,{"$f":"M25+Septembre!N25","v":0},null,{"$f":"O25+Septembre!P25","v":0},null,{"$f":"Q25+Septembre!R25","v":0},"","","",""]
[null,16,{"$f":"IF(ISBLANK('Données générales'!B22),\"\",'Données générales'!B22)","v":""},{"$f":"IF(ISBLANK('Données générales'!C22),\"\",'Données générales'!C22)","v":""},null,{"$f":"E26+Septembre!F26","v":{"v":0,"d":"0.00"}},null,{"$f":"G26+Septembre!H26","v":0},null,{"$f":"I26+Septembre!J26","v":0},null,{"$f":"K26+Septembre!L26","v":0},null,{"$f":"M26+Septembre!N26","v":0},null,{"$f":"O26+Septembre!P26","v":0},null,{"$f":"Q26+Septembre!R26","v":0},"","","",""]
[null,17,{"$f":"IF(ISBLANK('Données générales'!B23),\"\",'Données générales'!B23)","v":""},{"$f":"IF(ISBLANK('Données générales'!C23),\"\",'Données générales'!C23)","v":""},null,{"$f":"E27+Septembre!F27","v":{"v":0,"d":"0.00"}},null,{"$f":"G27+Septembre!H27","v":0},null,{"$f":"I27+Septembre!J27","v":0},null,{"$f":"K27+Septembre!L27","v":0},null,{"$f":"M27+Septembre!N27","v":0},null,{"$f":"O27+Septembre!P27","v":0},null,{"$f":"Q27+Septembre!R27","v":0},{"$f":"IFERROR(M27*1000000/E27,\"\")","v":""},"","",""]
[null,18,{"$f":"IF(ISBLANK('Données générales'!B24),\"\",'Données générales'!B24)","v":""},{"$f":"IF(ISBLANK('Données générales'!C24),\"\",'Données générales'!C24)","v":""},null,{"$f":"E28+Septembre!F28","v":{"v":0,"d":"0.00"}},null,{"$f":"G28+Septembre!H28","v":0},null,{"$f":"I28+Septembre!J28","v":0},null,{"$f":"K28+Septembre!L28","v":0},null,{"$f":"M28+Septembre!N28","v":0},null,{"$f":"O28+Septembre!P28","v":0},null,{"$f":"Q28+Septembre!R28","v":0},"","","",""]
[null,19,{"$f":"IF(ISBLANK('Données générales'!B25),\"\",'Données générales'!B25)","v":""},{"$f":"IF(ISBLANK('Données générales'!C25),\"\",'Données générales'!C25)","v":""},null,{"$f":"E29+Septembre!F29","v":{"v":0,"d":"0.00"}},null,{"$f":"G29+Septembre!H29","v":0},null,{"$f":"I29+Septembre!J29","v":0},null,{"$f":"K29+Septembre!L29","v":0},null,{"$f":"M29+Septembre!N29","v":0},null,{"$f":"O29+Septembre!P29","v":0},null,{"$f":"Q29+Septembre!R29","v":0},"","","",""]
[null,20,{"$f":"IF(ISBLANK('Données générales'!B26),\"\",'Données générales'!B26)","v":""},{"$f":"IF(ISBLANK('Données générales'!C26),\"\",'Données générales'!C26)","v":""},null,{"$f":"E30+Septembre!F30","v":{"v":0,"d":"0.00"}},null,{"$f":"G30+Septembre!H30","v":0},null,{"$f":"I30+Septembre!J30","v":0},null,{"$f":"K30+Septembre!L30","v":0},null,{"$f":"M30+Septembre!N30","v":0},null,{"$f":"O30+Septembre!P30","v":0},null,{"$f":"Q30+Septembre!R30","v":0},"","","",""]
[null,null,"Total",null,{"$f":"SUM(E11:E30)","v":{"v":0,"d":"0.00"}},{"$f":"SUM(F11:F30)","v":{"v":0,"d":"0.00"}},{"$f":"SUM(G11:G30)","v":0},{"$f":"SUM(H11:H30)","v":0},0,0,0,0,0,0,0,0,0,0,{"$f":"IFERROR(M31*200000/E31,\"\")","v":""},{"$f":"IFERROR(N31*200000/F31,\"\")","v":""},{"$f":"IFERROR(O31*200000/E31,\"\")","v":""},{"$f":"IFERROR(P31*200000/F31,\"\")","v":""}]
[null,"Approbation du gestionnaire de chantier d'Hydro-Québec :\n                                                         AA/MM/JJ",null,null,"*EG : Entrepreneur Général\n*ST : Sous-traitant\n*C : Consultant",null,"Taux de fréquence = Nbre de perte de temps X 200 000\n                                    Nbre d'heures travaillées",{"$nulls":8},"Taux de gravité = Nbre de jours perdus X 200 000\n                              Nbre d'heures travaillées"]
[]
[null,"Sommaire des évènements\n(À remplir si les rapports d'évènements ne sont pas envoyés en même temps)"]
[]
[null,"No","Entrepreneur",null,"Date",null,"Type d'évènement",null,"Description",{"$nulls":10},"Si perte de temps\nNombre de jours perdus"]
[null,1]
[null,2]
[null,3]
[null,4]
[null,5]
[null,6]
[null,7]
[null,8]
[null,9]
[null,10]
[]
[]
[]
[]
[null,"Listes déroulantes :"]
[]
[null,null,"Identification",null,null,"Unité administrative",{"$nulls":5},"Conséquences",null,null,"Mois",{"$nulls":3},"Année"]
[]
[null,null,"EG*",null,null,"DPPTC - Projets Poste",{"$nulls":5},"Premier soin",null,null,"Janvier",{"$nulls":3},2011]
[null,null,"ST*",null,null,"DPPTC - Projets Ligne",{"$nulls":5},"Assistance médicale",null,null,"Février",{"$nulls":3},2012]
[null,null,"C*",null,null,"DPPTC - Projets ICR-Interconnexion",{"$nulls":5},"Assignation temporaire",null,null,"Mars",{"$nulls":3},2013]
[{"$nulls":5},"SEBJ - Dir. Projets Eastmain",{"$nulls":5},"Perte de temps",null,null,"Avril",{"$nulls":3},2014]
[{"$nulls":5},"Gentilly II",{"$nulls":5},"Incident",null,null,"Mai",{"$nulls":3},2015]
[{"$nulls":5},"GPMB Baie-Comeau",{"$nulls":5},"Dommage matériel",null,null,"Juin",{"$nulls":3},2016]
[{"$nulls":5},"GPMB Chicoutimi",{"$nulls":8},"Juillet",{"$nulls":3},2017]
[{"$nulls":5},"GPMB Rimouski",{"$nulls":8},"Août",{"$nulls":3},2018]
[{"$nulls":5},"GPMB  territoire Ouest",{"$nulls":8},"Septembre",{"$nulls":3},2019]
[{"$nulls":5},"GPMB  territoire Sud et Ouest",{"$nulls":8},"Octobre",{"$nulls":3},2020]
[{"$nulls":5},"GPMB  Trois-Rivières",{"$nulls":8},"Novembre",{"$nulls":3},2021]
[{"$nulls":5},"Projets de centrales Romaine",{"$nulls":8},"Décembre",{"$nulls":3},2022]
[{"$nulls":5},"DPPP - Réfections - Projets 2",{"$nulls":12},2023]
[{"$nulls":5},"DPPP - Réfections - Projets 4",{"$nulls":12},2024]
[{"$nulls":5},"DPPP - Réfections - Projets 5",{"$nulls":12},2025]
[{"$nulls":5},"DPPP - Réfections - Projets 6",{"$nulls":12},2026]
[{"$nulls":5},"DPPP - Réfections - Projets 7",{"$nulls":12},2027]
[{"$nulls":18},2028]
[{"$nulls":18},2029]
[{"$nulls":18},2030]

{"sheet":"Novembre","index":12,"n_rows":74,"n_cols":22,"rows_kept":74,"merged":[[0,1,0,21],[2,3,2,6],[2,8,2,10],[2,11,2,13],[2,14,2,16],[2,17,2,18],[4,3,4,6],[4,8,4,10],[4,11,4,13],[4,14,4,16],[4,17,4,18],[6,3,6,6],[6,8,6,10],[6,11,6,13],[6,14,6,16],[6,17,6,18],[8,1,9,1],[8,2,9,3],[8,4,8,5],[8,6,8,7],[8,8,8,9],[8,10,8,11],[8,12,8,13],[8,14,8,15],[8,16,8,17],[8,18,8,19],[8,20,8,21],[30,2,30,3],[31,1,31,3],[31,4,31,5],[31,6,31,14],[31,15,31,21],[33,1,33,18],[35,2,35,3],[35,4,35,5],[35,6,35,7],[35,8,35,18],[35,19,35,21],[36,2,36,3],[36,4,36,5],[36,6,36,7],[36,8,36,18],[36,19,36,21],[37,2,37,3],[37,4,37,5],[37,6,37,7],[37,8,37,18],[37,19,37,21],[38,2,38,3],[38,4,38,5],[38,6,38,7],[38,8,38,18],[38,19,38,21],[39,2,39,3],[39,4,39,5],[39,6,39,7],[39,8,39,18],[39,19,39,21],[40,2,40,3],[40,4,40,5],[40,6,40,7],[40,8,40,18],[40,19,40,21],[41,2,41,3],[41,4,41,5],[41,6,41,7],[41,8,41,18],[41,19,41,21],[42,2,42,3],[42,4,42,5],[42,6,42,7],[42,8,42,18],[42,19,42,21],[43,2,43,3],[43,4,43,5],[43,6,43,7],[43,8,43,18],[43,19,43,21],[44,2,44,3],[44,4,44,5],[44,6,44,7],[44,8,44,18],[44,19,44,21],[45,2,45,3],[45,4,45,5],[45,6,45,7],[45,8,45,18],[45,19,45,21],[50,1,50,2]]}
[null,"SOMMAIRE MENSUEL ET CUMULATIF DES ACCIDENTS DE TRAVAIL DES ENTREPRENEURS"]
[]
[null,null,"Entrepreneur général :",{"$f":"Janvier!D3:G3","v":""},{"$nulls":4},"# de projet :",null,null,{"$f":"Janvier!L3:N3","v":""},null,null,"Mois concerné :",null,null,"Novembre",null,null,"# Rév. :"]
[]
[null,null,"Chantier :",{"$f":"Janvier!D5:G5","v":""},{"$nulls":4},"# d'appel d'offre :",null,null,{"$f":"Janvier!L5:N5","v":""},null,null,"Année concernée :",null,null,{"$f":"Janvier!R5:S5","v":2020}]
[]
[null,null,"Rapport complété par :",{"$nulls":5},"Titre :",{"$nulls":5},"Date remplie :"]
[]
[null,"No","Liste des entrepreneurs et consultants",null,"Heures travaillées",null,"Premiers soins",null,"Assistance médicale",null,"Assignation temporaire",null,"Perte de temps",null,"Jours perdus",null,"Incident/\nDommage mat.",null,"Taux de fréquence",null,"Taux de gravité"]
[{"$nulls":4},"Mensuel","Cumulatif","Mens.","Cumul.","Mens.","Cumul.","Mens.","Cumul.","Mens.","Cumul.","Mens.","Cumul.","Mens.","Cumul.","Mens.","Cumul.","Mens.","Cumul."]
[null,1,{"$f":"IF(ISBLANK('Données générales'!B7),\"\",'Données générales'!B7)","v":""},{"$f":"IF(ISBLANK('Données générales'!C7),\"\",'Données générales'!C7)","v":""},null,{"$f":"E11+Octobre!F11","v":{"v":0,"d":"0.00"}},null,{"$f":"G11+Octobre!H11","v":0},null,{"$f":"I11+Octobre!J11","v":0},null,{"$f":"K11+Octobre!L11","v":0},null,{"$f":"M11+Octobre!N11","v":0},null,{"$f":"O11+Octobre!P11","v":0},null,{"$f":"Q11+Octobre!R11","v":0},{"$f":"IFERROR(M11*1000000/E11,\"\")","v":""},{"$f":"IFERROR(N11*1000000/F11,\"\")","v":""},{"$f":"IFERROR(O11*1000000/E11,\"\")","v":""},{"$f":"IFERROR(P11*1000000/F11,\"\")","v":""}]
[null,2,{"$f":"IF(ISBLANK('Données générales'!B8),\"\",'Données générales'!B8)","v":""},{"$f":"IF(ISBLANK('Données générales'!C8),\"\",'Données générales'!C8)","v":""},null,{"$f":"E12+Octobre!F12","v":{"v":0,"d":"0.00"}},null,{"$f":"G12+Octobre!H12","v":0},null,{"$f":"I12+Octobre!J12","v":0},null,{"$f":"K12+Octobre!L12","v":0},null,{"$f":"M12+Octobre!N12","v":0},null,{"$f":"O12+Octobre!P12","v":0},null,{"$f":"Q12+Octobre!R12","v":0},{"$f":"IFERROR(M12*1000000/E12,\"\")","v":""},"",{"$f":"IFERROR(O12*1000000/E12,\"\")","v":""},""]
[null,3,{"$f":"IF(ISBLANK('Données générales'!B9),\"\",'Données générales'!B9)","v":""},{"$f":"IF(ISBLANK('Données générales'!C9),\"\",'Données générales'!C9)","v":""},null,{"$f":"E13+Octobre!F13","v":{"v":0,"d":"0.00"}},null,{"$f":"G13+Octobre!H13","v":0},null,{"$f":"I13+Octobre!J13","v":0},null,{"$f":"K13+Octobre!L13","v":0},null,{"$f":"M13+Octobre!N13","v":0},null,{"$f":"O13+Octobre!P13","v":0},null,{"$f":"Q13+Octobre!R13","v":0},"","","",""]
[null,4,{"$f":"IF(ISBLANK('Données générales'!B10),\"\",'Données générales'!B10)","v":""},{"$f":"IF(ISBLANK('Données générales'!C10),\"\",'Données générales'!C10)","v":""},null,{"$f":"E14+Octobre!F14","v":{"v":0,"d":"0.00"}},null,{"$f":"G14+Octobre!H14","v":0},null,{"$f":"I14+Octobre!J14","v":0},null,{"$f":"K14+Octobre!L14","v":0},null,{"$f":"M14+Octobre!N14","v":0},null,{"$f":"O14+Octobre!P14","v":0},null,{"$f":"Q14+Octobre!R14","v":0},"","","",""]
[null,5,{"$f":"IF(ISBLANK('Données générales'!B11),\"\",'Données générales'!B11)","v":""},{"$f":"IF(ISBLANK('Données générales'!C11),\"\",'Données générales'!C11)","v":""},null,{"$f":"E15+Octobre!F15","v":{"v":0,"d":"0.00"}},null,{"$f":"G15+Octobre!H15","v":0},null,{"$f":"I15+Octobre!J15","v":0},null,{"$f":"K15+Octobre!L15","v":0},null,{"$f":"M15+Octobre!N15","v":0},null,{"$f":"O15+Octobre!P15","v":0},null,{"$f":"Q15+Octobre!R15","v":0},"","","",""]
[null,6,{"$f":"IF(ISBLANK('Données générales'!B12),\"\",'Données générales'!B12)","v":""},{"$f":"IF(ISBLANK('Données générales'!C12),\"\",'Données générales'!C12)","v":""},null,{"$f":"E16+Octobre!F16","v":{"v":0,"d":"0.00"}},null,{"$f":"G16+Octobre!H16","v":0},null,{"$f":"I16+Octobre!J16","v":0},null,{"$f":"K16+Octobre!L16","v":0},null,{"$f":"M16+Octobre!N16","v":0},null,{"$f":"O16+Octobre!P16","v":0},null,{"$f":"Q16+Octobre!R16","v":0},"","","",""]
[null,7,{"$f":"IF(ISBLANK('Données générales'!B13),\"\",'Données générales'!B13)","v":""},{"$f":"IF(ISBLANK('Données générales'!C13),\"\",'Données générales'!C13)","v":""},null,{"$f":"E17+Octobre!F17","v":{"v":0,"d":"0.00"}},null,{"$f":"G17+Octobre!H17","v":0},null,{"$f":"I17+Octobre!J17","v":0},null,{"$f":"K17+Octobre!L17","v":0},null,{"$f":"M17+Octobre!N17","v":0},null,{"$f":"O17+Octobre!P17","v":0},null,{"$f":"Q17+Octobre!R17","v":0},"","","",""]
[null,8,{"$f":"IF(ISBLANK('Données générales'!B14),\"\",'Données générales'!B14)","v":""},{"$f":"IF(ISBLANK('Données générales'!C14),\"\",'Données générales'!C14)","v":""},null,{"$f":"E18+Octobre!F18","v":{"v":0,"d":"0.00"}},null,{"$f":"G18+Octobre!H18","v":0},null,{"$f":"I18+Octobre!J18","v":0},null,{"$f":"K18+Octobre!L18","v":0},null,{"$f":"M18+Octobre!N18","v":0},null,{"$f":"O18+Octobre!P18","v":0},null,{"$f":"Q18+Octobre!R18","v":0},"","","",""]
[null,9,{"$f":"IF(ISBLANK('Données générales'!B15),\"\",'Données générales'!B15)","v":""},{"$f":"IF(ISBLANK('Données générales'!C15),\"\",'Données générales'!C15)","v":""},null,{"$f":"E19+Octobre!F19","v":{"v":0,"d":"0.00"}},null,{"$f":"G19+Octobre!H19","v":0},null,{"$f":"I19+Octobre!J19","v":0},null,{"$f":"K19+Octobre!L19","v":0},null,{"$f":"M19+Octobre!N19","v":0},null,{"$f":"O19+Octobre!P19","v":0},null,{"$f":"Q19+Octobre!R19","v":0},"","","",""]
[null,10,{"$f":"IF(ISBLANK('Données générales'!B16),\"\",'Données générales'!B16)","v":""},{"$f":"IF(ISBLANK('Données générales'!C16),\"\",'Données générales'!C16)","v":""},null,{"$f":"E20+Octobre!F20","v":{"v":0,"d":"0.00"}},null,{"$f":"G20+Octobre!H20","v":0},null,{"$f":"I20+Octobre!J20","v":0},null,{"$f":"K20+Octobre!L20","v":0},null,{"$f":"M20+Octobre!N20","v":0},null,{"$f":"O20+Octobre!P20","v":0},null,{"$f":"Q20+Octobre!R20","v":0},"","","",""]
[null,11,{"$f":"IF(ISBLANK('Données générales'!B17),\"\",'Données générales'!B17)","v":""},{"$f":"IF(ISBLANK('Données générales'!C17),\"\",'Données générales'!C17)","v":""},null,{"$f":"E21+Octobre!F21","v":{"v":0,"d":"0.00"}},null,{"$f":"G21+Octobre!H21","v":0},null,{"$f":"I21+Octobre!J21","v":0},null,{"$f":"K21+Octobre!L21","v":0},null,{"$f":"M21+Octobre!N21","v":0},null,{"$f":"O21+Octobre!P21","v":0},null,{"$f":"Q21+Octobre!R21","v":0},"","","",""]
[null,12,{"$f":"IF(ISBLANK('Données générales'!B18),\"\",'Données générales'!B18)","v":""},{"$f":"IF(ISBLANK('Données générales'!C18),\"\",'Données générales'!C18)","v":""},null,{"$f":"E22+Octobre!F22","v":{"v":0,"d":"0.00"}},null,{"$f":"G22+Octobre!H22","v":0},null,{"$f":"I22+Octobre!J22","v":0},null,{"$f":"K22+Octobre!L22","v":0},null,{"$f":"M22+Octobre!N22","v":0},null,{"$f":"O22+Octobre!P22","v":0},null,{"$f":"Q22+Octobre!R22","v":0},"","","",""]
[null,13,{"$f":"IF(ISBLANK('Données générales'!B19),\"\",'Données générales'!B19)","v":""},{"$f":"IF(ISBLANK('Données générales'!C19),\"\",'Données générales'!C19)","v":""},null,{"$f":"E23+Octobre!F23","v":{"v":0,"d":"0.00"}},null,{"$f":"G23+Octobre!H23","v":0},null,{"$f":"I23+Octobre!J23","v":0},null,{"$f":"K23+Octobre!L23","v":0},null,{"$f":"M23+Octobre!N23","v":0},null,{"$f":"O23+Octobre!P23","v":0},null,{"$f":"Q23+Octobre!R23","v":0},"","","",""]
[null,14,{"$f":"IF(ISBLANK('Données générales'!B20),\"\",'Données générales'!B20)","v":""},{"$f":"IF(ISBLANK('Données générales'!C20),\"\",'Données générales'!C20)","v":""},null,{"$f":"E24+Octobre!F24","v":{"v":0,"d":"0.00"}},null,{"$f":"G24+Octobre!H24","v":0},null,{"$f":"I24+Octobre!J24","v":0},null,{"$f":"K24+Octobre!L24","v":0},null,{"$f":"M24+Octobre!N24","v":0},null,{"$f":"O24+Octobre!P24","v":0},null,{"$f":"Q24+Octobre!R24","v":0},"","","",""]
[null,15,{"$f":"IF(ISBLANK('Données générales'!B26),\"\",'Données générales'!B26)","v":""},{"$f":"IF(ISBLANK('Données générales'!C26),\"\",'Données générales'!C26)","v":""},null,{"$f":"E25+Octobre!F25","v":{"v":0,"d":"0.00"}},null,{"$f":"G25+Octobre!H25","v":0},null,{"$f":"I25+Octobre!J25","v":0},null,{"$f":"K25+Octobre!L25","v":0},null,{"$f":"M25+Octobre!N25","v":0},null,{"$f":"O25+Octobre!P25","v":0},null,{"$f":"Q25+Octobre!R25","v":0},"","","",""]
[null,16,{"$f":"IF(ISBLANK('Données générales'!B22),\"\",'Données générales'!B22)","v":""},{"$f":"IF(ISBLANK('Données générales'!C22),\"\",'Données générales'!C22)","v":""},null,{"$f":"E26+Octobre!F26","v":{"v":0,"d":"0.00"}},null,{"$f":"G26+Octobre!H26","v":0},null,{"$f":"I26+Octobre!J26","v":0},null,{"$f":"K26+Octobre!L26","v":0},null,{"$f":"M26+Octobre!N26","v":0},null,{"$f":"O26+Octobre!P26","v":0},null,{"$f":"Q26+Octobre!R26","v":0},"","","",""]
[null,17,{"$f":"IF(ISBLANK('Données générales'!B23),\"\",'Données générales'!B23)","v":""},{"$f":"IF(ISBLANK('Données générales'!C23),\"\",'Données générales'!C23)","v":""},null,{"$f":"E27+Octobre!F27","v":{"v":0,"d":"0.00"}},null,{"$f":"G27+Octobre!H27","v":0},null,{"$f":"I27+Octobre!J27","v":0},null,{"$f":"K27+Octobre!L27","v":0},null,{"$f":"M27+Octobre!N27","v":0},null,{"$f":"O27+Octobre!P27","v":0},null,{"$f":"Q27+Octobre!R27","v":0},{"$f":"IFERROR(M27*1000000/E27,\"\")","v":""},"","",""]
[null,18,{"$f":"IF(ISBLANK('Données générales'!B24),\"\",'Données générales'!B24)","v":""},{"$f":"IF(ISBLANK('Données générales'!C24),\"\",'Données générales'!C24)","v":""},null,{"$f":"E28+Octobre!F28","v":{"v":0,"d":"0.00"}},null,{"$f":"G28+Octobre!H28","v":0},null,{"$f":"I28+Octobre!J28","v":0},null,{"$f":"K28+Octobre!L28","v":0},null,{"$f":"M28+Octobre!N28","v":0},null,{"$f":"O28+Octobre!P28","v":0},null,{"$f":"Q28+Octobre!R28","v":0},"","","",""]
[null,19,{"$f":"IF(ISBLANK('Données générales'!B25),\"\",'Données générales'!B25)","v":""},{"$f":"IF(ISBLANK('Données générales'!C25),\"\",'Données générales'!C25)","v":""},null,{"$f":"E29+Octobre!F29","v":{"v":0,"d":"0.00"}},null,{"$f":"G29+Octobre!H29","v":0},null,{"$f":"I29+Octobre!J29","v":0},null,{"$f":"K29+Octobre!L29","v":0},null,{"$f":"M29+Octobre!N29","v":0},null,{"$f":"O29+Octobre!P29","v":0},null,{"$f":"Q29+Octobre!R29","v":0},"","","",""]
[null,20,{"$f":"IF(ISBLANK('Données générales'!B26),\"\",'Données générales'!B26)","v":""},{"$f":"IF(ISBLANK('Données générales'!C26),\"\",'Données générales'!C26)","v":""},null,{"$f":"E30+Octobre!F30","v":{"v":0,"d":"0.00"}},null,{"$f":"G30+Octobre!H30","v":0},null,{"$f":"I30+Octobre!J30","v":0},null,{"$f":"K30+Octobre!L30","v":0},null,{"$f":"M30+Octobre!N30","v":0},null,{"$f":"O30+Octobre!P30","v":0},null,{"$f":"Q30+Octobre!R30","v":0},"","","",""]
[null,null,"Total",null,{"$f":"SUM(E11:E30)","v":{"v":0,"d":"0.00"}},{"$f":"SUM(F11:F30)","v":{"v":0,"d":"0.00"}},{"$f":"SUM(G11:G30)","v":0},{"$f":"SUM(H11:H30)","v":0},0,0,0,0,0,0,0,0,0,0,{"$f":"IFERROR(M31*200000/E31,\"\")","v":""},{"$f":"IFERROR(N31*200000/F31,\"\")","v":""},{"$f":"IFERROR(O31*200000/E31,\"\")","v":""},{"$f":"IFERROR(P31*200000/F31,\"\")","v":""}]
[null,"Approbation du gestionnaire de chantier d'Hydro-Québec :\n                                                         AA/MM/JJ",null,null,"*EG : Entrepreneur Général\n*ST : Sous-traitant\n*C : Consultant",null,"Taux de fréquence = Nbre de perte de temps X 200 000\n                                    Nbre d'heures travaillées",{"$nulls":8},"Taux de gravité = Nbre de jours perdus X 200 000\n                              Nbre d'heures travaillées"]
[]
[null,"Sommaire des évènements\n(À remplir si les rapports d'évènements ne sont pas envoyés en même temps)"]
[]
[null,"No","Entrepreneur",null,"Date",null,"Type d'évènement",null,"Description",{"$nulls":10},"Si perte de temps\nNombre de jours perdus"]
[null,1]
[null,2]
[null,3]
[null,4]
[null,5]
[null,6]
[null,7]
[null,8]
[null,9]
[null,10]
[]
[]
[]
[]
[null,"Listes déroulantes :"]
[]
[null,null,"Identification",null,null,"Unité administrative",{"$nulls":5},"Conséquences",null,null,"Mois",{"$nulls":3},"Année"]
[]
[null,null,"EG*",null,null,"DPPTC - Projets Poste",{"$nulls":5},"Premier soin",null,null,"Janvier",{"$nulls":3},2011]
[null,null,"ST*",null,null,"DPPTC - Projets Ligne",{"$nulls":5},"Assistance médicale",null,null,"Février",{"$nulls":3},2012]
[null,null,"C*",null,null,"DPPTC - Projets ICR-Interconnexion",{"$nulls":5},"Assignation temporaire",null,null,"Mars",{"$nulls":3},2013]
[{"$nulls":5},"SEBJ - Dir. Projets Eastmain",{"$nulls":5},"Perte de temps",null,null,"Avril",{"$nulls":3},2014]
[{"$nulls":5},"Gentilly II",{"$nulls":5},"Incident",null,null,"Mai",{"$nulls":3},2015]
[{"$nulls":5},"GPMB Baie-Comeau",{"$nulls":5},"Dommage matériel",null,null,"Juin",{"$nulls":3},2016]
[{"$nulls":5},"GPMB Chicoutimi",{"$nulls":8},"Juillet",{"$nulls":3},2017]
[{"$nulls":5},"GPMB Rimouski",{"$nulls":8},"Août",{"$nulls":3},2018]
[{"$nulls":5},"GPMB  territoire Ouest",{"$nulls":8},"Septembre",{"$nulls":3},2019]
[{"$nulls":5},"GPMB  territoire Sud et Ouest",{"$nulls":8},"Octobre",{"$nulls":3},2020]
[{"$nulls":5},"GPMB  Trois-Rivières",{"$nulls":8},"Novembre",{"$nulls":3},2021]
[{"$nulls":5},"Projets de centrales Romaine",{"$nulls":8},"Décembre",{"$nulls":3},2022]
[{"$nulls":5},"DPPP - Réfections - Projets 2",{"$nulls":12},2023]
[{"$nulls":5},"DPPP - Réfections - Projets 4",{"$nulls":12},2024]
[{"$nulls":5},"DPPP - Réfections - Projets 5",{"$nulls":12},2025]
[{"$nulls":5},"DPPP - Réfections - Projets 6",{"$nulls":12},2026]
[{"$nulls":5},"DPPP - Réfections - Projets 7",{"$nulls":12},2027]
[{"$nulls":18},2028]
[{"$nulls":18},2029]
[{"$nulls":18},2030]

{"sheet":"Décembre","index":13,"n_rows":74,"n_cols":22,"rows_kept":74,"merged":[[0,1,0,21],[2,3,2,6],[2,8,2,10],[2,11,2,13],[2,14,2,16],[2,17,2,18],[4,3,4,6],[4,8,4,10],[4,11,4,13],[4,14,4,16],[4,17,4,18],[6,3,6,6],[6,8,6,10],[6,11,6,13],[6,14,6,16],[6,17,6,18],[8,1,9,1],[8,2,9,3],[8,4,8,5],[8,6,8,7],[8,8,8,9],[8,10,8,11],[8,12,8,13],[8,14,8,15],[8,16,8,17],[8,18,8,19],[8,20,8,21],[30,2,30,3],[31,1,31,3],[31,4,31,5],[31,6,31,14],[31,15,31,21],[33,1,33,18],[35,2,35,3],[35,4,35,5],[35,6,35,7],[35,8,35,18],[35,19,35,21],[36,2,36,3],[36,4,36,5],[36,6,36,7],[36,8,36,18],[36,19,36,21],[37,2,37,3],[37,4,37,5],[37,6,37,7],[37,8,37,18],[37,19,37,21],[38,2,38,3],[38,4,38,5],[38,6,38,7],[38,8,38,18],[38,19,38,21],[39,2,39,3],[39,4,39,5],[39,6,39,7],[39,8,39,18],[39,19,39,21],[40,2,40,3],[40,4,40,5],[40,6,40,7],[40,8,40,18],[40,19,40,21],[41,2,41,3],[41,4,41,5],[41,6,41,7],[41,8,41,18],[41,19,41,21],[42,2,42,3],[42,4,42,5],[42,6,42,7],[42,8,42,18],[42,19,42,21],[43,2,43,3],[43,4,43,5],[43,6,43,7],[43,8,43,18],[43,19,43,21],[44,2,44,3],[44,4,44,5],[44,6,44,7],[44,8,44,18],[44,19,44,21],[45,2,45,3],[45,4,45,5],[45,6,45,7],[45,8,45,18],[45,19,45,21],[50,1,50,2]]}
[null,"SOMMAIRE MENSUEL ET CUMULATIF DES ACCIDENTS DE TRAVAIL DES ENTREPRENEURS"]
[]
[null,null,"Entrepreneur général :",{"$f":"Janvier!D3:G3","v":""},{"$nulls":4},"# de projet :",null,null,{"$f":"Janvier!L3:N3","v":""},null,null,"Mois concerné :",null,null,"Décembre",null,null,"# Rév. :"]
[]
[null,null,"Chantier :",{"$f":"Janvier!D5:G5","v":""},{"$nulls":4},"# d'appel d'offre :",null,null,{"$f":"Janvier!L5:N5","v":""},null,null,"Année concernée :",null,null,{"$f":"Janvier!R5:S5","v":2020}]
[]
[null,null,"Rapport complété par :",{"$nulls":5},"Titre :",{"$nulls":5},"Date remplie :"]
[]
[null,"No","Liste des entrepreneurs et consultants",null,"Heures travaillées",null,"Premiers soins",null,"Assistance médicale",null,"Assignation temporaire",null,"Perte de temps",null,"Jours perdus",null,"Incident/\nDommage mat.",null,"Taux de fréquence",null,"Taux de gravité"]
[{"$nulls":4},"Mensuel","Cumulatif","Mens.","Cumul.","Mens.","Cumul.","Mens.","Cumul.","Mens.","Cumul.","Mens.","Cumul.","Mens.","Cumul.","Mens.","Cumul.","Mens.","Cumul."]
[null,1,{"$f":"IF(ISBLANK('Données générales'!B7),\"\",'Données générales'!B7)","v":""},{"$f":"IF(ISBLANK('Données générales'!C7),\"\",'Données générales'!C7)","v":""},null,{"$f":"E11+Novembre!F11","v":{"v":0,"d":"0.00"}},null,{"$f":"G11+Novembre!H11","v":0},null,{"$f":"I11+Novembre!J11","v":0},null,{"$f":"K11+Novembre!L11","v":0},null,{"$f":"M11+Novembre!N11","v":0},null,{"$f":"O11+Novembre!P11","v":0},null,{"$f":"Q11+Novembre!R11","v":0},{"$f":"IFERROR(M11*1000000/E11,\"\")","v":""},{"$f":"IFERROR(N11*1000000/F11,\"\")","v":""},{"$f":"IFERROR(O11*1000000/E11,\"\")","v":""},{"$f":"IFERROR(P11*1000000/F11,\"\")","v":""}]
[null,2,{"$f":"IF(ISBLANK('Données générales'!B8),\"\",'Données générales'!B8)","v":""},{"$f":"IF(ISBLANK('Données générales'!C8),\"\",'Données générales'!C8)","v":""},null,{"$f":"E12+Novembre!F12","v":{"v":0,"d":"0.00"}},null,{"$f":"G12+Novembre!H12","v":0},null,{"$f":"I12+Novembre!J12","v":0},null,{"$f":"K12+Novembre!L12","v":0},null,{"$f":"M12+Novembre!N12","v":0},null,{"$f":"O12+Novembre!P12","v":0},null,{"$f":"Q12+Novembre!R12","v":0},{"$f":"IFERROR(M12*1000000/E12,\"\")","v":""},"",{"$f":"IFERROR(O12*1000000/E12,\"\")","v":""},""]
[null,3,{"$f":"IF(ISBLANK('Données générales'!B9),\"\",'Données générales'!B9)","v":""},{"$f":"IF(ISBLANK('Données générales'!C9),\"\",'Données générales'!C9)","v":""},null,{"$f":"E13+Novembre!F13","v":{"v":0,"d":"0.00"}},null,{"$f":"G13+Novembre!H13","v":0},null,{"$f":"I13+Novembre!J13","v":0},null,{"$f":"K13+Novembre!L13","v":0},null,{"$f":"M13+Novembre!N13","v":0},null,{"$f":"O13+Novembre!P13","v":0},null,{"$f":"Q13+Novembre!R13","v":0},"","","",""]
[null,4,{"$f":"IF(ISBLANK('Données générales'!B10),\"\",'Données générales'!B10)","v":""},{"$f":"IF(ISBLANK('Données générales'!C10),\"\",'Données générales'!C10)","v":""},null,{"$f":"E14+Novembre!F14","v":{"v":0,"d":"0.00"}},null,{"$f":"G14+Novembre!H14","v":0},null,{"$f":"I14+Novembre!J14","v":0},null,{"$f":"K14+Novembre!L14","v":0},null,{"$f":"M14+Novembre!N14","v":0},null,{"$f":"O14+Novembre!P14","v":0},null,{"$f":"Q14+Novembre!R14","v":0},"","","",""]
[null,5,{"$f":"IF(ISBLANK('Données générales'!B11),\"\",'Données générales'!B11)","v":""},{"$f":"IF(ISBLANK('Données générales'!C11),\"\",'Données générales'!C11)","v":""},null,{"$f":"E15+Novembre!F15","v":{"v":0,"d":"0.00"}},null,{"$f":"G15+Novembre!H15","v":0},null,{"$f":"I15+Novembre!J15","v":0},null,{"$f":"K15+Novembre!L15","v":0},null,{"$f":"M15+Novembre!N15","v":0},null,{"$f":"O15+Novembre!P15","v":0},null,{"$f":"Q15+Novembre!R15","v":0},"","","",""]
[null,6,{"$f":"IF(ISBLANK('Données générales'!B12),\"\",'Données générales'!B12)","v":""},{"$f":"IF(ISBLANK('Données générales'!C12),\"\",'Données générales'!C12)","v":""},null,{"$f":"E16+Novembre!F16","v":{"v":0,"d":"0.00"}},null,{"$f":"G16+Novembre!H16","v":0},null,{"$f":"I16+Novembre!J16","v":0},null,{"$f":"K16+Novembre!L16","v":0},null,{"$f":"M16+Novembre!N16","v":0},null,{"$f":"O16+Novembre!P16","v":0},null,{"$f":"Q16+Novembre!R16","v":0},"","","",""]
[null,7,{"$f":"IF(ISBLANK('Données générales'!B13),\"\",'Données générales'!B13)","v":""},{"$f":"IF(ISBLANK('Données générales'!C13),\"\",'Données générales'!C13)","v":""},null,{"$f":"E17+Novembre!F17","v":{"v":0,"d":"0.00"}},null,{"$f":"G17+Novembre!H17","v":0},null,{"$f":"I17+Novembre!J17","v":0},null,{"$f":"K17+Novembre!L17","v":0},null,{"$f":"M17+Novembre!N17","v":0},null,{"$f":"O17+Novembre!P17","v":0},null,{"$f":"Q17+Novembre!R17","v":0},"","","",""]
[null,8,{"$f":"IF(ISBLANK('Données générales'!B14),\"\",'Données générales'!B14)","v":""},{"$f":"IF(ISBLANK('Données générales'!C14),\"\",'Données générales'!C14)","v":""},null,{"$f":"E18+Novembre!F18","v":{"v":0,"d":"0.00"}},null,{"$f":"G18+Novembre!H18","v":0},null,{"$f":"I18+Novembre!J18","v":0},null,{"$f":"K18+Novembre!L18","v":0},null,{"$f":"M18+Novembre!N18","v":0},null,{"$f":"O18+Novembre!P18","v":0},null,{"$f":"Q18+Novembre!R18","v":0},"","","",""]
[null,9,{"$f":"IF(ISBLANK('Données générales'!B15),\"\",'Données générales'!B15)","v":""},{"$f":"IF(ISBLANK('Données générales'!C15),\"\",'Données générales'!C15)","v":""},null,{"$f":"E19+Novembre!F19","v":{"v":0,"d":"0.00"}},null,{"$f":"G19+Novembre!H19","v":0},null,{"$f":"I19+Novembre!J19","v":0},null,{"$f":"K19+Novembre!L19","v":0},null,{"$f":"M19+Novembre!N19","v":0},null,{"$f":"O19+Novembre!P19","v":0},null,{"$f":"Q19+Novembre!R19","v":0},"","","",""]
[null,10,{"$f":"IF(ISBLANK('Données générales'!B16),\"\",'Données générales'!B16)","v":""},{"$f":"IF(ISBLANK('Données générales'!C16),\"\",'Données générales'!C16)","v":""},null,{"$f":"E20+Novembre!F20","v":{"v":0,"d":"0.00"}},null,{"$f":"G20+Novembre!H20","v":0},null,{"$f":"I20+Novembre!J20","v":0},null,{"$f":"K20+Novembre!L20","v":0},null,{"$f":"M20+Novembre!N20","v":0},null,{"$f":"O20+Novembre!P20","v":0},null,{"$f":"Q20+Novembre!R20","v":0},"","","",""]
[null,11,{"$f":"IF(ISBLANK('Données générales'!B17),\"\",'Données générales'!B17)","v":""},{"$f":"IF(ISBLANK('Données générales'!C17),\"\",'Données générales'!C17)","v":""},null,{"$f":"E21+Novembre!F21","v":{"v":0,"d":"0.00"}},null,{"$f":"G21+Novembre!H21","v":0},null,{"$f":"I21+Novembre!J21","v":0},null,{"$f":"K21+Novembre!L21","v":0},null,{"$f":"M21+Novembre!N21","v":0},null,{"$f":"O21+Novembre!P21","v":0},null,{"$f":"Q21+Novembre!R21","v":0},"","","",""]
[null,12,{"$f":"IF(ISBLANK('Données générales'!B18),\"\",'Données générales'!B18)","v":""},{"$f":"IF(ISBLANK('Données générales'!C18),\"\",'Données générales'!C18)","v":""},null,{"$f":"E22+Novembre!F22","v":{"v":0,"d":"0.00"}},null,{"$f":"G22+Novembre!H22","v":0},null,{"$f":"I22+Novembre!J22","v":0},null,{"$f":"K22+Novembre!L22","v":0},null,{"$f":"M22+Novembre!N22","v":0},null,{"$f":"O22+Novembre!P22","v":0},null,{"$f":"Q22+Novembre!R22","v":0},"","","",""]
[null,13,{"$f":"IF(ISBLANK('Données générales'!B19),\"\",'Données générales'!B19)","v":""},{"$f":"IF(ISBLANK('Données générales'!C19),\"\",'Données générales'!C19)","v":""},null,{"$f":"E23+Novembre!F23","v":{"v":0,"d":"0.00"}},null,{"$f":"G23+Novembre!H23","v":0},null,{"$f":"I23+Novembre!J23","v":0},null,{"$f":"K23+Novembre!L23","v":0},null,{"$f":"M23+Novembre!N23","v":0},null,{"$f":"O23+Novembre!P23","v":0},null,{"$f":"Q23+Novembre!R23","v":0},"","","",""]
[null,14,{"$f":"IF(ISBLANK('Données générales'!B20),\"\",'Données générales'!B20)","v":""},{"$f":"IF(ISBLANK('Données générales'!C20),\"\",'Données générales'!C20)","v":""},null,{"$f":"E24+Novembre!F24","v":{"v":0,"d":"0.00"}},null,{"$f":"G24+Novembre!H24","v":0},null,{"$f":"I24+Novembre!J24","v":0},null,{"$f":"K24+Novembre!L24","v":0},null,{"$f":"M24+Novembre!N24","v":0},null,{"$f":"O24+Novembre!P24","v":0},null,{"$f":"Q24+Novembre!R24","v":0},"","","",""]
[null,15,{"$f":"IF(ISBLANK('Données générales'!B26),\"\",'Données générales'!B26)","v":""},{"$f":"IF(ISBLANK('Données générales'!C26),\"\",'Données générales'!C26)","v":""},null,{"$f":"E25+Novembre!F25","v":{"v":0,"d":"0.00"}},null,{"$f":"G25+Novembre!H25","v":0},null,{"$f":"I25+Novembre!J25","v":0},null,{"$f":"K25+Novembre!L25","v":0},null,{"$f":"M25+Novembre!N25","v":0},null,{"$f":"O25+Novembre!P25","v":0},null,{"$f":"Q25+Novembre!R25","v":0},"","","",""]
[null,16,{"$f":"IF(ISBLANK('Données générales'!B22),\"\",'Données générales'!B22)","v":""},{"$f":"IF(ISBLANK('Données générales'!C22),\"\",'Données générales'!C22)","v":""},null,{"$f":"E26+Novembre!F26","v":{"v":0,"d":"0.00"}},null,{"$f":"G26+Novembre!H26","v":0},null,{"$f":"I26+Novembre!J26","v":0},null,{"$f":"K26+Novembre!L26","v":0},null,{"$f":"M26+Novembre!N26","v":0},null,{"$f":"O26+Novembre!P26","v":0},null,{"$f":"Q26+Novembre!R26","v":0},"","","",""]
[null,17,{"$f":"IF(ISBLANK('Données générales'!B23),\"\",'Données générales'!B23)","v":""},{"$f":"IF(ISBLANK('Données générales'!C23),\"\",'Données générales'!C23)","v":""},null,{"$f":"E27+Novembre!F27","v":{"v":0,"d":"0.00"}},null,{"$f":"G27+Novembre!H27","v":0},null,{"$f":"I27+Novembre!J27","v":0},null,{"$f":"K27+Novembre!L27","v":0},null,{"$f":"M27+Novembre!N27","v":0},null,{"$f":"O27+Novembre!P27","v":0},null,{"$f":"Q27+Novembre!R27","v":0},{"$f":"IFERROR(M27*1000000/E27,\"\")","v":""},"","",""]
[null,18,{"$f":"IF(ISBLANK('Données générales'!B24),\"\",'Données générales'!B24)","v":""},{"$f":"IF(ISBLANK('Données générales'!C24),\"\",'Données générales'!C24)","v":""},null,{"$f":"E28+Novembre!F28","v":{"v":0,"d":"0.00"}},null,{"$f":"G28+Novembre!H28","v":0},null,{"$f":"I28+Novembre!J28","v":0},null,{"$f":"K28+Novembre!L28","v":0},null,{"$f":"M28+Novembre!N28","v":0},null,{"$f":"O28+Novembre!P28","v":0},null,{"$f":"Q28+Novembre!R28","v":0},"","","",""]
[null,19,{"$f":"IF(ISBLANK('Données générales'!B25),\"\",'Données générales'!B25)","v":""},{"$f":"IF(ISBLANK('Données générales'!C25),\"\",'Données générales'!C25)","v":""},null,{"$f":"E29+Novembre!F29","v":{"v":0,"d":"0.00"}},null,{"$f":"G29+Novembre!H29","v":0},null,{"$f":"I29+Novembre!J29","v":0},null,{"$f":"K29+Novembre!L29","v":0},null,{"$f":"M29+Novembre!N29","v":0},null,{"$f":"O29+Novembre!P29","v":0},null,{"$f":"Q29+Novembre!R29","v":0},"","","",""]
[null,20,{"$f":"IF(ISBLANK('Données générales'!B26),\"\",'Données générales'!B26)","v":""},{"$f":"IF(ISBLANK('Données générales'!C26),\"\",'Données générales'!C26)","v":""},null,{"$f":"E30+Novembre!F30","v":{"v":0,"d":"0.00"}},null,{"$f":"G30+Novembre!H30","v":0},null,{"$f":"I30+Novembre!J30","v":0},null,{"$f":"K30+Novembre!L30","v":0},null,{"$f":"M30+Novembre!N30","v":0},null,{"$f":"O30+Novembre!P30","v":0},null,{"$f":"Q30+Novembre!R30","v":0},"","","",""]
[null,null,"Total",null,{"$f":"SUM(E11:E30)","v":{"v":0,"d":"0.00"}},{"$f":"SUM(F11:F30)","v":{"v":0,"d":"0.00"}},{"$f":"SUM(G11:G30)","v":0},{"$f":"SUM(H11:H30)","v":0},0,0,0,0,0,0,0,0,0,0,{"$f":"IFERROR(M31*200000/E31,\"\")","v":""},{"$f":"IFERROR(N31*200000/F31,\"\")","v":""},{"$f":"IFERROR(O31*200000/E31,\"\")","v":""},{"$f":"IFERROR(P31*200000/F31,\"\")","v":""}]
[null,"Approbation du gestionnaire de chantier d'Hydro-Québec :\n                                                         AA/MM/JJ",null,null,"*EG : Entrepreneur Général\n*ST : Sous-traitant\n*C : Consultant",null,"Taux de fréquence = Nbre de perte de temps X 200 000\n                                    Nbre d'heures travaillées",{"$nulls":8},"Taux de gravité = Nbre de jours perdus X 200 000\n                              Nbre d'heures travaillées"]
[]
[null,"Sommaire des évènements\n(À remplir si les rapports d'évènements ne sont pas envoyés en même temps)"]
[]
[null,"No","Entrepreneur",null,"Date",null,"Type d'évènement",null,"Description",{"$nulls":10},"Si perte de temps\nNombre de jours perdus"]
[null,1]
[null,2]
[null,3]
[null,4]
[null,5]
[null,6]
[null,7]
[null,8]
[null,9]
[null,10]
[]
[]
[]
[]
[null,"Listes déroulantes :"]
[]
[null,null,"Identification",null,null,"Unité administrative",{"$nulls":5},"Conséquences",null,null,"Mois",{"$nulls":3},"Année"]
[]
[null,null,"EG*",null,null,"DPPTC - Projets Poste",{"$nulls":5},"Premier soin",null,null,"Janvier",{"$nulls":3},2011]
[null,null,"ST*",null,null,"DPPTC - Projets Ligne",{"$nulls":5},"Assistance médicale",null,null,"Février",{"$nulls":3},2012]
[null,null,"C*",null,null,"DPPTC - Projets ICR-Interconnexion",{"$nulls":5},"Assignation temporaire",null,null,"Mars",{"$nulls":3},2013]
[{"$nulls":5},"SEBJ - Dir. Projets Eastmain",{"$nulls":5},"Perte de temps",null,null,"Avril",{"$nulls":3},2014]
[{"$nulls":5},"Gentilly II",{"$nulls":5},"Incident",null,null,"Mai",{"$nulls":3},2015]
[{"$nulls":5},"GPMB Baie-Comeau",{"$nulls":5},"Dommage matériel",null,null,"Juin",{"$nulls":3},2016]
[{"$nulls":5},"GPMB Chicoutimi",{"$nulls":8},"Juillet",{"$nulls":3},2017]
[{"$nulls":5},"GPMB Rimouski",{"$nulls":8},"Août",{"$nulls":3},2018]
[{"$nulls":5},"GPMB  territoire Ouest",{"$nulls":8},"Septembre",{"$nulls":3},2019]
[{"$nulls":5},"GPMB  territoire Sud et Ouest",{"$nulls":8},"Octobre",{"$nulls":3},2020]
[{"$nulls":5},"GPMB  Trois-Rivières",{"$nulls":8},"Novembre",{"$nulls":3},2021]
[{"$nulls":5},"Projets de centrales Romaine",{"$nulls":8},"Décembre",{"$nulls":3},2022]
[{"$nulls":5},"DPPP - Réfections - Projets 2",{"$nulls":12},2023]
[{"$nulls":5},"DPPP - Réfections - Projets 4",{"$nulls":12},2024]
[{"$nulls":5},"DPPP - Réfections - Projets 5",{"$nulls":12},2025]
[{"$nulls":5},"DPPP - Réfections - Projets 6",{"$nulls":12},2026]
[{"$nulls":5},"DPPP - Réfections - Projets 7",{"$nulls":12},2027]
[{"$nulls":18},2028]
[{"$nulls":18},2029]
[{"$nulls":18},2030]