Workbook
Name A2A: #REF!
Name A2A: #REF!
Name A2A: #REF!
Name A2A: #REF!
Name A2A: #REF!
Name A2A: #REF!
Name A2A: #REF!
Name A2A: #REF!
Name A2A: #REF!
Name A2A: #REF!
Name A2A: #REF!
Name A2A: #REF!
Name A2A: #REF!
Name A2A: #REF!
Name A2A: #REF!
Name A2A: #REF!
Name A2A: #REF!
Name A2A: #REF!
Name Danger: #REF!
Name Danger: #REF!
Name Dangers: #REF!
Name Dangers: #REF!
Name Dommages: #REF!
Name Dommages: #REF!
Name Dommages_2: #REF!
Name Dommages_2: #REF!
Name Facteur: #REF!
Name Facteur: #REF!
Name HH: #REF!
Name HH: #REF!
Name Parametres: #REF!
Name Parametres: #REF!
Name Risque: #REF!
Name Risque: #REF!
Name Risques: #REF!
Name Risques: #REF!
Name s: #REF!
Name s: #REF!
Name s: #REF!
Name s: #REF!
Name s: #REF!
Name s: #REF!
Name s: #REF!
Name s: #REF!
Name s: #REF!
Name s: #REF!
Name s: #REF!
Name s: #REF!
Name s: #REF!
Name s: #REF!
Name s: #REF!
Name s: #REF!
Name s: #REF!
Name s: #REF!
Name saisi: #REF!,#REF!,#REF!,#REF!,#REF!,#REF!
Name saisi: #REF!,#REF!,#REF!,#REF!,#REF!,#REF!
Name saisie: '[1]FS global'!#REF!,'[1]FS global'!$B$13,'[1]FS global'!$F$12,'[1]FS global'!$B$12,'[1]FS global'!$B$11,'[1]FS global'!$B$10
Name saisie: #REF!,#REF!,#REF!,#REF!,#REF!,#REF!
Name saisie: #REF!,#REF!,#REF!,#REF!,#REF!,#REF!
Name saisie: #REF!,#REF!,#REF!,#REF!,#REF!,#REF!

Sheet Liste des modifications
G2: Formule de soumission
G3: Appel de propositions: AM005461
F4: Niveau de confidentialité: Confidentiel une fois rempli
B5: LISTE DES MODIFICATIONS DE LA FORMULE DE SOUMISSION *
B7: RÉVISION | D7: ADDENDA | E7: ONGLET | F7: DÉTAILS
B8: 0 | D8: --- | E8: --- | F8: Version originale pour publication
B9: 1 | D9: 2 | E9: Modifications: « Sommaire » « Poste 120 » « Poste 130 » | F9: Retrait de la certification PGES / Portée Hydro-Québec pour les postes 120 et 130 - Montmorency.
B18: * | C18: Cet onglet est réservé à l'usage exclusif d'Hydro-Québec

Sheet - Instructions -
C4: Instructions et Particularités
C6: Onglets « Capacité » et « Renseignements »
C8: Seulement les cases en bleu sont à remplir
C11: Onglets Poste 10 à Poste 170:
C13: Seulement les cases en bleu sont à remplir
C15: Étape 1: Productivités associés à chaque mode.
C17: 1 | D17: La productivité doit être détaillée par classe de densité lorsque fournies.
C18: 2 | D18: Pour le mode M112 - M127, un ajustement de productivité est possible pour les contrats où le type de végétation est à majorité feuillue ou résineuse ainsi que pour les peuplements où la hauteur est principalement 4 mètres et +. Cet ajustement est facultatif.
C21: 3 | D21: Pour les modes M116 et M101, la productivité est séparée pour l'exécution du mode et du complément. Par exemple, dans le cas du M101J, une productivité est demandée pour l'abattage et une autre productivité est demandée pour l'ébranchage et le tronçonnage.
C25: 4 | D25: Toujours lire les commentaires identifiés par un petit triangle rouge en haut à droite de la cellule.
C27: Étape 2: Frais de réalisation du contrat
C29: 1 | D29: Inscrire les montants associés à chaque éléments de la liste
C30: 2 | D30: Vérifier les ratios employés - équipements proposés. Lire les commentaires associés
C31: 3 | D31: Inscrire les pourcentage d'administration et de profit
C32: 4 | D32: Inscrire le montant prévue pour le campement si nécessaire
C35: Note importante!
C36: * | D36: Pour les contrats pluriannuels, les formules d'indexation indiquées dans les cahiers de clauses particulières seront utilisées pour le calcul de la hausse du coût de la vie. Vous devez donc soumissionner chaque année du poste en valeurs d'aujourd'hui (an 1).
D40: Les taux par jour pour les éléments suivants devront être indiqués à l'année 1 d'un poste, et se copieront automatiquement pour les années subséquentes du contrat (cellules couleur lilas). Les formules d'indexation permettront d'ajuster les valeurs selon les variations du coût de la vie.
D44: ● | E44: Camionnette
D45: ● | E45: Argo
D46: ● | E46: VTT
D47: ● | E47: Remorque
D48: ● | E48: Salariale des ouvriers sylvicoles
D49: ● | E49: Salariale des superviseurs
D50: ● | E50: Dépenses équipements protection individuelle
D51: ● | E51: Dépenses débroussailleuse
D52: ● | E52: Dépenses scie mécanique
D53: ● | E53: Taux horaires

Sheet Capacité
B1: CONFIDENTIEL LORSQUE REMPLI
I2: Formule de soumission
I3: Appel de propositions: | K3: 18378130
C7: Objet: | D7: Plusieurs régions - Maîtrise de la végétation - Emprises des Lignes de Transport (Vague 3)
C10: Fournisseur:
C11: Adresse:
C12: Téléphone:
C13: Courriel:
C17: Capacité maximale de réalisation annuelle RESTANTE en date de la soumission*
C19: > Remplir les cases en bleu suivantes:
C21: Capacité maximale de réalisation annuelle restante:
C23: Projets forfaitaires: | G23: Projets horaires:
D24: Tous les modes excluant C202 (ha) | E24: Mode C202 (ha)
C25: Manicouagan | G25: Manicouagan | I25: Hrs
C26: Abibiti / Baie-James | G26: Abibiti / Baie-James | I26: Hrs
C27: Matapédia | G27: Matapédia | I27: Hrs
C28: Saguenay | G28: Saguenay | I28: Hrs
C29: Montmorency | G29: Montmorency | I29: Hrs
C30: St-Jérôme | G30: St-Jérôme | I30: Hrs
C31: Trois-Rivières | G31: Trois-Rivières | I31: Hrs
C32: St-Hubert | G32: St-Hubert | I32: Hrs
C34: Capacité totale (ha)** : | G34: Capacité totale (hrs)** : | I34: Hrs | J34: **Capacité totale restante pour cet appel de propositions
C36: Exemple: Vous avez une capacité de réalisation totale restante de 500 ha (tous modes excluant C202). Par contre, vous ne pouvez effectuer que 200 ha dans le pôle Matapédia en raison de la localisation de votre main d'oeuvre, mais 300 ha pourraient être réalisés dans les autres pôles. Vous indiquerez alors dans la case D34 (« Capacité totale (ha) ») 500 ha, dans la case D27 (« Matapédia ») 200 ha, et dans les cases D28 à D32 300 ha.
C39: > Cochez une des 3 cases suivantes:
C41: Êtes-vous en mesure de réaliser: | V41: Liste déroulante
D43: La somme des capacités de réalisation (Ha et Hrs)
D44: Seulement la capacité de réalisation en Ha | V44: X
D45: Seulement la capacité de réalisation en Heures
C47: Autres éléments à prendre en compte concernant votre capacité de réalisation:
C50: *La capacité de réalisation maximale annuelle restante consiste en la capacité (en ha et/ou heures) que le soumissionnaire possède en date du dépôt de la soumission pour réaliser des travaux pour Hydro-Québec, excluant les contrats déjà attribués avec Hydro-Québec ou tout autre donneur d'ouvrage.
C51: La capacité maximale de réalisation annuelle restante, en date du dépôt de la proposition, constitue un engagement de la part du soumissionnaire d'exécuter les travaux jusqu'à cette quantité, advenant le cas où il en serait l'attributaire. Le soumissionnaire comprend toutefois qu'Hydro-Québec peut, dans le cadre de son processus de négociation, négocier avec le soumissionnaire la capacité maximale de réalisation annuelle restante indiquée ci-haut de sorte à l'ajuster en fonction des paramètres entendus. Hydro-Québec s'engage à ne pas octroyer de commande au soumissionnaire au-delà du montant ou de la quantité négocié.

Sheet Renseignements
G2: CONFIDENTIEL LORSQUE REMPLI
G3: Formule de soumission
G4: Appel de Propositions: | I4: =Capacité!K3 -> 18378130
A6: SOUS-TRAITANCE
A8: Nous vous transmettons la liste des sous-traitants auxquels nous avons l'intention d'attribuer des contrats.
A9: 1. Liste des sous-traitants
A10: 1. | C10: Poste:
C11: Volet(s):
C12: Nom:
C13: Adresse:
C14: Objet du contrat:
C15: Valeur estimée:
A17: 2. | C17: Poste:
C18: Volet(s):
C19: Nom:
C20: Adresse:
C21: Objet du contrat:
C22: Valeur estimée:
A24: 3. | C24: Poste:
C25: Volet(s):
C26: Nom:
C27: Adresse:
C28: Objet du contrat:
C29: Valeur estimée:
A31: 4. | C31: Poste:
C32: Volet(s):
C33: Nom:
C34: Adresse:
C35: Objet du contrat:
C36: Valeur estimée:
A38: 5. | C38: Poste:
C39: Volet(s):
C40: Nom:
C41: Adresse:
C42: Objet du contrat:
C43: Valeur estimée:
A45: 6. | C45: Poste:
C46: Volet(s):
C47: Nom:
C48: Adresse:
...

Sheet Sommaire
B1: CONFIDENTIEL LORSQUE REMPLI
I2: Formule de soumission
I3: Appel de propositions: | K3: =Capacité!K3 -> 18378130
C7: Objet: | D7: =Capacité!D7 -> Plusieurs régions - Maîtrise de la végétation - Emprises des Lignes de Transport (Vague 3)
C11: Sommaire des postes soumissionnés:
C13: Tous les volets sont indissociables.
C14: Les soumissionaires peuvent soumettre un prix pour chacun des projets. Il n'y a aucun minimum et maximum au nombre de projets soumissionnés.
C17: Projets | D17: Pôle | E17: Volets | F17: Année | G17: Montants Totaux | I17: Travaux forfaitaires (Ha) | J17: Travaux horaires (Hrs) | K17: Quantité | M17: Travaux C202 | N17: PGES requis
C22: Montant(s) Poste 10: | D22: St-Hubert | E22: Volet 1 | F22: 2023 | G22: =SUM('Poste 10'!L18) -> 0 | J22: X | K22: =IF(G22>0,SUM('Poste 10'!I15:I18),0) -> 0 | L22: Hrs | M22: Non | N22: Non
C24: (Volets 1 et 2 Indissociables) | E24: Volet 2 | F24: 2024 | G24: =SUM('Poste 10'!L23) -> 0 | J24: X | K24: =IF(G24>0,SUM('Poste 10'!I21:I23),0) -> 0 | L24: Hrs
C27: Montant(s) Poste 20: | D27: St-Hubert | E27: Volet 1 | F27: 2023 | G27: =SUM('Poste 20'!K15:K16) -> 0 | J27: X | K27: =IF(G27>0,SUM('Poste 20'!I15:I16),0) -> 0 | L27: Hrs | M27: Non | N27: Non
C29: (Volets 1 et 2 Indissociables) | E29: Volet 2 | F29: 2024 | G29: =SUM('Poste 20'!K19:K20) -> 0 | J29: X | K29: =IF(G29>0,SUM('Poste 20'!I19:I20),0) -> 0 | L29: Hrs
C32: Montant(s) Poste 30: | D32: St-Hubert | E32: Volet 1 | F32: 2023 | G32: ='Poste 30'!H140 -> 0 | I32: X | K32: =IF(G32>0,'Poste 30'!H128,0) -> 0 | L32: Ha | M32: Non | N32: Non
C35: Montant(s) Poste 40: | D35: St-Hubert | E35: Volet 1 | F35: 2023 | G35: ='Poste 40'!H140 -> 0 | I35: X | K35: =IF(G35>0,'Poste 40'!H128,0) -> 0 | L35: Ha | M35: Non | N35: Non
C38: Montant(s) Poste 50: | D38: Trois-Rivières | E38: Volet 1 | F38: 2023 | G38: =SUM('Poste 50'!K15:K18) -> 0 | J38: X | K38: =IF(G38>0,SUM('Poste 50'!I15:I18),0) -> 0 | L38: Hrs | M38: Non | N38: Non
C40: (Volets 1 et 2 Indissociables) | E40: Volet 2 | F40: 2024 | G40: =SUM('Poste 50'!K21:K24) -> 0 | J40: X | K40: =IF(G40>0,SUM('Poste 50'!I21:I24),0) -> 0 | L40: Hrs
C43: Montant(s) Poste 60: | D43: Trois-Rivières | E43: Volet 1 | F43: 2023 | G43: ='Poste 60'!H140 -> 0 | I43: X | K43: =IF(G43>0,'Poste 60'!H128,0) -> 0 | L43: Ha | M43: Non | N43: Oui
C46: Montant(s) Poste 70: | D46: St-Jérôme | E46: Volet 1 | F46: 2023 | G46: ='Poste 70'!H140 -> 0 | I46: X | K46: =IF(G46>0,'Poste 70'!H128,0) -> 0 | L46: Ha | M46: Non | N46: Non
C49: Montant(s) Poste 80: | D49: St-Jérôme | E49: Volet 1 | F49: 2023 | G49: ='Poste 80'!H140 -> 0 | I49: X | K49: =IF(G49>0,'Poste 80'!H128,0) -> 0 | L49: Ha | M49: Non | N49: Non
C52: Montant(s) Poste 90: | D52: Manicouagan | E52: Volet 1 | F52: 2023 | G52: =SUM('Poste 90'!K15:K17) -> 0 | J52: X | K52: =IF(G52>0,SUM('Poste 90'!I15:I16),0) -> 0 | L52: Hrs | M52: Oui | N52: Non
K53: =IF(G52>0,'Poste 90'!I17,0) -> 0 | L53: Jrs
C54: (Volets 1 et 2 Indissociables) | E54: Volet 2 | F54: 2024 | G54: =SUM('Poste 90'!K20:K22) -> 0 | J54: X | K54: =IF(G54>0,SUM('Poste 90'!I20:I21),0) -> 0 | L54: Hrs
K55: =IF(G54>0,'Poste 90'!I22,0) -> 0 | L55: Jrs
C57: Montant(s) Poste 100: | D57: Saguenay | E57: Volet 1 | F57: 2023 | G57: ='Poste 100'!H140 -> 0 | I57: X | K57: =IF(G57>0,'Poste 100'!H128,0) -> 0 | L57: Ha | M57: Non | N57: Non
C60: Montant(s) Poste 110: | D60: Montmorency | E60: Volet 1 | F60: 2023 | G60: =SUM('Poste 110'!K16:K23) -> 0 | J60: X | K60: =IF(G60>0,SUM('Poste 110'!I16:I18),0) -> 0 | L60: Hrs | M60: Non | N60: Non
K61: =IF(G60>0,SUM('Poste 110'!I19:I23),0) -> 0 | L61: Jrs
E62: Volet 2 | F62: 2024 | G62: =SUM('Poste 110'!K25:K32) -> 0 | J62: X | K62: =IF(G62>0,SUM('Poste 110'!I25:I27),0) -> 0 | L62: Hrs
C63: (Volets 1 à 4 Indissociables) | K63: =IF(G62>0,SUM('Poste 110'!I28:I32),0) -> 0 | L63: Jrs
D64: Matapédia | E64: Volet 3 | F64: 2023 | G64: =SUM('Poste 110'!K35:K42) -> 0 | J64: X | K64: =IF(G64>0,SUM('Poste 110'!I35:I37),0) -> 0 | L64: Hrs
K65: =IF(G64>0,SUM('Poste 110'!I38:I42),0) -> 0 | L65: Jrs
E66: Volet 4 | F66: 2024 | G66: =SUM('Poste 110'!K44:K51) -> 0 | J66: X | K66: =IF(G66>0,SUM('Poste 110'!I44:I46),0) -> 0 | L66: Hrs
K67: =IF(G66>0,SUM('Poste 110'!I47:I51),0) -> 0 | L67: Jrs
C69: Montant(s) Poste 120: Option 1 - sans phytocides (Option 2: poste 130) | D69: Montmorency | E69: Volet 1 | F69: 2023 | G69: ='Poste 120'!H140 -> 0 | I69: X | K69: =IF(G69>0,'Poste 120'!H128,0) -> 0 | L69: Ha | M69: Non | N69: Non*
Q70: *Modification liée à l'Addenda No. 2
C74: Montant(s) Poste 130: Option 2 - avec phytocides (Option 1: poste 120) | D74: Montmorency | E74: Volet 1 | F74: 2023 | G74: ='Poste 130'!H138 -> 0 | I74: X | K74: =IF(G74>0,'Poste 130'!H128,0) -> 0 | L74: Ha | M74: Oui | N74: Non*
Q75: *Modification liée à l'Addenda No. 2
C79: Montant(s) Poste 140: | D79: Montmorency | E79: Volet 1 | F79: 2023 | G79: ='Poste 140'!H140 -> 0 | I79: X | K79: =IF(G79>0,'Poste 140'!H128,0) -> 0 | L79: Ha | M79: Non | N79: Oui
C82: Montant(s) Poste 150: | D82: Montmorency | E82: Volet 1 | F82: 2023 | G82: ='Poste 150'!H140 -> 0 | I82: X | K82: =IF(G82>0,'Poste 150'!H128,0) -> 0 | L82: Ha | M82: Non | N82: Oui
C85: Montant(s) Poste 160: | D85: Matapédia | E85: Volet 1 | F85: 2023 | G85: ='Poste 160'!H147 -> 0 | I85: X | K85: =IF(G85>0,'Poste 160'!H128,0) -> 0 | L85: Ha | M85: Non | N85: Oui
C87: (Volets 1 et 2 Indissociables) | E87: Volet 2 | F87: 2023 | G87: ='Poste 160'!H149 -> 0 | J87: X | K87: =IF(G87>0,'Poste 160'!I137,0) -> 0 | L87: Hrs
...

Sheet Poste 10
F2: Informations Générales du Projet:
F4: Nom | G4: Multi-Circuits/Horaire/2ans/M101 | I4: Contrat Forfaitaire:
F5: Année | G5: 2023-2024 | I5: Contrat Horaire: | J5: X
F6: Pôle | G6: St-Hubert | I6: Attribution Globale: | J6: X
F7: Couloir / Portées | G7: Multi-Circuits | I7: Attribution Partielle:
I8: PGES | J8: Non
F13: Désignation | H13: Unité | I13: Quantité | J13: Prix | K13: Total
F14: Volet 1 (2023)
E15: 10 | F15: Main d’œuvre et équipements | H15: hrs | I15: 2560 | J15: 0 | K15: =I15*J15 -> 0
E16: 20 | F16: Camion élévateur nacelle avec déchiqueteur | H16: hrs | I16: 1280 | J16: 0 | K16: =I16*J16 -> 0
E17: 30 | F17: Camionnette 4X4 et véhicule tout-terrain ou motoneige | H17: hrs | I17: 40 | J17: 0 | K17: =I17*J17 -> 0
E18: 40 | F18: Tracteur et treuil forestier | H18: hrs | I18: 40 | J18: 0 | K18: =I18*J18 -> 0 | L18: =SUM(K15:K18) -> 0
F20: Volet 2 (2024)
E21: 50 | F21: Main d’œuvre et équipements | H21: hrs | I21: 3840 | J21: =J15 -> 0 | K21: =I21*J21 -> 0
E22: 60 | F22: Camion élévateur nacelle avec déchiqueteur | H22: hrs | I22: 1280 | J22: =J16 -> 0 | K22: =I22*J22 -> 0
E23: 70 | F23: Camionnette 4X4 et véhicule tout-terrain ou motoneige | H23: hrs | I23: 640 | J23: =J17 -> 0 | K23: =I23*J23 -> 0 | L23: =SUM(K21:K23) -> 0
F28: Total du projet | K28: =SUM(K15:K23) -> 0
F30: Total Heures | H30: 2023 | I30: =SUM(I15:I18) -> 3920
H31: 2024 | I31: =SUM(I21:I23) -> 5760

Sheet Poste 20
F2: Informations Générales du Projet:
F4: Nom | G4: Multi-Circuits/Horaire/2ans/M112 | I4: Contrat Forfaitaire:
F5: Année | G5: 2023-2024 | I5: Contrat Horaire: | J5: X
F6: Pôle | G6: St-Hubert | I6: Attribution Globale: | J6: X
F7: Couloir / Portées | G7: Multi-Circuits | I7: Attribution Partielle:
I8: PGES | J8: Non
F13: Désignation | H13: Unité | I13: Quantité | J13: Prix | K13: Total
F14: Volet 1 (2023)
E15: 10 | F15: Main d’œuvre et équipements | H15: hrs | I15: 3840 | J15: 0 | K15: =I15*J15 -> 0
E16: 20 | F16: Camionnette 4X4 et véhicule tout-terrain | H16: hrs | I16: 1160 | J16: 0 | K16: =I16*J16 -> 0 | L16: =SUM(K15:K16) -> 0
F18: Volet 2 (2024)
E19: 50 | F19: Main d’œuvre et équipements | H19: hrs | I19: 3840 | J19: =J15 -> 0 | K19: =I19*J19 -> 0
E20: 60 | F20: Camionnette 4X4 et véhicule tout-terrain | H20: hrs | I20: 1160 | J20: =J16 -> 0 | K20: =I20*J20 -> 0 | L20: =SUM(K19:K20) -> 0
F25: Total du projet | K25: =SUM(K15:K20) -> 0
F27: Total Heures | H27: 2023 | I27: =SUM(I15:I16) -> 5000
H28: 2024 | I28: =SUM(I19:I20) -> 5000

Sheet Poste 30
B2: CONFIDENTIEL LORSQUE REMPLI
F3: Informations Générales du Projet:
P4: Données à Masquer
F5: Nom | G5: Multi-circuit #3/Forfaitaire/1an | I5: Contrat Forfaitaire: | J5: X | P5: 0.00283
F6: Année | G6: 2023 | I6: Contrat Horaire: | P6: 0.00566
F7: Pôle | G7: St-Hubert | I7: Attribution Globale: | J7: X | P7: 0.01131
F8: Couloir / Portées | G8: Multi-Circuits [1129, 1141, 1143, 1152…] | I8: Attribution Partielle: | P8: 0.01414
I9: PGES | J9: Non | P9: 0.01697
B12: Volet 1
B13: Montant Forfaitaire
C15: Ligne 10 | E15: M112 - M127 | G15: Caractéristique contrat | H15: Superficie en Ha | I15: Productivité (Ha/jour/homme) | J15: Nombre de jours / homme
F16: Densité de la végétation | G16: D1 | H16: 29.736 | I16: 0 | J16: =IF(ISERROR(H16/ROUND(I16,2)),0,H16/ROUND(I16,2)) -> 0
G17: D2 | H17: 45.788 | I17: 0 | J17: =IF(ISERROR(H17/ROUND(I17,2)),0,H17/ROUND(I17,2)) -> 0
G18: D3 | H18: 41.686 | I18: 0 | J18: =IF(ISERROR(H18/ROUND(I18,2)),0,H18/ROUND(I18,2)) -> 0
G19: D4 | H19: 155.064 | I19: 0 | J19: =IF(ISERROR(H19/ROUND(I19,2)),0,H19/ROUND(I19,2)) -> 0
G20: D5 | H20: 38.778 | I20: 0 | J20: =IF(ISERROR(H20/ROUND(I20,2)),0,H20/ROUND(I20,2)) -> 0
F21: Type de végétation | G21: Ajustement, peuplement ayant une densité à dominance résineuse* | H21: 0 | I21: 0 | J21: =IF(ISERROR((ROUND(I21,2)*H21)*-1),0,(ROUND(I21,2)*H21)*-1) -> 0
G22: Ajustement, peuplement ayant une densité à dominance feuillue* | H22: 311.052 | I22: 0 | J22: =IF(ISERROR((ROUND(I22,2)*H22)),0,(ROUND(I22,2)*H22)) -> 0
F23: Hauteur végétation | G23: Ajustement, peuplement ayant une hauteur principale > 4m* | H23: 0 | I23: 0 | J23: =+ROUND(I23,2)*H23 -> 0
F24: Autres | G24: Dégagement supports et haubans | H24: =(F64*P5)+(F65*P6)+(F66*P7)+(F67*P8)+(F68*P9) -> 9.3578 | I24: 0 | J24: =IF(ISERROR(H24/ROUND(I24,2)),0,H24/ROUND(I24,2)) -> 0
G25: Superficie totale M112-127 | I25: Moy. de productivité | J25: Total de jours / homme | L25: =IF(ISERROR(SUM(J15:J24)),0,SUM(J15:J24)) -> 0
G26: =SUM(H16:H20) -> 311.052 | I26: =IF(ISERROR(G26/L25),0,G26/L25) -> 0
C28: Ligne XX | E28: M116 | G28: Mode / Complément | H28: Superficie en Ha | I28: Productivité (Ha/jour/homme) | J28: Nombre de jours / homme
G29: M116 | H29: 0 | I29: 0 | J29: =IF(ISERROR(H29/ROUND(I29,2)),0,H29/ROUND(I29,2)) -> 0
G30: Complément I ou F | H30: 0 | I30: 0 | J30: =IF(ISERROR(H30/ROUND(I30,2)),0,H30/ROUND(I30,2)) -> 0
G31: Superficie totale M116 | I31: Moy. de productivité | J31: Total de jours / homme | L31: =SUM(J29:J30) -> 0
G32: =H29 -> 0 | I32: =IF(ISERROR(G32/L31),0,G32/L31) -> 0
C34: Ligne XX | E34: M121 | G34: Mode / Complément | H34: Superficie en Ha | I34: Productivité (Ha/jour/homme) | J34: Nombre de jours / homme
G35: M121 | H35: 0 | I35: 0 | J35: =IF(ISERROR(H35/ROUND(I35,3)),0,H35/ROUND(I35,3)) -> 0
G36: Complément J (tronçonnage) | H36: 0 | I36: 0 | J36: =IF(ISERROR(H36/ROUND(I36,3)),0,H36/ROUND(I36,3)) -> 0
G37: Superficie totale M121 | I37: Moy. de productivité | J37: Total de jours / homme | L37: =SUM(J35:J36) -> 0
G38: =H35 -> 0 | I38: =IF(ISERROR(G38/L37),0,G38/L37) -> 0
C40: Ligne XX | E40: M101 | G40: Mode / Complément | H40: Superficie en Ha | I40: Productivité (Ha/jour/homme) | J40: Nombre de jours / homme
G41: M101 | H41: 0 | I41: 0 | J41: =IF(ISERROR(H41/ROUND(I41,3)),0,H41/ROUND(I41,3)) -> 0
G42: Complément J (tronçonnage) | H42: 0 | I42: 0 | J42: =IF(ISERROR(H42/ROUND(I42,3)),0,H42/ROUND(I42,3)) -> 0
G43: Complément F (Mise en tas) | H43: 0 | I43: 0 | J43: =IF(ISERROR(H43/ROUND(I43,3)),0,H43/ROUND(I43,3)) -> 0
G44: Superficie totale M101 | I44: Moy. de productivité | J44: Total de jours / homme | L44: =SUM(J41:J43) -> 0
G45: =H41 -> 0 | I45: =IF(ISERROR(G45/L44),0,G45/L44) -> 0
C47: Ligne XX | E47: C202 | G47: Caractérisation contrat | H47: Superficie en Ha | I47: Productivité (Ha/jour/homme) | J47: Nombre de jours / homme
F48: Densité de la végétation | G48: D1 | H48: 0 | I48: 0 | J48: =IF(ISERROR(H48/ROUND(I48,2)),0,H48/ROUND(I48,2)) -> 0
...

Sheet Poste 40
B2: CONFIDENTIEL LORSQUE REMPLI
F3: Informations Générales du Projet:
P4: Données à Masquer
F5: Nom | G5: Multi-circuit#2/Forfaitaire/1an | I5: Contrat Forfaitaire: | J5: X | P5: 0.00283
F6: Année | G6: 2023 | I6: Contrat Horaire: | P6: 0.00566
F7: Pôle | G7: St-Hubert | I7: Attribution Globale: | J7: X | P7: 0.01131
F8: Couloir / Portées | G8: Multi-Circuits [2381, 3007, 7006, 7009, 7036] | I8: Attribution Partielle: | P8: 0.01414
I9: PGES | J9: Non | P9: 0.01697
B12: Volet 1
B13: Montant Forfaitaire
C15: Ligne 10 | E15: M112 - M127C00 | G15: Caractéristique contrat | H15: Superficie en Ha | I15: Productivité (Ha/jour/homme) | J15: Nombre de jours / homme
F16: Densité de la végétation | G16: D1 | H16: 46.491 | I16: 0 | J16: =IF(ISERROR(H16/ROUND(I16,2)),0,H16/ROUND(I16,2)) -> 0
G17: D2 | H17: 95.522 | I17: 0 | J17: =IF(ISERROR(H17/ROUND(I17,2)),0,H17/ROUND(I17,2)) -> 0
G18: D3 | H18: 116.729 | I18: 0 | J18: =IF(ISERROR(H18/ROUND(I18,2)),0,H18/ROUND(I18,2)) -> 0
G19: D4 | H19: 147.857 | I19: 0 | J19: =IF(ISERROR(H19/ROUND(I19,2)),0,H19/ROUND(I19,2)) -> 0
G20: D5 | H20: 46.662 | I20: 0 | J20: =IF(ISERROR(H20/ROUND(I20,2)),0,H20/ROUND(I20,2)) -> 0
F21: Type de végétation | G21: Ajustement, peuplement ayant une densité à dominance résineuse* | H21: 0 | I21: 0 | J21: =IF(ISERROR((ROUND(I21,2)*H21)*-1),0,(ROUND(I21,2)*H21)*-1) -> 0
G22: Ajustement, peuplement ayant une densité à dominance feuillue* | H22: 453.261 | I22: 0 | J22: =IF(ISERROR((ROUND(I22,2)*H22)),0,(ROUND(I22,2)*H22)) -> 0
F23: Hauteur végétation | G23: Ajustement, peuplement ayant une hauteur principale > 4m* | H23: 24.457 | I23: 0 | J23: =+ROUND(I23,2)*H23 -> 0
F24: Autres | G24: Dégagement supports et haubans | H24: =(F64*P5)+(F65*P6)+(F66*P7)+(F67*P8)+(F68*P9) -> 9.89919 | I24: 0 | J24: =IF(ISERROR(H24/ROUND(I24,2)),0,H24/ROUND(I24,2)) -> 0
G25: Superficie totale M112-127 | I25: Moy. de productivité | J25: Total de jours / homme | L25: =IF(ISERROR(SUM(J15:J24)),0,SUM(J15:J24)) -> 0
G26: =SUM(H16:H20) -> 453.261 | I26: =IF(ISERROR(G26/L25),0,G26/L25) -> 0
C28: Ligne XX | E28: M116 | G28: Mode / Complément | H28: Superficie en Ha | I28: Productivité (Ha/jour/homme) | J28: Nombre de jours / homme
G29: M116 | H29: 0 | I29: 0 | J29: =IF(ISERROR(H29/ROUND(I29,2)),0,H29/ROUND(I29,2)) -> 0
G30: Complément I ou F | H30: 0 | I30: 0 | J30: =IF(ISERROR(H30/ROUND(I30,2)),0,H30/ROUND(I30,2)) -> 0
G31: Superficie totale M116 | I31: Moy. de productivité | J31: Total de jours / homme | L31: =SUM(J29:J30) -> 0
G32: =H29 -> 0 | I32: =IF(ISERROR(G32/L31),0,G32/L31) -> 0
C34: Ligne XX | E34: M121 | G34: Mode / Complément | H34: Superficie en Ha | I34: Productivité (Ha/jour/homme) | J34: Nombre de jours / homme
G35: M121 | H35: 0 | I35: 0 | J35: =IF(ISERROR(H35/ROUND(I35,3)),0,H35/ROUND(I35,3)) -> 0
G36: Complément J (tronçonnage) | H36: 0 | I36: 0 | J36: =IF(ISERROR(H36/ROUND(I36,3)),0,H36/ROUND(I36,3)) -> 0
G37: Superficie totale M121 | I37: Moy. de productivité | J37: Total de jours / homme | L37: =SUM(J35:J36) -> 0
G38: =H35 -> 0 | I38: =IF(ISERROR(G38/L37),0,G38/L37) -> 0
C40: Ligne 20 | E40: M101 | G40: Mode / Complément | H40: Superficie en Ha | I40: Productivité (Ha/jour/homme) | J40: Nombre de jours / homme
G41: M101 | H41: 5.415 | I41: 0 | J41: =IF(ISERROR(H41/ROUND(I41,3)),0,H41/ROUND(I41,3)) -> 0
G42: Complément J (tronçonnage) | H42: 0 | I42: 0 | J42: =IF(ISERROR(H42/ROUND(I42,3)),0,H42/ROUND(I42,3)) -> 0
G43: Complément F (Mise en tas) | H43: 5.415 | I43: 0 | J43: =IF(ISERROR(H43/ROUND(I43,3)),0,H43/ROUND(I43,3)) -> 0
G44: Superficie totale M101 | I44: Moy. de productivité | J44: Total de jours / homme | L44: =SUM(J41:J43) -> 0
G45: =H41 -> 5.415 | I45: =IF(ISERROR(G45/L44),0,G45/L44) -> 0
C47: Ligne XX | E47: C202 | G47: Caractérisation contrat | H47: Superficie en Ha | I47: Productivité (Ha/jour/homme) | J47: Nombre de jours / homme
F48: Densité de la végétation | G48: D1 | H48: 0 | I48: 0 | J48: =IF(ISERROR(H48/ROUND(I48,2)),0,H48/ROUND(I48,2)) -> 0
...

Sheet Poste 50
F2: Informations Générales du Projet:
F4: Nom | G4: Multi-Circuits/Horaire/2 ans | I4: Contrat Forfaitaire:
F5: Année | G5: 2023-2024 | I5: Contrat Horaire: | J5: X
F6: Pôle | G6: Trois-Rivières | I6: Attribution Globale: | J6: X
F7: Couloir / Portées | G7: Multi-Circuits | I7: Attribution Partielle:
I8: PGES | J8: Non
F13: Désignation | H13: Unité | I13: Quantité | J13: Prix | K13: Total
F14: Volet 1 (2023)
E15: 10 | F15: Main d’œuvre et équipements | H15: hrs | I15: 2300 | J15: 0 | K15: =I15*J15 -> 0
E16: 20 | F16: Camion arboriculture avec déchiqueteur monté sur remorque | H16: hrs | I16: 400 | J16: 0 | K16: =I16*J16 -> 0
E17: 30 | F17: Camion élévateur nacelle avec déchiqueteur | H17: hrs | I17: 120 | J17: 0 | K17: =I17*J17 -> 0
E18: 40 | F18: Camionnette 4X4 et véhicule tout-terrain ou motoneige | H18: hrs | I18: 630 | J18: 0 | K18: =I18*J18 -> 0 | L18: =SUM(K15:K18) -> 0
F20: Volet 2 (2024)
E21: 50 | F21: Main d’œuvre et équipements | H21: hrs | I21: 2300 | J21: =J15 -> 0 | K21: =I21*J21 -> 0
E22: 60 | F22: Camion arboriculture avec déchiqueteur monté sur remorque | H22: hrs | I22: 400 | J22: =J16 -> 0 | K22: =I22*J22 -> 0
E23: 70 | F23: Camion élévateur nacelle avec déchiqueteur | H23: hrs | I23: 120 | J23: =J17 -> 0 | K23: =I23*J23 -> 0
E24: 80 | F24: Camionnette 4X4 et véhicule tout-terrain ou motoneige | H24: hrs | I24: 630 | J24: =J18 -> 0 | K24: =I24*J24 -> 0 | L24: =SUM(K21:K24) -> 0
F30: Total du projet | K30: =SUM(K14:K24) -> 0
F32: Total Heures | H32: 2023 | I32: =SUM(I15:I18) -> 3450
H33: 2024 | I33: =SUM(I21:I24) -> 3450

Sheet Poste 60
B2: CONFIDENTIEL LORSQUE REMPLI
F3: Informations Générales du Projet:
P4: Données à Masquer
F5: Nom | G5: L4003/Forfaitaire/1an | I5: Contrat Forfaitaire: | J5: X | P5: 0.00283
F6: Année | G6: 2023 | I6: Contrat Horaire: | P6: 0.00566
F7: Pôle | G7: Trois-Rivières | I7: Attribution Globale: | J7: X | P7: 0.01131
F8: Couloir / Portées | G8: C4003 / P1297 à 1376 | I8: Attribution Partielle: | P8: 0.01414
I9: PGES | J9: Oui | P9: 0.01697
B12: Volet 1
B13: Montant Forfaitaire
C15: Ligne 10 | E15: M112 - M127 | G15: Caractéristique contrat | H15: Superficie en Ha | I15: Productivité (Ha/jour/homme) | J15: Nombre de jours / homme
F16: Densité de la végétation | G16: D1 | H16: 16.626 | I16: 0 | J16: =IF(ISERROR(H16/ROUND(I16,2)),0,H16/ROUND(I16,2)) -> 0
G17: D2 | H17: 29.87 | I17: 0 | J17: =IF(ISERROR(H17/ROUND(I17,2)),0,H17/ROUND(I17,2)) -> 0
G18: D3 | H18: 63.798 | I18: 0 | J18: =IF(ISERROR(H18/ROUND(I18,2)),0,H18/ROUND(I18,2)) -> 0
G19: D4 | H19: 36.586 | I19: 0 | J19: =IF(ISERROR(H19/ROUND(I19,2)),0,H19/ROUND(I19,2)) -> 0
G20: D5 | H20: 66.397 | I20: 0 | J20: =IF(ISERROR(H20/ROUND(I20,2)),0,H20/ROUND(I20,2)) -> 0
F21: Type de végétation | G21: Ajustement, peuplement ayant une densité à dominance résineuse* | H21: 62.79 | I21: 0 | J21: =IF(ISERROR((ROUND(I21,2)*H21)*-1),0,(ROUND(I21,2)*H21)*-1) -> 0
G22: Ajustement, peuplement ayant une densité à dominance feuillue* | H22: 108.566 | I22: 0 | J22: =IF(ISERROR((ROUND(I22,2)*H22)),0,(ROUND(I22,2)*H22)) -> 0
F23: Hauteur végétation | G23: Ajustement, peuplement ayant une hauteur principale > 4m* | H23: 42.313 | I23: 0 | J23: =+ROUND(I23,2)*H23 -> 0
F24: Autres | G24: Dégagement supports et haubans | H24: =(F64*P5)+(F65*P6)+(F66*P7)+(F67*P8)+(F68*P9) -> 1.14534 | I24: 0 | J24: =IF(ISERROR(H24/ROUND(I24,2)),0,H24/ROUND(I24,2)) -> 0
G25: Superficie totale M112-127 | I25: Moy. de productivité | J25: Total de jours / homme | L25: =IF(ISERROR(SUM(J15:J24)),0,SUM(J15:J24)) -> 0
G26: =SUM(H16:H20) -> 213.277 | I26: =IF(ISERROR(G26/L25),0,G26/L25) -> 0
C28: Ligne 20 | E28: M116 | G28: Mode / Complément | H28: Superficie en Ha | I28: Productivité (Ha/jour/homme) | J28: Nombre de jours / homme
G29: M116 | H29: 6 | I29: 0 | J29: =IF(ISERROR(H29/ROUND(I29,2)),0,H29/ROUND(I29,2)) -> 0
G30: Complément I ou F | H30: 6 | I30: 0 | J30: =IF(ISERROR(H30/ROUND(I30,2)),0,H30/ROUND(I30,2)) -> 0
G31: Superficie totale M116 | I31: Moy. de productivité | J31: Total de jours / homme | L31: =SUM(J29:J30) -> 0
G32: =H29 -> 6 | I32: =IF(ISERROR(G32/L31),0,G32/L31) -> 0
C34: Ligne XX | E34: M121 | G34: Mode / Complément | H34: Superficie en Ha | I34: Productivité (Ha/jour/homme) | J34: Nombre de jours / homme
G35: M121 | H35: 0 | I35: 0 | J35: =IF(ISERROR(H35/ROUND(I35,3)),0,H35/ROUND(I35,3)) -> 0
G36: Complément J (tronçonnage) | H36: 0 | I36: 0 | J36: =IF(ISERROR(H36/ROUND(I36,3)),0,H36/ROUND(I36,3)) -> 0
G37: Superficie totale M121 | I37: Moy. de productivité | J37: Total de jours / homme | L37: =SUM(J35:J36) -> 0
G38: =H35 -> 0 | I38: =IF(ISERROR(G38/L37),0,G38/L37) -> 0
C40: Ligne XX | E40: M101 | G40: Mode / Complément | H40: Superficie en Ha | I40: Productivité (Ha/jour/homme) | J40: Nombre de jours / homme
G41: M101 | H41: 0 | I41: 0.022 | J41: =IF(ISERROR(H41/ROUND(I41,3)),0,H41/ROUND(I41,3)) -> 0
G42: Complément J (tronçonnage) | H42: 0 | I42: 0.022 | J42: =IF(ISERROR(H42/ROUND(I42,3)),0,H42/ROUND(I42,3)) -> 0
G43: Complément F (Mise en tas) | H43: 0 | I43: 0.022 | J43: =IF(ISERROR(H43/ROUND(I43,3)),0,H43/ROUND(I43,3)) -> 0
G44: Superficie totale M101 | I44: Moy. de productivité | J44: Total de jours / homme | L44: =SUM(J41:J43) -> 0
G45: =H41 -> 0 | I45: =IF(ISERROR(G45/L44),0,G45/L44) -> 0
C47: Ligne XX | E47: C202 | G47: Caractérisation contrat | H47: Superficie en Ha | I47: Productivité (Ha/jour/homme) | J47: Nombre de jours / homme
F48: Densité de la végétation | G48: D1 | H48: 0 | I48: 0 | J48: =IF(ISERROR(H48/ROUND(I48,2)),0,H48/ROUND(I48,2)) -> 0
...

Sheet Poste 70
B2: CONFIDENTIEL LORSQUE REMPLI
F3: Informations Générales du Projet:
P4: Données à Masquer
F5: Nom | G5: Multi-circuit #4/Forfaitaire/1an | I5: Contrat Forfaitaire: | J5: X | P5: 0.00283
F6: Année | G6: 2023 | I6: Contrat Horaire: | P6: 0.00566
F7: Pôle | G7: St-Jérôme | I7: Attribution Globale: | J7: X | P7: 0.01131
F8: Couloir / Portées | G8: Multi-Circuit [1407, 1542, 7016] | I8: Attribution Partielle: | P8: 0.01414
I9: PGES | J9: Non | P9: 0.01697
B12: Volet 1
B13: Montant Forfaitaire
C15: Ligne 10 | E15: M112 - M127C00 | G15: Caractéristique contrat | H15: Superficie en Ha | I15: Productivité (Ha/jour/homme) | J15: Nombre de jours / homme
F16: Densité de la végétation | G16: D1 | H16: 3.465 | I16: 0 | J16: =IF(ISERROR(H16/ROUND(I16,2)),0,H16/ROUND(I16,2)) -> 0
G17: D2 | H17: 53.558 | I17: 0 | J17: =IF(ISERROR(H17/ROUND(I17,2)),0,H17/ROUND(I17,2)) -> 0
G18: D3 | H18: 174.407 | I18: 0 | J18: =IF(ISERROR(H18/ROUND(I18,2)),0,H18/ROUND(I18,2)) -> 0
G19: D4 | H19: 224.905 | I19: 0 | J19: =IF(ISERROR(H19/ROUND(I19,2)),0,H19/ROUND(I19,2)) -> 0
G20: D5 | H20: 46.652 | I20: 0 | J20: =IF(ISERROR(H20/ROUND(I20,2)),0,H20/ROUND(I20,2)) -> 0
F21: Type de végétation | G21: Ajustement, peuplement ayant une densité à dominance résineuse* | H21: 0 | I21: 0 | J21: =IF(ISERROR((ROUND(I21,2)*H21)*-1),0,(ROUND(I21,2)*H21)*-1) -> 0
G22: Ajustement, peuplement ayant une densité à dominance feuillue* | H22: 502.987 | I22: 0 | J22: =IF(ISERROR((ROUND(I22,2)*H22)),0,(ROUND(I22,2)*H22)) -> 0
F23: Hauteur végétation | G23: Ajustement, peuplement ayant une hauteur principale > 4m* | H23: 106.2425 | I23: 0 | J23: =+ROUND(I23,2)*H23 -> 0
F24: Autres | G24: Dégagement supports et haubans | H24: =(F64*P5)+(F65*P6)+(F66*P7)+(F67*P8)+(F68*P9) -> 1.22256 | I24: 0 | J24: =IF(ISERROR(H24/ROUND(I24,2)),0,H24/ROUND(I24,2)) -> 0
G25: Superficie totale M112-127 | I25: Moy. de productivité | J25: Total de jours / homme | L25: =IF(ISERROR(SUM(J15:J24)),0,SUM(J15:J24)) -> 0
G26: =SUM(H16:H20) -> 502.987 | I26: =IF(ISERROR(G26/L25),0,G26/L25) -> 0
C28: Ligne XX | E28: M116 | G28: Mode / Complément | H28: Superficie en Ha | I28: Productivité (Ha/jour/homme) | J28: Nombre de jours / homme
G29: M116 | H29: 0 | I29: 0 | J29: =IF(ISERROR(H29/ROUND(I29,2)),0,H29/ROUND(I29,2)) -> 0
G30: Complément I ou F | H30: 0 | I30: 0 | J30: =IF(ISERROR(H30/ROUND(I30,2)),0,H30/ROUND(I30,2)) -> 0
G31: Superficie totale M116 | I31: Moy. de productivité | J31: Total de jours / homme | L31: =SUM(J29:J30) -> 0
G32: =H29 -> 0 | I32: =IF(ISERROR(G32/L31),0,G32/L31) -> 0
C34: Ligne XX | E34: M121 | G34: Mode / Complément | H34: Superficie en Ha | I34: Productivité (Ha/jour/homme) | J34: Nombre de jours / homme
G35: M121 | H35: 0 | I35: 0 | J35: =IF(ISERROR(H35/ROUND(I35,3)),0,H35/ROUND(I35,3)) -> 0
G36: Complément J (tronçonnage) | H36: 0 | I36: 0 | J36: =IF(ISERROR(H36/ROUND(I36,3)),0,H36/ROUND(I36,3)) -> 0
G37: Superficie totale M121 | I37: Moy. de productivité | J37: Total de jours / homme | L37: =SUM(J35:J36) -> 0
G38: =H35 -> 0 | I38: =IF(ISERROR(G38/L37),0,G38/L37) -> 0
C40: Ligne XX | E40: M101 | G40: Mode / Complément | H40: Superficie en Ha | I40: Productivité (Ha/jour/homme) | J40: Nombre de jours / homme
G41: M101 | H41: 0 | I41: 0 | J41: =IF(ISERROR(H41/ROUND(I41,3)),0,H41/ROUND(I41,3)) -> 0
G42: Complément J (tronçonnage) | H42: 0 | I42: 0 | J42: =IF(ISERROR(H42/ROUND(I42,3)),0,H42/ROUND(I42,3)) -> 0
G43: Complément F (Mise en tas) | H43: 0 | I43: 0 | J43: =IF(ISERROR(H43/ROUND(I43,3)),0,H43/ROUND(I43,3)) -> 0
G44: Superficie totale M101 | I44: Moy. de productivité | J44: Total de jours / homme | L44: =SUM(J41:J43) -> 0
G45: =H41 -> 0 | I45: =IF(ISERROR(G45/L44),0,G45/L44) -> 0
C47: Ligne XX | E47: C202 | G47: Caractérisation contrat | H47: Superficie en Ha | I47: Productivité (Ha/jour/homme) | J47: Nombre de jours / homme
F48: Densité de la végétation | G48: D1 | H48: 0 | I48: 0 | J48: =IF(ISERROR(H48/ROUND(I48,2)),0,H48/ROUND(I48,2)) -> 0
...

Sheet Poste 80
B2: CONFIDENTIEL LORSQUE REMPLI
F3: Informations Générales du Projet:
P4: Données à Masquer
F5: Nom | G5: Multi-circuit #5 / Forfaitaire / 1 an | I5: Contrat Forfaitaire: | J5: X | P5: 0.00283
F6: Année | G6: 2023 | I6: Contrat Horaire: | P6: 0.00566
F7: Pôle | G7: St-Jérôme | I7: Attribution Globale: | J7: X | P7: 0.01131
F8: Couloir / Portées | G8: Multi-Circuit [1110, 1119, 1127, 1130, 1156, 1272, 1305, 7044, 7046, 7103] | I8: Attribution Partielle: | P8: 0.01414
I9: PGES | J9: Non | P9: 0.01697
B12: Volet 1
B13: Montant Forfaitaire
C15: Ligne 10 | E15: M112 - M127C00 | G15: Caractéristique contrat | H15: Superficie en Ha | I15: Productivité (Ha/jour/homme) | J15: Nombre de jours / homme
F16: Densité de la végétation | G16: D1 | H16: 13.518 | I16: 0 | J16: =IF(ISERROR(H16/ROUND(I16,2)),0,H16/ROUND(I16,2)) -> 0
G17: D2 | H17: 110.506 | I17: 0 | J17: =IF(ISERROR(H17/ROUND(I17,2)),0,H17/ROUND(I17,2)) -> 0
G18: D3 | H18: 276.622 | I18: 0 | J18: =IF(ISERROR(H18/ROUND(I18,2)),0,H18/ROUND(I18,2)) -> 0
G19: D4 | H19: 262.522 | I19: 0 | J19: =IF(ISERROR(H19/ROUND(I19,2)),0,H19/ROUND(I19,2)) -> 0
G20: D5 | H20: 19.099 | I20: 0 | J20: =IF(ISERROR(H20/ROUND(I20,2)),0,H20/ROUND(I20,2)) -> 0
F21: Type de végétation | G21: Ajustement, peuplement ayant une densité à dominance résineuse* | H21: 0 | I21: 0 | J21: =IF(ISERROR((ROUND(I21,2)*H21)*-1),0,(ROUND(I21,2)*H21)*-1) -> 0
G22: Ajustement, peuplement ayant une densité à dominance feuillue* | H22: 682.267 | I22: 0 | J22: =IF(ISERROR((ROUND(I22,2)*H22)),0,(ROUND(I22,2)*H22)) -> 0
F23: Hauteur végétation | G23: Ajustement, peuplement ayant une hauteur principale > 4m* | H23: 50.736 | I23: 0 | J23: =+ROUND(I23,2)*H23 -> 0
F24: Autres | G24: Dégagement supports et haubans | H24: =(F64*P5)+(F65*P6)+(F66*P7)+(F67*P8)+(F68*P9) -> 1.31029 | I24: 0 | J24: =IF(ISERROR(H24/ROUND(I24,2)),0,H24/ROUND(I24,2)) -> 0
G25: Superficie totale M112-127 | I25: Moy. de productivité | J25: Total de jours / homme | L25: =IF(ISERROR(SUM(J15:J24)),0,SUM(J15:J24)) -> 0
G26: =SUM(H16:H20) -> 682.267 | I26: =IF(ISERROR(G26/L25),0,G26/L25) -> 0
C28: Ligne XX | E28: M116 | G28: Mode / Complément | H28: Superficie en Ha | I28: Productivité (Ha/jour/homme) | J28: Nombre de jours / homme
G29: M116 | H29: 0 | I29: 0 | J29: =IF(ISERROR(H29/ROUND(I29,2)),0,H29/ROUND(I29,2)) -> 0
G30: Complément I ou F | H30: 0 | I30: 0 | J30: =IF(ISERROR(H30/ROUND(I30,2)),0,H30/ROUND(I30,2)) -> 0
G31: Superficie totale M116 | I31: Moy. de productivité | J31: Total de jours / homme | L31: =SUM(J29:J30) -> 0
G32: =H29 -> 0 | I32: =IF(ISERROR(G32/L31),0,G32/L31) -> 0
C34: Ligne XX | E34: M121 | G34: Mode / Complément | H34: Superficie en Ha | I34: Productivité (Ha/jour/homme) | J34: Nombre de jours / homme
G35: M121 | H35: 0 | I35: 0 | J35: =IF(ISERROR(H35/ROUND(I35,3)),0,H35/ROUND(I35,3)) -> 0
G36: Complément J (tronçonnage) | H36: 0 | I36: 0 | J36: =IF(ISERROR(H36/ROUND(I36,3)),0,H36/ROUND(I36,3)) -> 0
G37: Superficie totale M121 | I37: Moy. de productivité | J37: Total de jours / homme | L37: =SUM(J35:J36) -> 0
G38: =H35 -> 0 | I38: =IF(ISERROR(G38/L37),0,G38/L37) -> 0
C40: Ligne XX | E40: M101 | G40: Mode / Complément | H40: Superficie en Ha | I40: Productivité (Ha/jour/homme) | J40: Nombre de jours / homme
G41: M101 | H41: 0 | I41: 0 | J41: =IF(ISERROR(H41/ROUND(I41,3)),0,H41/ROUND(I41,3)) -> 0
G42: Complément J (tronçonnage) | H42: 0 | I42: 0 | J42: =IF(ISERROR(H42/ROUND(I42,3)),0,H42/ROUND(I42,3)) -> 0
G43: Complément F (Mise en tas) | H43: 0 | I43: 0 | J43: =IF(ISERROR(H43/ROUND(I43,3)),0,H43/ROUND(I43,3)) -> 0
G44: Superficie totale M101 | I44: Moy. de productivité | J44: Total de jours / homme | L44: =SUM(J41:J43) -> 0
G45: =H41 -> 0 | I45: =IF(ISERROR(G45/L44),0,G45/L44) -> 0
C47: Ligne XX | E47: C202 | G47: Caractérisation contrat | H47: Superficie en Ha | I47: Productivité (Ha/jour/homme) | J47: Nombre de jours / homme
F48: Densité de la végétation | G48: D1 | H48: 0 | I48: 0 | J48: =IF(ISERROR(H48/ROUND(I48,2)),0,H48/ROUND(I48,2)) -> 0
...

Sheet Poste 90
F2: Informations Générales du Projet:
F4: Nom | G4: Manicouagan Contrat Horaire 2023-2024 | I4: Contrat Forfaitaire:
F5: Année | G5: 2023-2024 | I5: Contrat Horaire: | J5: X
F6: Pôle | G6: Manicouagan | I6: Attribution Globale: | J6: X
F7: Couloir / Portées | G7: Multi-Circuits | I7: Attribution Partielle:
I8: PGES | J8: Non
F13: Désignation | H13: Unité | I13: Quantité | J13: Prix unitaire | K13: Total
F14: Volet 1 (2023)
E15: 10 | F15: Chef ouvrier sylvicole | H15: hrs | I15: 350 | J15: 0 | K15: =I15*J15 -> 0
E16: 20 | F16: Ouvrier sylvicole | H16: hrs | I16: 700 | J16: 0 | K16: =I16*J16 -> 0
E17: 30 | F17: Système de pulvérisation (traitement de souche, 3 systèmes) | H17: jours | I17: 105 | J17: 0 | K17: =I17*J17 -> 0 | L17: =SUM(K15:K17) -> 0
F19: Volet 2 (2024)
E20: 40 | F20: Chef ouvrier sylvicole | H20: hrs | I20: 350 | J20: =J15 -> 0 | K20: =I20*J20 -> 0
E21: 50 | F21: Ouvrier sylvicole | H21: hrs | I21: 700 | J21: =J16 -> 0 | K21: =I21*J21 -> 0
E22: 60 | F22: Système de pulvérisation (traitement de souche, 3 systèmes) | H22: jours | I22: 105 | J22: =J17 -> 0 | K22: =I22*J22 -> 0 | L22: =SUM(K20:K22) -> 0
F28: Total du projet | K28: =SUM(K14:K22) -> 0
F30: Total Heures | H30: 2023 | I30: =SUM(I15:I16) -> 1050
H31: 2024 | I31: =SUM(I20:I21) -> 1050

Sheet Poste 100
B2: CONFIDENTIEL LORSQUE REMPLI
F3: Informations Générales du Projet:
P4: Données à Masquer
F5: Nom | G5: Multi-Circuit_161KV/Forfaitaire/1an | I5: Contrat Forfaitaire: | J5: X | P5: 0.00283
F6: Année | G6: 2023 | I6: Contrat Horaire: | P6: 0.00566
F7: Pôle | G7: Saguenay | I7: Attribution Globale: | J7: X | P7: 0.01131
F8: Couloir / Portées | G8: Multi-Circuit [1635, 1640, 1642, 1644, 1646] | I8: Attribution Partielle: | P8: 0.01414
I9: PGES | J9: Non | P9: 0.01697
B12: Volet 1
B13: Montant Forfaitaire
C15: Ligne 10 | E15: M112 - M127 | G15: Caractéristique contrat | H15: Superficie en Ha | I15: Productivité (Ha/jour/homme) | J15: Nombre de jours / homme
F16: Densité de la végétation | G16: D1 | H16: 4.699 | I16: 0 | J16: =IF(ISERROR(H16/ROUND(I16,2)),0,H16/ROUND(I16,2)) -> 0
G17: D2 | H17: 16.272 | I17: 0 | J17: =IF(ISERROR(H17/ROUND(I17,2)),0,H17/ROUND(I17,2)) -> 0
G18: D3 | H18: 20.38 | I18: 0 | J18: =IF(ISERROR(H18/ROUND(I18,2)),0,H18/ROUND(I18,2)) -> 0
G19: D4 | H19: 34.793 | I19: 0 | J19: =IF(ISERROR(H19/ROUND(I19,2)),0,H19/ROUND(I19,2)) -> 0
G20: D5 | H20: 115.48 | I20: 0 | J20: =IF(ISERROR(H20/ROUND(I20,2)),0,H20/ROUND(I20,2)) -> 0
F21: Type de végétation | G21: Ajustement, peuplement ayant une densité à dominance résineuse* | H21: 6.979 | I21: 0 | J21: =IF(ISERROR((ROUND(I21,2)*H21)*-1),0,(ROUND(I21,2)*H21)*-1) -> 0
G22: Ajustement, peuplement ayant une densité à dominance feuillue* | H22: 172.993 | I22: 0 | J22: =IF(ISERROR((ROUND(I22,2)*H22)),0,(ROUND(I22,2)*H22)) -> 0
F23: Hauteur végétation | G23: Ajustement, peuplement ayant une hauteur principale > 4m* | H23: 4.316 | I23: 0 | J23: =+ROUND(I23,2)*H23 -> 0
F24: Autres | G24: Dégagement supports et haubans | H24: =(F64*P5)+(F65*P6)+(F66*P7)+(F67*P8)+(F68*P9) -> 2.77119 | I24: 0 | J24: =IF(ISERROR(H24/ROUND(I24,2)),0,H24/ROUND(I24,2)) -> 0
G25: Superficie totale M112-127 | I25: Moy. de productivité | J25: Total de jours / homme | L25: =IF(ISERROR(SUM(J15:J24)),0,SUM(J15:J24)) -> 0
G26: =SUM(H16:H20) -> 191.624 | I26: =IF(ISERROR(G26/L25),0,G26/L25) -> 0
C28: Ligne 30 | E28: M116 | G28: Mode / Complément | H28: Superficie en Ha | I28: Productivité (Ha/jour/homme) | J28: Nombre de jours / homme
G29: M116 | H29: 0.171 | I29: 0 | J29: =IF(ISERROR(H29/ROUND(I29,2)),0,H29/ROUND(I29,2)) -> 0
G30: Complément I ou F | H30: 0.171 | I30: 0 | J30: =IF(ISERROR(H30/ROUND(I30,2)),0,H30/ROUND(I30,2)) -> 0
G31: Superficie totale M116 | I31: Moy. de productivité | J31: Total de jours / homme | L31: =SUM(J29:J30) -> 0
G32: =H29 -> 0.171 | I32: =IF(ISERROR(G32/L31),0,G32/L31) -> 0
C34: Ligne XX | E34: M121 | G34: Mode / Complément | H34: Superficie en Ha | I34: Productivité (Ha/jour/homme) | J34: Nombre de jours / homme
G35: M121 | H35: 0 | I35: 0 | J35: =IF(ISERROR(H35/ROUND(I35,3)),0,H35/ROUND(I35,3)) -> 0
G36: Complément J (tronçonnage) | H36: 0 | I36: 0 | J36: =IF(ISERROR(H36/ROUND(I36,3)),0,H36/ROUND(I36,3)) -> 0
G37: Superficie totale M121 | I37: Moy. de productivité | J37: Total de jours / homme | L37: =SUM(J35:J36) -> 0
G38: =H35 -> 0 | I38: =IF(ISERROR(G38/L37),0,G38/L37) -> 0
C40: Ligne 20 | E40: M101 | G40: Mode / Complément | H40: Superficie en Ha | I40: Productivité (Ha/jour/homme) | J40: Nombre de jours / homme
G41: M101 | H41: 0.242 | I41: 0 | J41: =IF(ISERROR(H41/ROUND(I41,3)),0,H41/ROUND(I41,3)) -> 0
G42: Complément J (tronçonnage) | H42: 0 | I42: 0 | J42: =IF(ISERROR(H42/ROUND(I42,3)),0,H42/ROUND(I42,3)) -> 0
G43: Complément F (Mise en tas) | H43: 0.242 | I43: 0 | J43: =IF(ISERROR(H43/ROUND(I43,3)),0,H43/ROUND(I43,3)) -> 0
G44: Superficie totale M101 | I44: Moy. de productivité | J44: Total de jours / homme | L44: =SUM(J41:J43) -> 0
G45: =H41 -> 0.242 | I45: =IF(ISERROR(G45/L44),0,G45/L44) -> 0
C47: Ligne XX | E47: C202 | G47: Caractérisation contrat | H47: Superficie en Ha | I47: Productivité (Ha/jour/homme) | J47: Nombre de jours / homme
F48: Densité de la végétation | G48: D1 | H48: 0 | I48: 0 | J48: =IF(ISERROR(H48/ROUND(I48,2)),0,H48/ROUND(I48,2)) -> 0
...

Sheet Poste 110
F2: Informations Générales du Projet:
F4: Nom | G4: Sécurisation/Horaire/2ans | I4: Contrat Forfaitaire:
F5: Année | G5: 2023-2024 | I5: Contrat Horaire: | J5: X
F6: Pôle | G6: Montmorency ET Matapédia | I6: Attribution Globale: | J6: X
F7: Couloir / Portées | G7: Territoires Montmorency et Matapédia (excluant secteur Gaspésie) | I7: Attribution Partielle:
I8: PGES | J8: Non
F13: Désignation | H13: Unité | I13: Quantité | J13: Prix | K13: Total
E14: MONTMORENCY
F15: Volet 1 (2023)
E16: 10 | F16: Chef d'équipe arboriculteur-élagueur | H16: hrs | I16: 200 | J16: 0 | K16: =I16*J16 -> 0
E17: 20 | F17: Arboriculteur-élagueur | H17: hrs | I17: 200 | J17: 0 | K17: =I17*J17 -> 0
E18: 30 | F18: Ouvrier sylvicole | H18: hrs | I18: 200 | J18: 0 | K18: =I18*J18 -> 0
E19: 40 | F19: Camion arboriculture | H19: jour | I19: 20 | J19: 0 | K19: =I19*J19 -> 0
E20: 50 | F20: Camonnette 4X4 | H20: jour | I20: 20 | J20: 0 | K20: =I20*J20 -> 0
E21: 60 | F21: Véhicule tout-terrain (CTT) | H21: jour | I21: 20 | J21: 0 | K21: =I21*J21 -> 0
E22: 70 | F22: Déchiqueteur moyen | H22: jour | I22: 20 | J22: 0 | K22: =I22*J22 -> 0
E23: 80 | F23: Essoucheuse | H23: jour | I23: 4 | J23: 0 | K23: =I23*J23 -> 0 | L23: =SUM(K16:K23) -> 0
F24: Volet 2 (2024)
E25: 90 | F25: Chef d'équipe arboriculteur-élagueur | H25: hrs | I25: 120 | J25: =J16 -> 0 | K25: =I25*J25 -> 0
E26: 100 | F26: Arboriculteur-élagueur | H26: hrs | I26: 120 | J26: =J17 -> 0 | K26: =I26*J26 -> 0
E27: 110 | F27: Ouvrier sylvicole | H27: hrs | I27: 120 | J27: =J18 -> 0 | K27: =I27*J27 -> 0
E28: 120 | F28: Camion arboriculture | H28: jour | I28: 12 | J28: =J19 -> 0 | K28: =I28*J28 -> 0
E29: 130 | F29: Camonnette 4X4 | H29: jour | I29: 12 | J29: =J20 -> 0 | K29: =I29*J29 -> 0
E30: 140 | F30: Véhicule tout-terrain (CTT) | H30: jour | I30: 12 | J30: =J21 -> 0 | K30: =I30*J30 -> 0
E31: 150 | F31: Déchiqueteur moyen | H31: jour | I31: 12 | J31: =J22 -> 0 | K31: =I31*J31 -> 0
E32: 160 | F32: Essoucheuse | H32: jour | I32: 4 | J32: =J23 -> 0 | K32: =I32*J32 -> 0 | L32: =SUM(K25:K32) -> 0
E33: MATAPÉDIA
F34: Volet 3 (2023)
E35: 170 | F35: Chef d'équipe arboriculteur-élagueur | H35: hrs | I35: 320 | J35: 0 | K35: =I35*J35 -> 0
E36: 180 | F36: Arboriculteur-élagueur | H36: hrs | I36: 320 | J36: 0 | K36: =I36*J36 -> 0
E37: 190 | F37: Ouvrier sylvicole | H37: hrs | I37: 320 | J37: 0 | K37: =I37*J37 -> 0
E38: 200 | F38: Camion arboriculture | H38: jour | I38: 32 | J38: 0 | K38: =I38*J38 -> 0
E39: 210 | F39: Camonnette 4X4 | H39: jour | I39: 32 | J39: 0 | K39: =I39*J39 -> 0
E40: 220 | F40: Véhicule tout-terrain (CTT) | H40: jour | I40: 4 | J40: 0 | K40: =I40*J40 -> 0
E41: 230 | F41: Déchiqueteur moyen | H41: jour | I41: 32 | J41: 0 | K41: =I41*J41 -> 0
E42: 240 | F42: Essoucheuse | H42: jour | I42: 16 | J42: 0 | K42: =I42*J42 -> 0 | L42: =SUM(K35:K42) -> 0
F43: Volet 4 (2024)
E44: 250 | F44: Chef d'équipe arboriculteur-élagueur | H44: hrs | I44: 440 | J44: =J35 -> 0 | K44: =I44*J44 -> 0
E45: 260 | F45: Arboriculteur-élagueur | H45: hrs | I45: 440 | J45: =J36 -> 0 | K45: =I45*J45 -> 0
E46: 270 | F46: Ouvrier sylvicole | H46: hrs | I46: 440 | J46: =J37 -> 0 | K46: =I46*J46 -> 0
...

Sheet Poste 120
B2: CONFIDENTIEL LORSQUE REMPLI
F3: Informations Générales du Projet:
P4: Données à Masquer
F5: Nom | G5: Multi-circuit_Québec_Lévis /FOR/1 an Option 1 SANS phyto | I5: Contrat Forfaitaire: | J5: X | P5: 0.00283
F6: Année | G6: 2023 | I6: Contrat Horaire: | P6: 0.00566
F7: Pôle | G7: Montmorency | I7: Attribution Globale: | J7: X | P7: 0.01131
F8: Couloir / Portées | G8: Multi-circuit [7010, 3104, 3093, 3006, 2337, 2330, 785, 784, 783, 34710, 34712] | I8: Attribution Partielle: | P8: 0.01414
I9: PGES | J9: Non* | K9: *Modification liée à l'Addenda No. 2 | P9: 0.01697
B12: Volet 1
B13: Montant Forfaitaire
C15: Ligne 10 | E15: M112 - M127 | G15: Caractéristique contrat | H15: Superficie en Ha | I15: Productivité (Ha/jour/homme) | J15: Nombre de jours / homme
F16: Densité de la végétation | G16: D1 | H16: 0 | I16: 0 | J16: =IF(ISERROR(H16/ROUND(I16,2)),0,H16/ROUND(I16,2)) -> 0
G17: D2 | H17: 128.159 | I17: 0 | J17: =IF(ISERROR(H17/ROUND(I17,2)),0,H17/ROUND(I17,2)) -> 0
G18: D3 | H18: 44.833 | I18: 0 | J18: =IF(ISERROR(H18/ROUND(I18,2)),0,H18/ROUND(I18,2)) -> 0
G19: D4 | H19: 34.098 | I19: 0 | J19: =IF(ISERROR(H19/ROUND(I19,2)),0,H19/ROUND(I19,2)) -> 0
G20: D5 | H20: 39.648 | I20: 0 | J20: =IF(ISERROR(H20/ROUND(I20,2)),0,H20/ROUND(I20,2)) -> 0
F21: Type de végétation | G21: Ajustement, peuplement ayant une densité à dominance résineuse* | H21: 1.426 | I21: 0 | J21: =IF(ISERROR((ROUND(I21,2)*H21)*-1),0,(ROUND(I21,2)*H21)*-1) -> 0
G22: Ajustement, peuplement ayant une densité à dominance feuillue* | H22: 240.503 | I22: 0 | J22: =IF(ISERROR((ROUND(I22,2)*H22)),0,(ROUND(I22,2)*H22)) -> 0
F23: Hauteur végétation | G23: Ajustement, peuplement ayant une hauteur principale > 4m* | H23: 0.329 | I23: 0 | J23: =+ROUND(I23,2)*H23 -> 0
F24: Autres | G24: Dégagement supports et haubans | H24: =(F64*P5)+(F65*P6)+(F66*P7)+(F67*P8)+(F68*P9) -> 4.17433 | I24: 0 | J24: =IF(ISERROR(H24/ROUND(I24,2)),0,H24/ROUND(I24,2)) -> 0
G25: Superficie totale M112-127 | I25: Moy. de productivité | J25: Total de jours / homme | L25: =IF(ISERROR(SUM(J15:J24)),0,SUM(J15:J24)) -> 0
G26: =SUM(H16:H20) -> 246.738 | I26: =IF(ISERROR(G26/L25),0,G26/L25) -> 0
C28: Ligne XX | E28: M116 | G28: Mode / Complément | H28: Superficie en Ha | I28: Productivité (Ha/jour/homme) | J28: Nombre de jours / homme
G29: M116 | H29: 0 | I29: 0 | J29: =IF(ISERROR(H29/ROUND(I29,2)),0,H29/ROUND(I29,2)) -> 0
G30: Complément I ou F | H30: 0 | I30: 0 | J30: =IF(ISERROR(H30/ROUND(I30,2)),0,H30/ROUND(I30,2)) -> 0
G31: Superficie totale M116 | I31: Moy. de productivité | J31: Total de jours / homme | L31: =SUM(J29:J30) -> 0
G32: =H29 -> 0 | I32: =IF(ISERROR(G32/L31),0,G32/L31) -> 0
C34: Ligne XX | E34: M121 | G34: Mode / Complément | H34: Superficie en Ha | I34: Productivité (Ha/jour/homme) | J34: Nombre de jours / homme
G35: M121 | H35: 0 | I35: 0 | J35: =IF(ISERROR(H35/ROUND(I35,3)),0,H35/ROUND(I35,3)) -> 0
G36: Complément J (tronçonnage) | H36: 0 | I36: 0 | J36: =IF(ISERROR(H36/ROUND(I36,3)),0,H36/ROUND(I36,3)) -> 0
G37: Superficie totale M121 | I37: Moy. de productivité | J37: Total de jours / homme | L37: =SUM(J35:J36) -> 0
G38: =H35 -> 0 | I38: =IF(ISERROR(G38/L37),0,G38/L37) -> 0
C40: Ligne 20 | E40: M101 | G40: Mode / Complément | H40: Superficie en Ha | I40: Productivité (Ha/jour/homme) | J40: Nombre de jours / homme
G41: M101 | H41: 1.045 | I41: 0 | J41: =IF(ISERROR(H41/ROUND(I41,3)),0,H41/ROUND(I41,3)) -> 0
G42: Complément J (tronçonnage) | H42: 0 | I42: 0 | J42: =IF(ISERROR(H42/ROUND(I42,3)),0,H42/ROUND(I42,3)) -> 0
G43: Complément F (Mise en tas) | H43: 1.045 | I43: 0 | J43: =IF(ISERROR(H43/ROUND(I43,3)),0,H43/ROUND(I43,3)) -> 0
G44: Superficie totale M101 | I44: Moy. de productivité | J44: Total de jours / homme | L44: =SUM(J41:J43) -> 0
G45: =H41 -> 1.045 | I45: =IF(ISERROR(G45/L44),0,G45/L44) -> 0
C47: Ligne XX | E47: C202 | G47: Caractérisation contrat | H47: Superficie en Ha | I47: Productivité (Ha/jour/homme) | J47: Nombre de jours / homme
F48: Densité de la végétation | G48: D1 | H48: 0 | I48: 0 | J48: =IF(ISERROR(H48/ROUND(I48,2)),0,H48/ROUND(I48,2)) -> 0
...

Sheet Poste 130
B2: CONFIDENTIEL LORSQUE REMPLI
F3: Informations Générales du Projet:
P4: Données à Masquer
F5: Nom | G5: Multi-circuit_Québec_Lévis /FOR/1 an Option 2 AVEC phyto | I5: Contrat Forfaitaire: | J5: X | P5: 0.00283
F6: Année | G6: 2023 | I6: Contrat Horaire: | P6: 0.00566
F7: Pôle | G7: Montmorency | I7: Attribution Globale: | J7: X | P7: 0.01131
F8: Couloir / Portées | G8: Multi-circuit [7010, 3104, 3093, 3006, 2337, 2330, 785, 784, 783, 34710, 34712] | I8: Attribution Partielle: | P8: 0.01414
I9: PGES | J9: Non* | K9: *Modification liée à l'Addenda No. 2 | P9: 0.01697
B12: Volet 1
B13: Montant Forfaitaire
C15: Ligne 10 | E15: M112 - M127 | G15: Caractéristique contrat | H15: Superficie en Ha | I15: Productivité (Ha/jour/homme) | J15: Nombre de jours / homme
F16: Densité de la végétation | G16: D1 | H16: 0 | I16: 0 | J16: =IF(ISERROR(H16/ROUND(I16,2)),0,H16/ROUND(I16,2)) -> 0
G17: D2 | H17: 99.454 | I17: 0 | J17: =IF(ISERROR(H17/ROUND(I17,2)),0,H17/ROUND(I17,2)) -> 0
G18: D3 | H18: 31.118 | I18: 0 | J18: =IF(ISERROR(H18/ROUND(I18,2)),0,H18/ROUND(I18,2)) -> 0
G19: D4 | H19: 26.426 | I19: 0 | J19: =IF(ISERROR(H19/ROUND(I19,2)),0,H19/ROUND(I19,2)) -> 0
G20: D5 | H20: 30.687 | I20: 0 | J20: =IF(ISERROR(H20/ROUND(I20,2)),0,H20/ROUND(I20,2)) -> 0
F21: Type de végétation | G21: Ajustement, peuplement ayant une densité à dominance résineuse* | H21: 1.426 | I21: 0 | J21: =IF(ISERROR((ROUND(I21,2)*H21)*-1),0,(ROUND(I21,2)*H21)*-1) -> 0
G22: Ajustement, peuplement ayant une densité à dominance feuillue* | H22: 181.45 | I22: 0 | J22: =IF(ISERROR((ROUND(I22,2)*H22)),0,(ROUND(I22,2)*H22)) -> 0
F23: Hauteur végétation | G23: Ajustement, peuplement ayant une hauteur principale > 4m* | H23: 0.118 | I23: 0 | J23: =+ROUND(I23,2)*H23 -> 0
F24: Autres | G24: Dégagement supports et haubans | H24: =(F64*P5)+(F65*P6)+(F66*P7)+(F67*P8)+(F68*P9) -> 4.17433 | I24: 0 | J24: =IF(ISERROR(H24/ROUND(I24,2)),0,H24/ROUND(I24,2)) -> 0
G25: Superficie totale M112-127 | I25: Moy. de productivité | J25: Total de jours / homme | L25: =IF(ISERROR(SUM(J15:J24)),0,SUM(J15:J24)) -> 0
G26: =SUM(H16:H20) -> 187.685 | I26: =IF(ISERROR(G26/L25),0,G26/L25) -> 0
C28: Ligne XX | E28: M116 | G28: Mode / Complément | H28: Superficie en Ha | I28: Productivité (Ha/jour/homme) | J28: Nombre de jours / homme
G29: M116 | H29: 0 | I29: 0 | J29: =IF(ISERROR(H29/ROUND(I29,2)),0,H29/ROUND(I29,2)) -> 0
G30: Complément I ou F | H30: 0 | I30: 0 | J30: =IF(ISERROR(H30/ROUND(I30,2)),0,H30/ROUND(I30,2)) -> 0
G31: Superficie totale M116 | I31: Moy. de productivité | J31: Total de jours / homme | L31: =SUM(J29:J30) -> 0
G32: =H29 -> 0 | I32: =IF(ISERROR(G32/L31),0,G32/L31) -> 0
C34: Ligne XX | E34: M121 | G34: Mode / Complément | H34: Superficie en Ha | I34: Productivité (Ha/jour/homme) | J34: Nombre de jours / homme
G35: M121 | H35: 0 | I35: 0 | J35: =IF(ISERROR(H35/ROUND(I35,3)),0,H35/ROUND(I35,3)) -> 0
G36: Complément J (tronçonnage) | H36: 0 | I36: 0 | J36: =IF(ISERROR(H36/ROUND(I36,3)),0,H36/ROUND(I36,3)) -> 0
G37: Superficie totale M121 | I37: Moy. de productivité | J37: Total de jours / homme | L37: =SUM(J35:J36) -> 0
G38: =H35 -> 0 | I38: =IF(ISERROR(G38/L37),0,G38/L37) -> 0
C40: Ligne 20 | E40: M101 | G40: Mode / Complément | H40: Superficie en Ha | I40: Productivité (Ha/jour/homme) | J40: Nombre de jours / homme
G41: M101 | H41: 1.045 | I41: 0 | J41: =IF(ISERROR(H41/ROUND(I41,3)),0,H41/ROUND(I41,3)) -> 0
G42: Complément J (tronçonnage) | H42: 0 | I42: 0 | J42: =IF(ISERROR(H42/ROUND(I42,3)),0,H42/ROUND(I42,3)) -> 0
G43: Complément F (Mise en tas) | H43: 1.045 | I43: 0 | J43: =IF(ISERROR(H43/ROUND(I43,3)),0,H43/ROUND(I43,3)) -> 0
G44: Superficie totale M101 | I44: Moy. de productivité | J44: Total de jours / homme | L44: =SUM(J41:J43) -> 0
G45: =H41 -> 1.045 | I45: =IF(ISERROR(G45/L44),0,G45/L44) -> 0
C47: Ligne 30 | E47: C202 | G47: Caractérisation contrat | H47: Superficie en Ha | I47: Productivité (Ha/jour/homme) | J47: Nombre de jours / homme
F48: Densité de la végétation | G48: D1 | H48: 0 | I48: 0 | J48: =IF(ISERROR(H48/ROUND(I48,2)),0,H48/ROUND(I48,2)) -> 0
...

Sheet Poste 140
B2: CONFIDENTIEL LORSQUE REMPLI
F3: Informations Générales du Projet:
P4: Données à Masquer
F5: Nom | G5: C3001_639 à 679 /Forfaitaire/1 an | I5: Contrat Forfaitaire: | J5: X | P5: 0.00283
F6: Année | G6: 2023 | I6: Contrat Horaire: | P6: 0.00566
F7: Pôle | G7: Montmorency | I7: Attribution Globale: | J7: X | P7: 0.01131
F8: Couloir / Portées | G8: C3001 / P639 à 679 | I8: Attribution Partielle: | P8: 0.01414
I9: PGES | J9: Oui | P9: 0.01697
B12: Volet 1
B13: Montant Forfaitaire
C15: Ligne 10 | E15: M112 - M127 | G15: Caractéristique contrat | H15: Superficie en Ha | I15: Productivité (Ha/jour/homme) | J15: Nombre de jours / homme
F16: Densité de la végétation | G16: D1 | H16: 0 | I16: 0 | J16: =IF(ISERROR(H16/ROUND(I16,2)),0,H16/ROUND(I16,2)) -> 0
G17: D2 | H17: 67.474 | I17: 0 | J17: =IF(ISERROR(H17/ROUND(I17,2)),0,H17/ROUND(I17,2)) -> 0
G18: D3 | H18: 80.132 | I18: 0 | J18: =IF(ISERROR(H18/ROUND(I18,2)),0,H18/ROUND(I18,2)) -> 0
G19: D4 | H19: 57.731 | I19: 0 | J19: =IF(ISERROR(H19/ROUND(I19,2)),0,H19/ROUND(I19,2)) -> 0
G20: D5 | H20: 29.231 | I20: 0 | J20: =IF(ISERROR(H20/ROUND(I20,2)),0,H20/ROUND(I20,2)) -> 0
F21: Type de végétation | G21: Ajustement, peuplement ayant une densité à dominance résineuse* | H21: 54.154 | I21: 0 | J21: =IF(ISERROR((ROUND(I21,2)*H21)*-1),0,(ROUND(I21,2)*H21)*-1) -> 0
G22: Ajustement, peuplement ayant une densité à dominance feuillue* | H22: 90.874 | I22: 0 | J22: =IF(ISERROR((ROUND(I22,2)*H22)),0,(ROUND(I22,2)*H22)) -> 0
F23: Hauteur végétation | G23: Ajustement, peuplement ayant une hauteur principale > 4m* | H23: 0 | I23: 0 | J23: =+ROUND(I23,2)*H23 -> 0
F24: Autres | G24: Dégagement supports et haubans | H24: =(F64*P5)+(F65*P6)+(F66*P7)+(F67*P8)+(F68*P9) -> 1.25541 | I24: 0 | J24: =IF(ISERROR(H24/ROUND(I24,2)),0,H24/ROUND(I24,2)) -> 0
G25: Superficie totale M112-127 | I25: Moy. de productivité | J25: Total de jours / homme | L25: =IF(ISERROR(SUM(J15:J24)),0,SUM(J15:J24)) -> 0
G26: =SUM(H16:H20) -> 234.568 | I26: =IF(ISERROR(G26/L25),0,G26/L25) -> 0
C28: Ligne XX | E28: M116 | G28: Mode / Complément | H28: Superficie en Ha | I28: Productivité (Ha/jour/homme) | J28: Nombre de jours / homme
G29: M116 | H29: 0 | I29: 0 | J29: =IF(ISERROR(H29/ROUND(I29,2)),0,H29/ROUND(I29,2)) -> 0
G30: Complément I ou F | H30: 0 | I30: 0 | J30: =IF(ISERROR(H30/ROUND(I30,2)),0,H30/ROUND(I30,2)) -> 0
G31: Superficie totale M116 | I31: Moy. de productivité | J31: Total de jours / homme | L31: =SUM(J29:J30) -> 0
G32: =H29 -> 0 | I32: =IF(ISERROR(G32/L31),0,G32/L31) -> 0
C34: Ligne XX | E34: M121 | G34: Mode / Complément | H34: Superficie en Ha | I34: Productivité (Ha/jour/homme) | J34: Nombre de jours / homme
G35: M121 | H35: 0 | I35: 0 | J35: =IF(ISERROR(H35/ROUND(I35,3)),0,H35/ROUND(I35,3)) -> 0
G36: Complément J (tronçonnage) | H36: 0 | I36: 0 | J36: =IF(ISERROR(H36/ROUND(I36,3)),0,H36/ROUND(I36,3)) -> 0
G37: Superficie totale M121 | I37: Moy. de productivité | J37: Total de jours / homme | L37: =SUM(J35:J36) -> 0
G38: =H35 -> 0 | I38: =IF(ISERROR(G38/L37),0,G38/L37) -> 0
C40: Ligne 20 | E40: M101 | G40: Mode / Complément | H40: Superficie en Ha | I40: Productivité (Ha/jour/homme) | J40: Nombre de jours / homme
G41: M101 | H41: 1.011 | I41: 0 | J41: =IF(ISERROR(H41/ROUND(I41,3)),0,H41/ROUND(I41,3)) -> 0
G42: Complément J (tronçonnage) | H42: 0 | I42: 0 | J42: =IF(ISERROR(H42/ROUND(I42,3)),0,H42/ROUND(I42,3)) -> 0
G43: Complément F (Mise en tas) | H43: 1.011 | I43: 0 | J43: =IF(ISERROR(H43/ROUND(I43,3)),0,H43/ROUND(I43,3)) -> 0
G44: Superficie totale M101 | I44: Moy. de productivité | J44: Total de jours / homme | L44: =SUM(J41:J43) -> 0
G45: =H41 -> 1.011 | I45: =IF(ISERROR(G45/L44),0,G45/L44) -> 0
C47: Ligne XX | E47: C202 | G47: Caractérisation contrat | H47: Superficie en Ha | I47: Productivité (Ha/jour/homme) | J47: Nombre de jours / homme
F48: Densité de la végétation | G48: D1 | H48: 0 | I48: 0 | J48: =IF(ISERROR(H48/ROUND(I48,2)),0,H48/ROUND(I48,2)) -> 0
...

Sheet Poste 150
B2: CONFIDENTIEL LORSQUE REMPLI
F3: Informations Générales du Projet:
P4: Données à Masquer
F5: Nom | G5: C3001_596 à 638_C3011/Forfaitaire/1 an | I5: Contrat Forfaitaire: | J5: X | P5: 0.00283
F6: Année | G6: 2023 | I6: Contrat Horaire: | P6: 0.00566
F7: Pôle | G7: Montmorency | I7: Attribution Globale: | J7: X | P7: 0.01131
F8: Couloir / Portées | G8: C3001 / P596 à 638 C3011 / P481 à 483 | I8: Attribution Partielle: | P8: 0.01414
I9: PGES | J9: Oui | P9: 0.01697
B12: Volet 1
B13: Montant Forfaitaire
C15: Ligne 10 | E15: M112 - M127 | G15: Caractéristique contrat | H15: Superficie en Ha | I15: Productivité (Ha/jour/homme) | J15: Nombre de jours / homme
F16: Densité de la végétation | G16: D1 | H16: 0 | I16: 0 | J16: =IF(ISERROR(H16/ROUND(I16,2)),0,H16/ROUND(I16,2)) -> 0
G17: D2 | H17: 61.414 | I17: 0 | J17: =IF(ISERROR(H17/ROUND(I17,2)),0,H17/ROUND(I17,2)) -> 0
G18: D3 | H18: 95.05 | I18: 0 | J18: =IF(ISERROR(H18/ROUND(I18,2)),0,H18/ROUND(I18,2)) -> 0
G19: D4 | H19: 73.858 | I19: 0 | J19: =IF(ISERROR(H19/ROUND(I19,2)),0,H19/ROUND(I19,2)) -> 0
G20: D5 | H20: 30.215 | I20: 0 | J20: =IF(ISERROR(H20/ROUND(I20,2)),0,H20/ROUND(I20,2)) -> 0
F21: Type de végétation | G21: Ajustement, peuplement ayant une densité à dominance résineuse* | H21: 118.693 | I21: 0 | J21: =IF(ISERROR((ROUND(I21,2)*H21)*-1),0,(ROUND(I21,2)*H21)*-1) -> 0
G22: Ajustement, peuplement ayant une densité à dominance feuillue* | H22: 76.778 | I22: 0 | J22: =IF(ISERROR((ROUND(I22,2)*H22)),0,(ROUND(I22,2)*H22)) -> 0
F23: Hauteur végétation | G23: Ajustement, peuplement ayant une hauteur principale > 4m* | H23: 0 | I23: 0 | J23: =+ROUND(I23,2)*H23 -> 0
F24: Autres | G24: Dégagement supports et haubans | H24: =(F64*P5)+(F65*P6)+(F66*P7)+(F67*P8)+(F68*P9) -> 1.34589 | I24: 0 | J24: =IF(ISERROR(H24/ROUND(I24,2)),0,H24/ROUND(I24,2)) -> 0
