Workbook
Name Lang: 'Réseau collecteur'!$B$9

Sheet Poste électrique
A1: Estimation du poste de départ - Volet Poste électrique
A3: Numéro d'appel d'offres : | B3: Veuillez Préciser | G3: Légende
A4: Nom du soumissionnaire : | G4: Entrées manuelles
A5: Nom du projet : | G5: Valeurs calculées
A6: Puissance installée (en MW) : | G6: Liste déroulante
A7: Tension de raccordement du poste : | B7: Veuillez préciser
A9: Veuillez remplir les trois sections de la grille ci-dessous, reflétant les principales composantes de votre poste électrique en vous assurant que les items inscrits sont admissibles au remboursement par Hydro-Québec en vertu du Guide concernant la demande du producteur pour le remboursement de son poste de départ.
A11: Section 1 - Appareillages - Approvisionnement et installation : -> Pour les postes électriques ne comportant qu'un seul niveau de tension de 44 kV et plus (ci-après, "Haute tension (HT)"), remplir la section 1.1 -> Pour les postes électriques ne comportant qu'un seul niveau de tension de moins de 44 kV (ci-après, "Moyenne tension (MT)"), remplir la section 1.2 -> Pour les postes électriques comportant deux niveaux de tension, remplir les sections 1.1 et 1.2
A13: 1.1 - Items - Appareillage - Approvisionnement et installation1 Partie Haute tension (HT) | B13: Caractéristiques techniques | C13: Quantité | D13: Coût unitaire | E13: Coût total estimé
A14: Approvisionnement - Sectionneurs | E14: =C14*D14 -> 0
A15: Installation - Sectionneurs | E15: =C15*D15 -> 0
A16: Approvisionnement - Disjoncteurs | E16: =C16*D16 -> 0
A17: Installation - Disjoncteurs | E17: =C17*D17 -> 0
A18: Approvisionnement - Jeux de barre | E18: =C18*D18 -> 0
A19: Installation - Jeux de barre | E19: =C19*D19 -> 0
A20: Approvisionnement - Transformateurs élévateur de tension | E20: =C20*D20 -> 0
A21: Installation - Transformateurs élévateur de tension | E21: =C21*D21 -> 0
A22: Approvisionnement - Transformateurs de tension et de courant | E22: =C22*D22 -> 0
A23: Installation - Transformateurs de tension et de courant | E23: =C23*D23 -> 0
A24: Approvisionnement - Parafoudres | E24: =C24*D24 -> 0
A25: Installation Parafoudre | E25: =C25*D25 -> 0
... A33: Installation - Autres appareillages | E33: =C33*D33 -> 0
A34: 1.2 - Items - Appareillage - Approvisionnement et installation1 Partie Moyenne tension (MT) | B34: Caractéristiques techniques | C34: Quantité | D34: Coût unitaire | E34: Coût total estimé
A35: Approvisionnement - Sectionneurs | E35: =C35*D35 -> 0
A36: Installation - Sectionneurs | E36: =C36*D36 -> 0
A37: Approvisionnement - Disjoncteurs | E37: =C37*D37 -> 0
A38: Installation - Disjoncteurs | E38: =C38*D38 -> 0
A39: Approvisionnement - Jeux de barre | E39: =C39*D39 -> 0
A40: Installation - Jeux de barre | E40: =C40*D40 -> 0
A41: Approvisionnement - Transformateurs élévateur de tension | E41: =C41*D41 -> 0
A42: Installation - Transformateurs élévateur de tension | E42: =C42*D42 -> 0
A43: Approvisionnement - Transformateurs de tension et de courant | E43: =C43*D43 -> 0
A44: Installation - Transformateurs de tension et de courant | E44: =C44*D44 -> 0
A45: Approvisionnement - Parafoudres | E45: =C45*D45 -> 0
A46: Installation Parafoudre | E46: =C46*D46 -> 0
... A54: Installation - Autres appareillages | E54: =C54*D54 -> 0
A55: Sous total - Approvisionnement- Appareillage | E55: =SUM(E14+E16+E18+E20+E22+E24+E26+E28+E30+E32+E35+E37+E39+E41+E43+E45+E47+E49+E51+E53) -> 0
A56: Sous total - Installation Appareillage | E56: =SUM(E15+E17+E19+E21+E23+E25+E27+E29+E31+E33+E36+E38+E40+E42+E44+E46+E48+E50+E52+E54) -> 0
A57: Sous total - Appareillage -Approvisionnement et Installation | E57: =E55+E56 -> 0
A59: 2 - Items - Éléments civils Approvisionnement et installation | E59: Coût total estimé
...

Sheet Réseau collecteur
A1: Estimation du poste de départ - Volet Réseau collecteur (Parcs éoliens et centrales photovoltaïques)
A3: ='Poste électrique'!A3 -> Numéro d'appel d'offres : | B3: ='Poste électrique'!B3 -> Veuillez Préciser | G3: Légende
A4: Nom du soumissionnaire : | B4: ='Poste électrique'!B4 -> 0 | G4: Entrées manuelles
A5: Nom du projet : | B5: ='Poste électrique'!B5 -> 0 | G5: Valeurs calculées
A6: Puissance installée (en MW) : | B6: ='Poste électrique'!B6 -> 0 | G6: Liste déroulante
A7: Tension du réseau collecteur MT : | B7: Veuillez préciser
A9: Veuillez remplir les trois sections de la grille ci-dessous, reflétant les principales composantes du réseau collecteur de votre poste de départ en vous assurant que les items inscrits sont admissibles au remboursement par Hydro-Québec en vertu du Guide concernant la demande du producteur pour le remboursement de son poste de départ.
A11: 1.1- Items - Câblage - Portion souterraine du réseau collecteur Approvisionnement et installation | B11: Longueur du réseau souterrain en mètres | C11: Mètres linéaires de câbles (longueur du réseau x 3, sauf MALT) | D11: Coût unitaire/mètre linéaire | E11: Coût total estimé
A12: Approvisionnement Câbles 1 x 1C 1250 MCM | C12: =B12*3 -> 0 | E12: =C12*D12 -> 0
A13: Installation sousterraine (tranchée) | B13: =B12 -> 0 | E13: =B13*D13 -> 0
A14: Approvisionnement Câbles 1 x 1C 1250 MCM | C14: =B14*3 -> 0 | E14: =C14*D14 -> 0
A15: Installation sousterraine (tranchée) | B15: =B14 -> 0 | E15: =B15*D15 -> 0
A16: Approvisionnement Câbles 1 x 1C 500 MCM | C16: =B16*3 -> 0 | E16: =C16*D16 -> 0
A17: Installation sousterraine (tranchée) | B17: =B16 -> 0 | E17: =B17*D17 -> 0
A18: Approvisionnement Câbles - Autre (veuillez préciser le calibre en MCM ou en AWG) | C18: =B18*3 -> 0 | E18: =C18*D18 -> 0
A19: Installation sousterraine (tranchée) | B19: =B18 -> 0 | E19: =B19*D19 -> 0
A20: Approvisionnement Câbles de mise à la terre (MALT) | C20: =B20 -> 0 | E20: =C20*D20 -> 0
A21: Installation sousterraine (tranchée) | B21: =B20 -> 0 | E21: =B21*D21 -> 0
A22: 1.2.- Items - Câblage - Portion aérienne du réseau collecteur Approvisionnement et installation | B22: Longueur du réseau aérien en mètres | C22: Mètres linéaires de câbles (longueur du réseau x 3, sauf MALT) | D22: Coût unitaire/mètre linéaire | E22: Coût total estimé
A23: Approvisionnement Câbles 1 x 1C 477 MCM ACSR | C23: =B23*3 -> 0 | E23: =C23*D23 -> 0
A24: Installation aérienne (ligne) | B24: =B23 -> 0 | E24: =B24*D24 -> 0
A25: Approvisionnement Câbles 1 x 1C 2/0 AWG | C25: =B25*3 -> 0 | E25: =C25*D25 -> 0
A26: Installation aérienne (ligne) | B26: =B25 -> 0 | E26: =B26*D26 -> 0
A27: Approvisionnement Câbles - Autre (veuillez préciser le calibre en MCM ou en AWG) | C27: =B27*3 -> 0 | E27: =C27*D27 -> 0
A28: Installation aérienne (ligne) | B28: =B27 -> 0 | E28: =B28*D28 -> 0
A29: Approvisionnement Câbles - Autre (veuillez préciser le calibre en MCM ou en AWG) | C29: =B29*3 -> 0 | E29: =C29*D29 -> 0
A30: Installation aérienne (ligne) | B30: =B29 -> 0 | E30: =B30*D30 -> 0
A31: Approvisionnement Câbles de mise à la terre (MALT) | C31: =B31 -> 0 | E31: =C31*D31 -> 0
A32: Installation aérienne de la MALT (ligne) | B32: =B31 -> 0 | E32: =B32*D32 -> 0
A33: Sous total - Approvisionnement Câbles | C33: =C12+C14+C16+C18+C20+C23+C25+C27+C29+C31 -> 0 | D33: =E33/C33 -> #DIV/0! | E33: =E12+E14+E16+E18+E20+E23+E25+E27+E29+E31 -> 0
A34: Sous total - Installation Câbles | B34: =B13+B15+B17+B19+B21+B24+B26+B28+B30+B32 -> 0 | D34: =E34/B34 -> #DIV/0! | E34: =E13+E15+E17+E19+E21+E24+E26+E28+E30+E32 -> 0
A35: Sous total - Câblage - Approvisionnement et Installation | B35: =B33+B34 -> 0 | C35: =C12+C14+C16+C18+C20+C23+C25+C27+C29+C31 -> 0 | D35: =E35/C35 -> #DIV/0! | E35: =E33+E34 -> 0
A37: 2.- Items - Appareillage - Approvisionnement et installation2 | B37: Quantité | D37: Coût unitaire | E37: Coût total estimé
A38: Approvisionnement - Transfos. BT/MT (ex.: 600 volts/34,5 kV) | E38: =D38*B38 -> 0
A39: Installation - Transformateurs | E39: =D39*B39 -> 0
A40: Approvisionnement Sectionneur(s) d'isolation | E40: =D40*B40 -> 0
A41: Installation - Sectionneur(s) d'isolation | E41: =D41*B41 -> 0
A42: Approvisionnement - Parafoudres MT | E42: =D42*B42 -> 0
A43: Installation Parafoudre | E43: =D43*B43 -> 0
A44: Approvisionnement - Autres appareillages
...

Sheet Sommaire
A1: Estimation du poste de départ - Sommaire (poste électrique et réseau collecteur)
A3: ='Poste électrique'!A3 -> Numéro d'appel d'offres : | B3: ='Poste électrique'!B3 -> Veuillez Préciser
A4: Nom du soumissionnaire : | B4: ='Poste électrique'!B4 -> 0
A5: Nom du projet : | B5: ='Poste électrique'!B5 -> 0
A6: Puissance installée (en MW) : | B6: ='Poste électrique'!B6 -> 0
A7: ='Poste électrique'!A7 -> Tension de raccordement du poste : | B7: ='Poste électrique'!B7 -> Veuillez préciser
A8: ='Réseau collecteur'!A7 -> Tension du réseau collecteur MT : | B8: ='Réseau collecteur'!B7 -> Veuillez préciser
A10: Résumé des coûts estimés pour le poste électrique et le réseau collecteur du projet tel que soumissionné.
B12: Poste électrique | C12: Réseau collecteur
A13: Approvisionnement | B13: ='Poste électrique'!E55 -> 0 | C13: ='Réseau collecteur'!E33+'Réseau collecteur'!E46 -> 0
A14: Installation | B14: ='Poste électrique'!E56 -> 0 | C14: ='Réseau collecteur'!E47+'Réseau collecteur'!E34 -> 0
A15: Éléments civils | B15: ='Poste électrique'!E69 -> 0
A16: Ingénierie, gestion, frais d'intérêts et autres coûts directs | B16: ='Poste électrique'!E76 -> 0 | C16: ='Réseau collecteur'!E55 -> 0
A17: Coût total estimé pour le poste électrique et le réseau collecteur | B17: =SUM(B13:B16) -> 0 | C17: =C13+C14+C16 -> 0
